BEGIN:VCALENDAR
VERSION:2.0
PRODID:-//Haus Lebenskraft - ECPv6.15.20//NONSGML v1.0//EN
CALSCALE:GREGORIAN
METHOD:PUBLISH
X-ORIGINAL-URL:https://staging.hauslebenskraft.de
X-WR-CALDESC:Veranstaltungen für Haus Lebenskraft
REFRESH-INTERVAL;VALUE=DURATION:PT1H
X-Robots-Tag:noindex
X-PUBLISHED-TTL:PT1H
BEGIN:VTIMEZONE
TZID:Europe/Berlin
BEGIN:DAYLIGHT
TZOFFSETFROM:+0100
TZOFFSETTO:+0200
TZNAME:CEST
DTSTART:20240331T010000
END:DAYLIGHT
BEGIN:STANDARD
TZOFFSETFROM:+0200
TZOFFSETTO:+0100
TZNAME:CET
DTSTART:20241027T010000
END:STANDARD
BEGIN:DAYLIGHT
TZOFFSETFROM:+0100
TZOFFSETTO:+0200
TZNAME:CEST
DTSTART:20250330T010000
END:DAYLIGHT
BEGIN:STANDARD
TZOFFSETFROM:+0200
TZOFFSETTO:+0100
TZNAME:CET
DTSTART:20251026T010000
END:STANDARD
BEGIN:DAYLIGHT
TZOFFSETFROM:+0100
TZOFFSETTO:+0200
TZNAME:CEST
DTSTART:20260329T010000
END:DAYLIGHT
BEGIN:STANDARD
TZOFFSETFROM:+0200
TZOFFSETTO:+0100
TZNAME:CET
DTSTART:20261025T010000
END:STANDARD
END:VTIMEZONE
BEGIN:VEVENT
DTSTART;TZID=Europe/Berlin:20251027T190000
DTEND;TZID=Europe/Berlin:20251027T203000
DTSTAMP:20260425T220216
CREATED:20250903T114637Z
LAST-MODIFIED:20250903T190317Z
UID:10019585-1761591600-1761597000@staging.hauslebenskraft.de
SUMMARY:Aufstehen in der Weiblichkeit – Die Zeit ist jetzt für Frau und Mann
DESCRIPTION:Die weibliche Intuition ist die Schönheit und Macht der Liebe. Sie ist spontan\, nicht vorhersehbar und nur im Hier und Jetzt\, im gegenwärtigen Augenblick erfahrbar. \nBesonders Männer fühlen sich von meinem Buch angesprochen\, erfahren sie doch nur mittels des femininen Fühlens die Geborgenheit in sich selbst und können auf diese Weise alte Muster verabschieden. Auch Frauen haben seit langem männliche Pfade eingeschlagen und suchen ihre Anbindung an ihre weibliche Seite. So stehen Frauen und Männer vor den gleichen Aufgaben\, sie haben nur eine unterschiedliche Ausgangsposition. \nAuf meiner Lebensreise bin ich tief eingetaucht in die familiäre und unsere kollektive Geschichte\, um Freiheit und Glück zu erfahren. In meiner Lesung lasse ich auf überraschende Weise mit Märchen\, Gedichten\, kleiner Reise in die Stille und meinem Erzählen anhand anschaulicher Grafiken den Weg zu uns Selbst erfahrbar werden. Es ist die Ur-Weiblichkeit\, die die Erde und wir alle so lange und schmerzlich entbehrt haben. Mein Buch zeigt den Weg zurück. \nTeilnehmergebühren:\nauf Spendenbasis zur Deckung der Raumkosten \nIch bitte um Anmeldung unter Jetzt@AufstehenInDerWeiblichkeit.de \n  \nTelefon:\n0331/23616302\n0151 41278417\nLink zur Veranstaltung auf eigener Webseite:\nhttps://evamariazander.de/veranstaltungen \n 
URL:https://staging.hauslebenskraft.de/veranstaltung/aufstehen-in-der-weiblichkeit-die-zeit-ist-jetzt-fuer-frau-und-mann/
LOCATION:Haus Lebenskraft\, Gutenbergstr. 30\, Potsdam\, Brandenburg\, 14467\, Germany
CATEGORIES:Öffentlich, Raum der Erde
ORGANIZER;CN="Eva Maria Zander":MAILTO:ichbin@evamariazander.de
END:VEVENT
END:VCALENDAR