BEGIN:VCALENDAR
VERSION:2.0
PRODID:-//Haus Lebenskraft - ECPv6.15.20//NONSGML v1.0//EN
CALSCALE:GREGORIAN
METHOD:PUBLISH
X-WR-CALNAME:Haus Lebenskraft
X-ORIGINAL-URL:https://staging.hauslebenskraft.de
X-WR-CALDESC:Veranstaltungen für Haus Lebenskraft
REFRESH-INTERVAL;VALUE=DURATION:PT1H
X-Robots-Tag:noindex
X-PUBLISHED-TTL:PT1H
BEGIN:VTIMEZONE
TZID:Europe/Berlin
BEGIN:DAYLIGHT
TZOFFSETFROM:+0100
TZOFFSETTO:+0200
TZNAME:CEST
DTSTART:20240331T010000
END:DAYLIGHT
BEGIN:STANDARD
TZOFFSETFROM:+0200
TZOFFSETTO:+0100
TZNAME:CET
DTSTART:20241027T010000
END:STANDARD
BEGIN:DAYLIGHT
TZOFFSETFROM:+0100
TZOFFSETTO:+0200
TZNAME:CEST
DTSTART:20250330T010000
END:DAYLIGHT
BEGIN:STANDARD
TZOFFSETFROM:+0200
TZOFFSETTO:+0100
TZNAME:CET
DTSTART:20251026T010000
END:STANDARD
BEGIN:DAYLIGHT
TZOFFSETFROM:+0100
TZOFFSETTO:+0200
TZNAME:CEST
DTSTART:20260329T010000
END:DAYLIGHT
BEGIN:STANDARD
TZOFFSETFROM:+0200
TZOFFSETTO:+0100
TZNAME:CET
DTSTART:20261025T010000
END:STANDARD
END:VTIMEZONE
BEGIN:VEVENT
DTSTART;TZID=Europe/Berlin:20251221T140000
DTEND;TZID=Europe/Berlin:20251221T170000
DTSTAMP:20260423T030041
CREATED:20251030T101343Z
LAST-MODIFIED:20251030T101604Z
UID:10020018-1766325600-1766336400@staging.hauslebenskraft.de
SUMMARY:Wintersonnenwende - die Rückkehr des Lichts. Dein Raum für Wandel & Vision
DESCRIPTION:Lass los\, sinke tief in die Dunkelheit und kreiere neu! Dein Übergangsseminar in die Rauhnächte und ins Jahr 2026\nDu möchtest dein Jahr reflektiert abschließen und sanft und liebevoll ins Jahr 2026 starten? Dann bist du hier genau richtig.\n\nAm Abend des 21.12.2025\, dem Tag der Wintersonnenwende\, ist dafür der magische Moment.\n\nIm Seminar reflektieren wir das vergangene Jahr und bergen die Schätze. Vor allem die\, welche in den herausfordernden Situationen verborgen sind. Dann lassen wir uns gemeinsam in die Dunkelheit\, der aktuellen Zeitqualität hinein sinken. Du darfst das ganz im Vertrauen tun.\n\nWas darf gehen? Das lassen wir gemeinsam rituell los.\n\nWo stehst du? Wo willst du hin? Ist die Zeit reif für eine erste zaghafte neue Vision? Ein paar nächste Ziele und die entsprechenden Schritte dahin? Lass es uns gemeinsam erfühlen und erkunden\, was dein goldener Samen für 2025 sein könnte.\n\nIm Seminar vereinen wir Methoden des systemischen Coachings\, Hypnose\, inneren Reisen und lichtvolle Energiearbeit. Und ich möchte mit dir Feiern! Die Rückkehr des Lichts.\n\n\n21.12.2025 14 – 17 Uhr im Haus Lebenskraft oder Online bei dir zu Hause. Die Plätze vor Ort sind begrenzt. Melde dich verbindlich bei mir an.\n\nPreis: 55 €.\n\nhttps://silke-bartsch.de/uebergang-wandel
URL:https://staging.hauslebenskraft.de/veranstaltung/wintersonnenwende-die-rueckkehr-des-lichts-dein-raum-fuer-wandel-vision/
LOCATION:Haus Lebenskraft\, Gutenbergstr. 30\, Potsdam\, Brandenburg\, 14467\, Germany
CATEGORIES:Öffentlich, Raum der Erde
ORGANIZER;CN="Silke Bartsch":MAILTO:hallo@silke-bartsch.de
END:VEVENT
END:VCALENDAR