BEGIN:VCALENDAR
VERSION:2.0
PRODID:-//Haus Lebenskraft - ECPv6.15.20//NONSGML v1.0//EN
CALSCALE:GREGORIAN
METHOD:PUBLISH
X-ORIGINAL-URL:https://staging.hauslebenskraft.de
X-WR-CALDESC:Veranstaltungen für Haus Lebenskraft
REFRESH-INTERVAL;VALUE=DURATION:PT1H
X-Robots-Tag:noindex
X-PUBLISHED-TTL:PT1H
BEGIN:VTIMEZONE
TZID:Europe/Berlin
BEGIN:DAYLIGHT
TZOFFSETFROM:+0100
TZOFFSETTO:+0200
TZNAME:CEST
DTSTART:20250330T010000
END:DAYLIGHT
BEGIN:STANDARD
TZOFFSETFROM:+0200
TZOFFSETTO:+0100
TZNAME:CET
DTSTART:20251026T010000
END:STANDARD
BEGIN:DAYLIGHT
TZOFFSETFROM:+0100
TZOFFSETTO:+0200
TZNAME:CEST
DTSTART:20260329T010000
END:DAYLIGHT
BEGIN:STANDARD
TZOFFSETFROM:+0200
TZOFFSETTO:+0100
TZNAME:CET
DTSTART:20261025T010000
END:STANDARD
BEGIN:DAYLIGHT
TZOFFSETFROM:+0100
TZOFFSETTO:+0200
TZNAME:CEST
DTSTART:20270328T010000
END:DAYLIGHT
BEGIN:STANDARD
TZOFFSETFROM:+0200
TZOFFSETTO:+0100
TZNAME:CET
DTSTART:20271031T010000
END:STANDARD
END:VTIMEZONE
BEGIN:VEVENT
DTSTART;TZID=Europe/Berlin:20260505T170000
DTEND;TZID=Europe/Berlin:20260505T183000
DTSTAMP:20260420T043709
CREATED:20260408T190840Z
LAST-MODIFIED:20260408T190851Z
UID:10023943-1778000400-1778005800@staging.hauslebenskraft.de
SUMMARY:Dynamic Dance
DESCRIPTION:… ein faszien-orientiertes Bewegungsangebot\nDer flow-orientierte Faszientanz zu Musik aus aller Welt ist ein dynamisches Bewegungsangebot für jedes Alter\, das fließende\, tanz-inspirierte Bewegungen mit gezielten Impulsen für das fasziale Gewebe verbindet. Mit Freude an Bewegung und spürbarer Leidenschaft für den Körper entstehen freie Bewegungsformen\, die Mobilität\, Elastizität\, Körperwahrnehmung und einen sanften Muskelaufbau fördern. \nDas Training kommt ohne feste Choreografien aus und lädt dazu ein\, sein eigenes Tempo und Intensität individuell anzupassen. Das Angebot unterstützt Ausdauer\, das Herz-Kreislauf-System sowie die Koordination und ist für Menschen unterschiedlicher Alters- und Erfahrungsstufen geeignet. \nDen Abschluss bildet eine wohltuende Dehnungs- und Entspannungsphase mit Klangspiel und Gong. Sie schafft Raum für Ruhe\, Nachspüren und Regeneration. Ich freue mich auf eine gemeinsame Bewegungszeit voller Lebensfreude\, Achtsamkeit und lebendiger Präsenz in dem wundervollen Sonnenraum im Haus Lebenskraft. \nHerzlichst Gesine \nEinzelveranstaltung: 15 €\, 6-er Karte: 72 € \nSchnupperstunde: 12 € \nAnmeldung unter: gesine.schaefer@gmx.de oder gesine@hauslebenskraft.de  \nDie Teilnahme am Kurs ist nur nach persönlicher oder schriftlicher Zusage möglich. \nTel: 017651871225 \nIch freue mich auf euch. \nGesine Schaefer \nTanztrainerin\, HP nach Psych KG\, Kinesiologin\, Gestalttherapeutin\, Klangmassagepraktikerin \n  \n  \n 
URL:https://staging.hauslebenskraft.de/veranstaltung/tanzfreude-mit-gesine-4/2026-05-05/
LOCATION:Haus Lebenskraft\, Gutenbergstr. 30\, Potsdam\, Brandenburg\, 14467\, Germany
CATEGORIES:Öffentlich, Sonnenraum
ATTACH;FMTTYPE=image/jpeg:https://staging.hauslebenskraft.de/wp-content/uploads/2026/02/Tanzfreude-1.jpg
ORGANIZER;CN="Gesine Schaefer":MAILTO:gesine.schaefer@gmx.de
END:VEVENT
BEGIN:VEVENT
DTSTART;TZID=Europe/Berlin:20260507T180000
DTEND;TZID=Europe/Berlin:20260507T191500
DTSTAMP:20260420T043709
CREATED:20250202T153457Z
LAST-MODIFIED:20260202T134108Z
UID:10020414-1778176800-1778181300@staging.hauslebenskraft.de
SUMMARY:Bauchtanz
DESCRIPTION:Bauchtanz\, eigentlich „Orientalischer Tanz“ nimmt Dich mit in eine andere Welt. Wie kaum ein anderer Tanz vereint er Weiblichkeit\, Körperbeherrschung und Tanzfreude. Als positiven Nebeneffekt verbessert er Deine Beweglichkeit\, Deine Haltung und Dein körperliches und seelisches Wohlbefinden. Die typischen Bewegungen werden stets mit viel Tanzfreude geübt und bis hin zu Choreographien miteinander kombiniert. Zusätzlich werden in manchen Stunden Elemente wie der Tanzschleier hinzugenommen. \nBauchtanz bzw. Orientalischer Tanz eignet sich für alle Frauen und Mädchen jeden Alters.\nDieser Kurs ist für Tänzerinnen mit Vorkenntnissen. Einsteigerinnen: nach Rücksprache möglich. Erste Schnupperstunde 10 €. \nKosten: 50 € monatlich \nInfo: https://www.zeyna.com \nTelefon: 0151 432 53 180
URL:https://staging.hauslebenskraft.de/veranstaltung/bauchtanz-5/2026-05-07/
LOCATION:Haus Lebenskraft\, Gutenbergstr. 30\, Potsdam\, Brandenburg\, 14467\, Germany
CATEGORIES:Öffentlich, Sonnenraum
ATTACH;FMTTYPE=image/png:https://staging.hauslebenskraft.de/wp-content/uploads/2026/02/bauchtanz_potsdam-1.png
ORGANIZER;CN="Sabine Richter":MAILTO:sabinezeyna@yahoo.de
END:VEVENT
BEGIN:VEVENT
DTSTART;TZID=Europe/Berlin:20260507T193000
DTEND;TZID=Europe/Berlin:20260507T204500
DTSTAMP:20260420T043709
CREATED:20250912T190455Z
LAST-MODIFIED:20260202T134213Z
UID:10020439-1778182200-1778186700@staging.hauslebenskraft.de
SUMMARY:Bauchtanz
DESCRIPTION:Bauchtanz\, eigentlich „Orientalischer Tanz“ nimmt Dich mit in eine andere Welt. Wie kaum ein anderer Tanz vereint er Weiblichkeit\, Körperbeherrschung und Tanzfreude. Als positiven Nebeneffekt verbessert er Deine Beweglichkeit\, Deine Haltung und Dein körperliches und seelisches Wohlbefinden. Die typischen Bewegungen werden stets mit viel Tanzfreude geübt und bis hin zu Choreographien miteinander kombiniert. Zusätzlich werden in manchen Stunden Elemente wie der Tanzschleier hinzugenommen. \nBauchtanz bzw. Orientalischer Tanz eignet sich für alle Frauen und Mädchen jeden Alters.\nDieser Kurs ist für Tänzerinnen mit Vorkenntnissen. Einsteigerinnen: nach Rücksprache möglich. Erste Schnupperstunde 10 €. \nKosten: 50 € monatlich \nInfo: https://www.zeyna.com \nTelefon: 0151 432 53 180
URL:https://staging.hauslebenskraft.de/veranstaltung/bauchtanz-7/2026-05-07/
LOCATION:Haus Lebenskraft\, Gutenbergstr. 30\, Potsdam\, Brandenburg\, 14467\, Germany
CATEGORIES:Öffentlich, Sonnenraum
ATTACH;FMTTYPE=image/png:https://staging.hauslebenskraft.de/wp-content/uploads/2026/02/bauchtanz_potsdam-1.png
ORGANIZER;CN="Sabine Richter":MAILTO:sabinezeyna@yahoo.de
END:VEVENT
BEGIN:VEVENT
DTSTART;TZID=Europe/Berlin:20260514T180000
DTEND;TZID=Europe/Berlin:20260514T191500
DTSTAMP:20260420T043709
CREATED:20250202T153457Z
LAST-MODIFIED:20260202T134108Z
UID:10020415-1778781600-1778786100@staging.hauslebenskraft.de
SUMMARY:Bauchtanz
DESCRIPTION:Bauchtanz\, eigentlich „Orientalischer Tanz“ nimmt Dich mit in eine andere Welt. Wie kaum ein anderer Tanz vereint er Weiblichkeit\, Körperbeherrschung und Tanzfreude. Als positiven Nebeneffekt verbessert er Deine Beweglichkeit\, Deine Haltung und Dein körperliches und seelisches Wohlbefinden. Die typischen Bewegungen werden stets mit viel Tanzfreude geübt und bis hin zu Choreographien miteinander kombiniert. Zusätzlich werden in manchen Stunden Elemente wie der Tanzschleier hinzugenommen. \nBauchtanz bzw. Orientalischer Tanz eignet sich für alle Frauen und Mädchen jeden Alters.\nDieser Kurs ist für Tänzerinnen mit Vorkenntnissen. Einsteigerinnen: nach Rücksprache möglich. Erste Schnupperstunde 10 €. \nKosten: 50 € monatlich \nInfo: https://www.zeyna.com \nTelefon: 0151 432 53 180
URL:https://staging.hauslebenskraft.de/veranstaltung/bauchtanz-5/2026-05-14/
LOCATION:Haus Lebenskraft\, Gutenbergstr. 30\, Potsdam\, Brandenburg\, 14467\, Germany
CATEGORIES:Öffentlich, Sonnenraum
ATTACH;FMTTYPE=image/png:https://staging.hauslebenskraft.de/wp-content/uploads/2026/02/bauchtanz_potsdam-1.png
ORGANIZER;CN="Sabine Richter":MAILTO:sabinezeyna@yahoo.de
END:VEVENT
BEGIN:VEVENT
DTSTART;TZID=Europe/Berlin:20260514T193000
DTEND;TZID=Europe/Berlin:20260514T204500
DTSTAMP:20260420T043709
CREATED:20250912T190455Z
LAST-MODIFIED:20260202T134213Z
UID:10020440-1778787000-1778791500@staging.hauslebenskraft.de
SUMMARY:Bauchtanz
DESCRIPTION:Bauchtanz\, eigentlich „Orientalischer Tanz“ nimmt Dich mit in eine andere Welt. Wie kaum ein anderer Tanz vereint er Weiblichkeit\, Körperbeherrschung und Tanzfreude. Als positiven Nebeneffekt verbessert er Deine Beweglichkeit\, Deine Haltung und Dein körperliches und seelisches Wohlbefinden. Die typischen Bewegungen werden stets mit viel Tanzfreude geübt und bis hin zu Choreographien miteinander kombiniert. Zusätzlich werden in manchen Stunden Elemente wie der Tanzschleier hinzugenommen. \nBauchtanz bzw. Orientalischer Tanz eignet sich für alle Frauen und Mädchen jeden Alters.\nDieser Kurs ist für Tänzerinnen mit Vorkenntnissen. Einsteigerinnen: nach Rücksprache möglich. Erste Schnupperstunde 10 €. \nKosten: 50 € monatlich \nInfo: https://www.zeyna.com \nTelefon: 0151 432 53 180
URL:https://staging.hauslebenskraft.de/veranstaltung/bauchtanz-7/2026-05-14/
LOCATION:Haus Lebenskraft\, Gutenbergstr. 30\, Potsdam\, Brandenburg\, 14467\, Germany
CATEGORIES:Öffentlich, Sonnenraum
ATTACH;FMTTYPE=image/png:https://staging.hauslebenskraft.de/wp-content/uploads/2026/02/bauchtanz_potsdam-1.png
ORGANIZER;CN="Sabine Richter":MAILTO:sabinezeyna@yahoo.de
END:VEVENT
BEGIN:VEVENT
DTSTART;TZID=Europe/Berlin:20260521T180000
DTEND;TZID=Europe/Berlin:20260521T191500
DTSTAMP:20260420T043709
CREATED:20250202T153457Z
LAST-MODIFIED:20260202T134108Z
UID:10020416-1779386400-1779390900@staging.hauslebenskraft.de
SUMMARY:Bauchtanz
DESCRIPTION:Bauchtanz\, eigentlich „Orientalischer Tanz“ nimmt Dich mit in eine andere Welt. Wie kaum ein anderer Tanz vereint er Weiblichkeit\, Körperbeherrschung und Tanzfreude. Als positiven Nebeneffekt verbessert er Deine Beweglichkeit\, Deine Haltung und Dein körperliches und seelisches Wohlbefinden. Die typischen Bewegungen werden stets mit viel Tanzfreude geübt und bis hin zu Choreographien miteinander kombiniert. Zusätzlich werden in manchen Stunden Elemente wie der Tanzschleier hinzugenommen. \nBauchtanz bzw. Orientalischer Tanz eignet sich für alle Frauen und Mädchen jeden Alters.\nDieser Kurs ist für Tänzerinnen mit Vorkenntnissen. Einsteigerinnen: nach Rücksprache möglich. Erste Schnupperstunde 10 €. \nKosten: 50 € monatlich \nInfo: https://www.zeyna.com \nTelefon: 0151 432 53 180
URL:https://staging.hauslebenskraft.de/veranstaltung/bauchtanz-5/2026-05-21/
LOCATION:Haus Lebenskraft\, Gutenbergstr. 30\, Potsdam\, Brandenburg\, 14467\, Germany
CATEGORIES:Öffentlich, Sonnenraum
ATTACH;FMTTYPE=image/png:https://staging.hauslebenskraft.de/wp-content/uploads/2026/02/bauchtanz_potsdam-1.png
ORGANIZER;CN="Sabine Richter":MAILTO:sabinezeyna@yahoo.de
END:VEVENT
BEGIN:VEVENT
DTSTART;TZID=Europe/Berlin:20260521T193000
DTEND;TZID=Europe/Berlin:20260521T204500
DTSTAMP:20260420T043709
CREATED:20250912T190455Z
LAST-MODIFIED:20260202T134213Z
UID:10020441-1779391800-1779396300@staging.hauslebenskraft.de
SUMMARY:Bauchtanz
DESCRIPTION:Bauchtanz\, eigentlich „Orientalischer Tanz“ nimmt Dich mit in eine andere Welt. Wie kaum ein anderer Tanz vereint er Weiblichkeit\, Körperbeherrschung und Tanzfreude. Als positiven Nebeneffekt verbessert er Deine Beweglichkeit\, Deine Haltung und Dein körperliches und seelisches Wohlbefinden. Die typischen Bewegungen werden stets mit viel Tanzfreude geübt und bis hin zu Choreographien miteinander kombiniert. Zusätzlich werden in manchen Stunden Elemente wie der Tanzschleier hinzugenommen. \nBauchtanz bzw. Orientalischer Tanz eignet sich für alle Frauen und Mädchen jeden Alters.\nDieser Kurs ist für Tänzerinnen mit Vorkenntnissen. Einsteigerinnen: nach Rücksprache möglich. Erste Schnupperstunde 10 €. \nKosten: 50 € monatlich \nInfo: https://www.zeyna.com \nTelefon: 0151 432 53 180
URL:https://staging.hauslebenskraft.de/veranstaltung/bauchtanz-7/2026-05-21/
LOCATION:Haus Lebenskraft\, Gutenbergstr. 30\, Potsdam\, Brandenburg\, 14467\, Germany
CATEGORIES:Öffentlich, Sonnenraum
ATTACH;FMTTYPE=image/png:https://staging.hauslebenskraft.de/wp-content/uploads/2026/02/bauchtanz_potsdam-1.png
ORGANIZER;CN="Sabine Richter":MAILTO:sabinezeyna@yahoo.de
END:VEVENT
BEGIN:VEVENT
DTSTART;TZID=Europe/Berlin:20260528T180000
DTEND;TZID=Europe/Berlin:20260528T191500
DTSTAMP:20260420T043709
CREATED:20250202T153457Z
LAST-MODIFIED:20260202T134108Z
UID:10020417-1779991200-1779995700@staging.hauslebenskraft.de
SUMMARY:Bauchtanz
DESCRIPTION:Bauchtanz\, eigentlich „Orientalischer Tanz“ nimmt Dich mit in eine andere Welt. Wie kaum ein anderer Tanz vereint er Weiblichkeit\, Körperbeherrschung und Tanzfreude. Als positiven Nebeneffekt verbessert er Deine Beweglichkeit\, Deine Haltung und Dein körperliches und seelisches Wohlbefinden. Die typischen Bewegungen werden stets mit viel Tanzfreude geübt und bis hin zu Choreographien miteinander kombiniert. Zusätzlich werden in manchen Stunden Elemente wie der Tanzschleier hinzugenommen. \nBauchtanz bzw. Orientalischer Tanz eignet sich für alle Frauen und Mädchen jeden Alters.\nDieser Kurs ist für Tänzerinnen mit Vorkenntnissen. Einsteigerinnen: nach Rücksprache möglich. Erste Schnupperstunde 10 €. \nKosten: 50 € monatlich \nInfo: https://www.zeyna.com \nTelefon: 0151 432 53 180
URL:https://staging.hauslebenskraft.de/veranstaltung/bauchtanz-5/2026-05-28/
LOCATION:Haus Lebenskraft\, Gutenbergstr. 30\, Potsdam\, Brandenburg\, 14467\, Germany
CATEGORIES:Öffentlich, Sonnenraum
ATTACH;FMTTYPE=image/png:https://staging.hauslebenskraft.de/wp-content/uploads/2026/02/bauchtanz_potsdam-1.png
ORGANIZER;CN="Sabine Richter":MAILTO:sabinezeyna@yahoo.de
END:VEVENT
BEGIN:VEVENT
DTSTART;TZID=Europe/Berlin:20260528T193000
DTEND;TZID=Europe/Berlin:20260528T204500
DTSTAMP:20260420T043709
CREATED:20250912T190455Z
LAST-MODIFIED:20260202T134213Z
UID:10020442-1779996600-1780001100@staging.hauslebenskraft.de
SUMMARY:Bauchtanz
DESCRIPTION:Bauchtanz\, eigentlich „Orientalischer Tanz“ nimmt Dich mit in eine andere Welt. Wie kaum ein anderer Tanz vereint er Weiblichkeit\, Körperbeherrschung und Tanzfreude. Als positiven Nebeneffekt verbessert er Deine Beweglichkeit\, Deine Haltung und Dein körperliches und seelisches Wohlbefinden. Die typischen Bewegungen werden stets mit viel Tanzfreude geübt und bis hin zu Choreographien miteinander kombiniert. Zusätzlich werden in manchen Stunden Elemente wie der Tanzschleier hinzugenommen. \nBauchtanz bzw. Orientalischer Tanz eignet sich für alle Frauen und Mädchen jeden Alters.\nDieser Kurs ist für Tänzerinnen mit Vorkenntnissen. Einsteigerinnen: nach Rücksprache möglich. Erste Schnupperstunde 10 €. \nKosten: 50 € monatlich \nInfo: https://www.zeyna.com \nTelefon: 0151 432 53 180
URL:https://staging.hauslebenskraft.de/veranstaltung/bauchtanz-7/2026-05-28/
LOCATION:Haus Lebenskraft\, Gutenbergstr. 30\, Potsdam\, Brandenburg\, 14467\, Germany
CATEGORIES:Öffentlich, Sonnenraum
ATTACH;FMTTYPE=image/png:https://staging.hauslebenskraft.de/wp-content/uploads/2026/02/bauchtanz_potsdam-1.png
ORGANIZER;CN="Sabine Richter":MAILTO:sabinezeyna@yahoo.de
END:VEVENT
END:VCALENDAR