BEGIN:VCALENDAR
VERSION:2.0
PRODID:-//Haus Lebenskraft - ECPv6.15.20//NONSGML v1.0//EN
CALSCALE:GREGORIAN
METHOD:PUBLISH
X-ORIGINAL-URL:https://staging.hauslebenskraft.de
X-WR-CALDESC:Veranstaltungen für Haus Lebenskraft
REFRESH-INTERVAL;VALUE=DURATION:PT1H
X-Robots-Tag:noindex
X-PUBLISHED-TTL:PT1H
BEGIN:VTIMEZONE
TZID:Europe/Berlin
BEGIN:DAYLIGHT
TZOFFSETFROM:+0100
TZOFFSETTO:+0200
TZNAME:CEST
DTSTART:20250330T010000
END:DAYLIGHT
BEGIN:STANDARD
TZOFFSETFROM:+0200
TZOFFSETTO:+0100
TZNAME:CET
DTSTART:20251026T010000
END:STANDARD
BEGIN:DAYLIGHT
TZOFFSETFROM:+0100
TZOFFSETTO:+0200
TZNAME:CEST
DTSTART:20260329T010000
END:DAYLIGHT
BEGIN:STANDARD
TZOFFSETFROM:+0200
TZOFFSETTO:+0100
TZNAME:CET
DTSTART:20261025T010000
END:STANDARD
BEGIN:DAYLIGHT
TZOFFSETFROM:+0100
TZOFFSETTO:+0200
TZNAME:CEST
DTSTART:20270328T010000
END:DAYLIGHT
BEGIN:STANDARD
TZOFFSETFROM:+0200
TZOFFSETTO:+0100
TZNAME:CET
DTSTART:20271031T010000
END:STANDARD
END:VTIMEZONE
BEGIN:VEVENT
DTSTART;TZID=Europe/Berlin:20260203T140000
DTEND;TZID=Europe/Berlin:20260203T153000
DTSTAMP:20260420T195320
CREATED:20250707T192139Z
LAST-MODIFIED:20260205T085041Z
UID:10018833-1770127200-1770132600@staging.hauslebenskraft.de
SUMMARY:Seniorentreff
DESCRIPTION:Das Haus Lebenskraft lädt ein zum Seniorentreff\nKommen Sie zu unseren Treffen für Gespräche\, gemeinsames Singen und leichte Bewegungen. Eine wunderbare Gelegenheit\, Gemeinschaft zu erleben und neue Menschen zu treffen. Der Seniorentreff bietet einen warmherzigen und respektvollen Raum\, seine persönlichen Geschichten\, Fähigkeiten und Wünsche zum Ausdruck zu bringen. \nDieser Treffpunkt dient nicht nur der Förderung der sozialen Kontakte\, sondern auch der Wiederentdeckung und Wertschätzung des eigenen Platzes in der Gesellschaft. In gemeinsamen Aktivitäten\, die Freude und Zusammengehörigkeit fördern\, erleben die Teilnehmer\, wie bereichernd das Miteinander über Generationen hinweg sein kann. \nWir treffen uns jeden ersten Dienstag im Monat um 14:30 Uhr für anderthalb Stunden im Haus Lebenskraft unter dem Dach.\nDer Beitrag beträgt 5 Euro. \nBitte anmelden unter 0176-51871225 oder per E-Mail unter willkommen@hauslebenskraft.de
URL:https://staging.hauslebenskraft.de/veranstaltung/seniorentreff-3/2026-02-03/
LOCATION:Haus Lebenskraft\, Gutenbergstr. 30\, Potsdam\, Brandenburg\, 14467\, Germany
CATEGORIES:Öffentlich, Therapieraum
ATTACH;FMTTYPE=image/jpeg:https://staging.hauslebenskraft.de/wp-content/uploads/2025/07/Seniorentreff_Haus_Lebenskraft_Potsdam_Geschichten_Gemeinschaft_Kontakt_Gespraeche_Kaffee.jpg
ORGANIZER;CN="Haus Lebenskraft":MAILTO:willkommen@hauslebenskraft.de
END:VEVENT
END:VCALENDAR