BEGIN:VCALENDAR
VERSION:2.0
PRODID:-//Haus Lebenskraft - ECPv6.15.20//NONSGML v1.0//EN
CALSCALE:GREGORIAN
METHOD:PUBLISH
X-ORIGINAL-URL:https://staging.hauslebenskraft.de
X-WR-CALDESC:Veranstaltungen für Haus Lebenskraft
REFRESH-INTERVAL;VALUE=DURATION:PT1H
X-Robots-Tag:noindex
X-PUBLISHED-TTL:PT1H
BEGIN:VTIMEZONE
TZID:Europe/Berlin
BEGIN:DAYLIGHT
TZOFFSETFROM:+0100
TZOFFSETTO:+0200
TZNAME:CEST
DTSTART:20240331T010000
END:DAYLIGHT
BEGIN:STANDARD
TZOFFSETFROM:+0200
TZOFFSETTO:+0100
TZNAME:CET
DTSTART:20241027T010000
END:STANDARD
BEGIN:DAYLIGHT
TZOFFSETFROM:+0100
TZOFFSETTO:+0200
TZNAME:CEST
DTSTART:20250330T010000
END:DAYLIGHT
BEGIN:STANDARD
TZOFFSETFROM:+0200
TZOFFSETTO:+0100
TZNAME:CET
DTSTART:20251026T010000
END:STANDARD
BEGIN:DAYLIGHT
TZOFFSETFROM:+0100
TZOFFSETTO:+0200
TZNAME:CEST
DTSTART:20260329T010000
END:DAYLIGHT
BEGIN:STANDARD
TZOFFSETFROM:+0200
TZOFFSETTO:+0100
TZNAME:CET
DTSTART:20261025T010000
END:STANDARD
END:VTIMEZONE
BEGIN:VEVENT
DTSTART;TZID=Europe/Berlin:20250805T141500
DTEND;TZID=Europe/Berlin:20250805T154500
DTSTAMP:20260422T173600
CREATED:20250127T100926Z
LAST-MODIFIED:20250707T192023Z
UID:10018769-1754403300-1754408700@staging.hauslebenskraft.de
SUMMARY:Seniorentreff
DESCRIPTION:Das Haus Lebenskraft lädt ein zum Seniorentreff\nKommen Sie zu unseren Treffen für Gespräche\, gemeinsames Singen und leichte Bewegungen. Eine wunderbare Gelegenheit\, Gemeinschaft zu erleben und neue Menschen zu treffen. Der Seniorentreff bietet einen warmherzigen und respektvollen Raum\, seine persönlichen Geschichten\, Fähigkeiten und Wünsche zum Ausdruck zu bringen. \nDieser Treffpunkt dient nicht nur der Förderung der sozialen Kontakte\, sondern auch der Wiederentdeckung und Wertschätzung des eigenen Platzes in der Gesellschaft. In gemeinsamen Aktivitäten\, die Freude und Zusammengehörigkeit fördern\, erleben die Teilnehmer\, wie bereichernd das Miteinander über Generationen hinweg sein kann. \nWir treffen uns jeden ersten Dienstag im Monat um 14:30 Uhr für anderthalb Stunden im Haus Lebenskraft unter dem Dach.\nDer Beitrag beträgt 5 Euro. \nBitte anmelden unter 0176-51871225 oder per E-Mail unter willkommen@hauslebenskraft.de
URL:https://staging.hauslebenskraft.de/veranstaltung/seniorentreff/2025-08-05/
LOCATION:Haus Lebenskraft\, Gutenbergstr. 30\, Potsdam\, Brandenburg\, 14467\, Germany
CATEGORIES:Öffentlich, Sonnenraum
ORGANIZER;CN="Haus Lebenskraft":MAILTO:willkommen@hauslebenskraft.de
END:VEVENT
END:VCALENDAR