BEGIN:VCALENDAR
VERSION:2.0
PRODID:-//Haus Lebenskraft - ECPv6.15.20//NONSGML v1.0//EN
CALSCALE:GREGORIAN
METHOD:PUBLISH
X-WR-CALNAME:Haus Lebenskraft
X-ORIGINAL-URL:https://staging.hauslebenskraft.de
X-WR-CALDESC:Veranstaltungen für Haus Lebenskraft
REFRESH-INTERVAL;VALUE=DURATION:PT1H
X-Robots-Tag:noindex
X-PUBLISHED-TTL:PT1H
BEGIN:VTIMEZONE
TZID:Europe/Berlin
BEGIN:DAYLIGHT
TZOFFSETFROM:+0100
TZOFFSETTO:+0200
TZNAME:CEST
DTSTART:20250330T010000
END:DAYLIGHT
BEGIN:STANDARD
TZOFFSETFROM:+0200
TZOFFSETTO:+0100
TZNAME:CET
DTSTART:20251026T010000
END:STANDARD
BEGIN:DAYLIGHT
TZOFFSETFROM:+0100
TZOFFSETTO:+0200
TZNAME:CEST
DTSTART:20260329T010000
END:DAYLIGHT
BEGIN:STANDARD
TZOFFSETFROM:+0200
TZOFFSETTO:+0100
TZNAME:CET
DTSTART:20261025T010000
END:STANDARD
BEGIN:DAYLIGHT
TZOFFSETFROM:+0100
TZOFFSETTO:+0200
TZNAME:CEST
DTSTART:20270328T010000
END:DAYLIGHT
BEGIN:STANDARD
TZOFFSETFROM:+0200
TZOFFSETTO:+0100
TZNAME:CET
DTSTART:20271031T010000
END:STANDARD
END:VTIMEZONE
BEGIN:VEVENT
DTSTART;TZID=Europe/Berlin:20260204T180000
DTEND;TZID=Europe/Berlin:20260204T203000
DTSTAMP:20260421T192745
CREATED:20260127T165221Z
LAST-MODIFIED:20260202T133857Z
UID:10023484-1770228000-1770237000@staging.hauslebenskraft.de
SUMMARY:Visionen für die Neue Zeit
DESCRIPTION:Gesprächskreis für die Neue Zeit\nfür wache Menschen mit Frank \nWir beschäftigen uns diesmal aus ontologischer (metaphysischer) Perspektive mit zwei grundlegenden Fragen: \n\nWelches ist das Geheimnis des Lebens?\nWie entstand und entwickelte sich die Schöpfung?\n\nDas sieht auf den ersten Blick nahezu unbeantwortbar aus – beziehungsweise gibt es mannigfaltige Antworten -\, dennoch werden wir uns mit einem fundierten Kanon\, den GOR Rassadin bereitet hat\, an die Beantwortung dieser Fragen wagen.\nIch verspreche euch\, es wird Unerwartetes\, Überraschendes\, Tiefgreifendes und Schlüssiges daraus entstehen. \nMich mit euch dieser Aufgabe zu stellen\, freue ich mich von Herzen.\nEuer Frank
URL:https://staging.hauslebenskraft.de/veranstaltung/visionen-fuer-die-neue-zeit-2-2-2/
LOCATION:Haus Lebenskraft\, Gutenbergstr. 30\, Potsdam\, Brandenburg\, 14467\, Germany
CATEGORIES:Öffentlich, Sonnenraum
ATTACH;FMTTYPE=image/jpeg:https://staging.hauslebenskraft.de/wp-content/uploads/2026/02/Visionen_fuer_die_Neue_Zeit_Frank_Ritschel_Haus_Lebenskraft_Potsdam-1.jpg
ORGANIZER;CN="Frank Ritschel":MAILTO:frank@hauslebenskraft.de
END:VEVENT
BEGIN:VEVENT
DTSTART;TZID=Europe/Berlin:20260209T170000
DTEND;TZID=Europe/Berlin:20260209T183000
DTSTAMP:20260421T192745
CREATED:20250812T091649Z
LAST-MODIFIED:20260202T135246Z
UID:10020527-1770656400-1770661800@staging.hauslebenskraft.de
SUMMARY:Holistic Hatha Yoga
DESCRIPTION:Holistic Hatha Yoga \nIn diesem Yogakurs tauchst du auf ganzheitliche Weise in die Welt des Hatha Yoga ein\, um das Leuchten in dir selbst wiederzuentdecken.\nVerschiedene Körperübungen\, Atemübungen und Achtsamkeitsübungen unterstützen dich dabei\, ebenso harmonische Klänge\, Mantren und positive Affirmationen. So entwickelst du neben Kraft\, Bewegungsfreude\, Flexibilität und Koordination\, auch ein ausgeprägtes Körperbewusstsein und bekommst Techniken in die Hand\, den umherspringenden Geist zu beruhigen sowie tief zu entspannen. Körper\, Geist und Seele kommen wieder in ihre Balance. \nDie 8-wöchigen Kurse live vor Ort können von den meisten Krankenkassen als Präventionskurse bezuschusst werden. \nIch freue mich auf dich!\nNamaste! Steffanie \nmontags 17.00-18.30 Uhr (Holisic Hatha Yoga)\nim Haus Lebenskraft\, Gutenbergstr. 30\, DG\, 14467 Potsdam \nDeine Investition:\n8-wöchiger Kurs für 120\,00 EUR\nEinzelstunden für 18 EUR\nEin Neueinstieg ist jederzeit möglich. (Nur mal probieren … für 15€) \n(Gemäß §19 Abs. 1 UStG Kleinunternehmerbesteuerung wird keine MwSt. ausgewiesen.)
URL:https://staging.hauslebenskraft.de/veranstaltung/holistic-hatha-yoga-mit-leichtigkeit-kraft-und-fuelle-10-2021-10-04-2021-10-25-3-3-2-2/2026-02-09/
LOCATION:Haus Lebenskraft\, Gutenbergstr. 30\, Potsdam\, Brandenburg\, 14467\, Germany
CATEGORIES:Öffentlich, Sonnenraum
ATTACH;FMTTYPE=image/jpeg:https://staging.hauslebenskraft.de/wp-content/uploads/2025/08/Holistic-Hatha-Yoga.jpg
ORGANIZER;CN="Steffanie Rosenhahn":MAILTO:ananda-yoga-potsdam@web.de
END:VEVENT
BEGIN:VEVENT
DTSTART;TZID=Europe/Berlin:20260216T170000
DTEND;TZID=Europe/Berlin:20260216T183000
DTSTAMP:20260421T192745
CREATED:20250812T091649Z
LAST-MODIFIED:20260202T135246Z
UID:10020528-1771261200-1771266600@staging.hauslebenskraft.de
SUMMARY:Holistic Hatha Yoga
DESCRIPTION:Holistic Hatha Yoga \nIn diesem Yogakurs tauchst du auf ganzheitliche Weise in die Welt des Hatha Yoga ein\, um das Leuchten in dir selbst wiederzuentdecken.\nVerschiedene Körperübungen\, Atemübungen und Achtsamkeitsübungen unterstützen dich dabei\, ebenso harmonische Klänge\, Mantren und positive Affirmationen. So entwickelst du neben Kraft\, Bewegungsfreude\, Flexibilität und Koordination\, auch ein ausgeprägtes Körperbewusstsein und bekommst Techniken in die Hand\, den umherspringenden Geist zu beruhigen sowie tief zu entspannen. Körper\, Geist und Seele kommen wieder in ihre Balance. \nDie 8-wöchigen Kurse live vor Ort können von den meisten Krankenkassen als Präventionskurse bezuschusst werden. \nIch freue mich auf dich!\nNamaste! Steffanie \nmontags 17.00-18.30 Uhr (Holisic Hatha Yoga)\nim Haus Lebenskraft\, Gutenbergstr. 30\, DG\, 14467 Potsdam \nDeine Investition:\n8-wöchiger Kurs für 120\,00 EUR\nEinzelstunden für 18 EUR\nEin Neueinstieg ist jederzeit möglich. (Nur mal probieren … für 15€) \n(Gemäß §19 Abs. 1 UStG Kleinunternehmerbesteuerung wird keine MwSt. ausgewiesen.)
URL:https://staging.hauslebenskraft.de/veranstaltung/holistic-hatha-yoga-mit-leichtigkeit-kraft-und-fuelle-10-2021-10-04-2021-10-25-3-3-2-2/2026-02-16/
LOCATION:Haus Lebenskraft\, Gutenbergstr. 30\, Potsdam\, Brandenburg\, 14467\, Germany
CATEGORIES:Öffentlich, Sonnenraum
ATTACH;FMTTYPE=image/jpeg:https://staging.hauslebenskraft.de/wp-content/uploads/2025/08/Holistic-Hatha-Yoga.jpg
ORGANIZER;CN="Steffanie Rosenhahn":MAILTO:ananda-yoga-potsdam@web.de
END:VEVENT
BEGIN:VEVENT
DTSTART;TZID=Europe/Berlin:20260223T170000
DTEND;TZID=Europe/Berlin:20260223T183000
DTSTAMP:20260421T192745
CREATED:20250812T091649Z
LAST-MODIFIED:20260202T135246Z
UID:10020529-1771866000-1771871400@staging.hauslebenskraft.de
SUMMARY:Holistic Hatha Yoga
DESCRIPTION:Holistic Hatha Yoga \nIn diesem Yogakurs tauchst du auf ganzheitliche Weise in die Welt des Hatha Yoga ein\, um das Leuchten in dir selbst wiederzuentdecken.\nVerschiedene Körperübungen\, Atemübungen und Achtsamkeitsübungen unterstützen dich dabei\, ebenso harmonische Klänge\, Mantren und positive Affirmationen. So entwickelst du neben Kraft\, Bewegungsfreude\, Flexibilität und Koordination\, auch ein ausgeprägtes Körperbewusstsein und bekommst Techniken in die Hand\, den umherspringenden Geist zu beruhigen sowie tief zu entspannen. Körper\, Geist und Seele kommen wieder in ihre Balance. \nDie 8-wöchigen Kurse live vor Ort können von den meisten Krankenkassen als Präventionskurse bezuschusst werden. \nIch freue mich auf dich!\nNamaste! Steffanie \nmontags 17.00-18.30 Uhr (Holisic Hatha Yoga)\nim Haus Lebenskraft\, Gutenbergstr. 30\, DG\, 14467 Potsdam \nDeine Investition:\n8-wöchiger Kurs für 120\,00 EUR\nEinzelstunden für 18 EUR\nEin Neueinstieg ist jederzeit möglich. (Nur mal probieren … für 15€) \n(Gemäß §19 Abs. 1 UStG Kleinunternehmerbesteuerung wird keine MwSt. ausgewiesen.)
URL:https://staging.hauslebenskraft.de/veranstaltung/holistic-hatha-yoga-mit-leichtigkeit-kraft-und-fuelle-10-2021-10-04-2021-10-25-3-3-2-2/2026-02-23/
LOCATION:Haus Lebenskraft\, Gutenbergstr. 30\, Potsdam\, Brandenburg\, 14467\, Germany
CATEGORIES:Öffentlich, Sonnenraum
ATTACH;FMTTYPE=image/jpeg:https://staging.hauslebenskraft.de/wp-content/uploads/2025/08/Holistic-Hatha-Yoga.jpg
ORGANIZER;CN="Steffanie Rosenhahn":MAILTO:ananda-yoga-potsdam@web.de
END:VEVENT
END:VCALENDAR