BEGIN:VCALENDAR
VERSION:2.0
PRODID:-//Haus Lebenskraft - ECPv6.15.20//NONSGML v1.0//EN
CALSCALE:GREGORIAN
METHOD:PUBLISH
X-ORIGINAL-URL:https://staging.hauslebenskraft.de
X-WR-CALDESC:Veranstaltungen für Haus Lebenskraft
REFRESH-INTERVAL;VALUE=DURATION:PT1H
X-Robots-Tag:noindex
X-PUBLISHED-TTL:PT1H
BEGIN:VTIMEZONE
TZID:Europe/Berlin
BEGIN:DAYLIGHT
TZOFFSETFROM:+0100
TZOFFSETTO:+0200
TZNAME:CEST
DTSTART:20240331T010000
END:DAYLIGHT
BEGIN:STANDARD
TZOFFSETFROM:+0200
TZOFFSETTO:+0100
TZNAME:CET
DTSTART:20241027T010000
END:STANDARD
BEGIN:DAYLIGHT
TZOFFSETFROM:+0100
TZOFFSETTO:+0200
TZNAME:CEST
DTSTART:20250330T010000
END:DAYLIGHT
BEGIN:STANDARD
TZOFFSETFROM:+0200
TZOFFSETTO:+0100
TZNAME:CET
DTSTART:20251026T010000
END:STANDARD
BEGIN:DAYLIGHT
TZOFFSETFROM:+0100
TZOFFSETTO:+0200
TZNAME:CEST
DTSTART:20260329T010000
END:DAYLIGHT
BEGIN:STANDARD
TZOFFSETFROM:+0200
TZOFFSETTO:+0100
TZNAME:CET
DTSTART:20261025T010000
END:STANDARD
END:VTIMEZONE
BEGIN:VEVENT
DTSTART;TZID=Europe/Berlin:20251201T170000
DTEND;TZID=Europe/Berlin:20251201T183000
DTSTAMP:20260421T064801
CREATED:20250812T091649Z
LAST-MODIFIED:20260202T135246Z
UID:10014643-1764608400-1764613800@staging.hauslebenskraft.de
SUMMARY:Holistic Hatha Yoga
DESCRIPTION:Holistic Hatha Yoga \nIn diesem Yogakurs tauchst du auf ganzheitliche Weise in die Welt des Hatha Yoga ein\, um das Leuchten in dir selbst wiederzuentdecken.\nVerschiedene Körperübungen\, Atemübungen und Achtsamkeitsübungen unterstützen dich dabei\, ebenso harmonische Klänge\, Mantren und positive Affirmationen. So entwickelst du neben Kraft\, Bewegungsfreude\, Flexibilität und Koordination\, auch ein ausgeprägtes Körperbewusstsein und bekommst Techniken in die Hand\, den umherspringenden Geist zu beruhigen sowie tief zu entspannen. Körper\, Geist und Seele kommen wieder in ihre Balance. \nDie 8-wöchigen Kurse live vor Ort können von den meisten Krankenkassen als Präventionskurse bezuschusst werden. \nIch freue mich auf dich!\nNamaste! Steffanie \nmontags 17.00-18.30 Uhr (Holisic Hatha Yoga)\nim Haus Lebenskraft\, Gutenbergstr. 30\, DG\, 14467 Potsdam \nDeine Investition:\n8-wöchiger Kurs für 120\,00 EUR\nEinzelstunden für 18 EUR\nEin Neueinstieg ist jederzeit möglich. (Nur mal probieren … für 15€) \n(Gemäß §19 Abs. 1 UStG Kleinunternehmerbesteuerung wird keine MwSt. ausgewiesen.)
URL:https://staging.hauslebenskraft.de/veranstaltung/holistic-hatha-yoga-mit-leichtigkeit-kraft-und-fuelle-10-2021-10-04-2021-10-25-3-3-2-2/2025-12-01/
LOCATION:Haus Lebenskraft\, Gutenbergstr. 30\, Potsdam\, Brandenburg\, 14467\, Germany
CATEGORIES:Öffentlich, Sonnenraum
ATTACH;FMTTYPE=image/jpeg:https://staging.hauslebenskraft.de/wp-content/uploads/2025/08/Holistic-Hatha-Yoga.jpg
ORGANIZER;CN="Steffanie Rosenhahn":MAILTO:ananda-yoga-potsdam@web.de
END:VEVENT
BEGIN:VEVENT
DTSTART;TZID=Europe/Berlin:20251204T183000
DTEND;TZID=Europe/Berlin:20251204T194500
DTSTAMP:20260421T064801
CREATED:20241220T204919Z
LAST-MODIFIED:20260202T134509Z
UID:10016658-1764873000-1764877500@staging.hauslebenskraft.de
SUMMARY:Aktive Meditation
DESCRIPTION:Während der Geist mit den körperlichen Übungen beschäftigt ist\, du deine Aufmerksamkeit auf den Atem und deine Bewegungen lenkst\, können deine Gedanken zur Ruhe kommen. Es entsteht ein Fließen deines Atems und deiner Bewegung. Du kannst ganz bei dir selbst ankommen. Ich lade dich ein\, dich in einer Fülle von aktiven Meditationsmöglichkeiten wie Schüttelmeditation\, Herzchakrameditation\, Kraftquelle\, Bewegungsmeditation durch die Chakren\, Kundalinimeditiation und vielem mehr zu erfahren und dabei deine Freude und Lebendigkeit\, die Kraft und den Inneren Frieden in dir zu spüren. Ich freue mich auf dich und unser gemeinsames Feld. \nVon Herzen Jeannette \nTermine: Jeden 1. Donnerstag im Monat 18.30 bis 19.45 Uhr\, 12-15 EUR (Raum der Erde) \nEnergieausgleich: 12-15 EUR   \nOrt: Haus Lebenskraft\, Gutenbergstr. 30\, 14467 Potsdam\, www.hauslebenskraft.de\nAnmeldung: jeannettedu@web.de oder 01577 6203876
URL:https://staging.hauslebenskraft.de/veranstaltung/lichtmeditation-mit-jeannette-3-2-2/2025-12-04/
LOCATION:Haus Lebenskraft\, Gutenbergstr. 30\, Potsdam\, Brandenburg\, 14467\, Germany
CATEGORIES:Öffentlich, Raum der Erde
ATTACH;FMTTYPE=image/jpeg:https://staging.hauslebenskraft.de/wp-content/uploads/2024/12/Foto-rosa-Rose-final.jpg
ORGANIZER;CN="Jeannette St%C3%B6lzel":MAILTO:contact@jeanne-heilimpulse.eu
END:VEVENT
BEGIN:VEVENT
DTSTART;TZID=Europe/Berlin:20251208T170000
DTEND;TZID=Europe/Berlin:20251208T183000
DTSTAMP:20260421T064801
CREATED:20250812T091649Z
LAST-MODIFIED:20260202T135246Z
UID:10014644-1765213200-1765218600@staging.hauslebenskraft.de
SUMMARY:Holistic Hatha Yoga
DESCRIPTION:Holistic Hatha Yoga \nIn diesem Yogakurs tauchst du auf ganzheitliche Weise in die Welt des Hatha Yoga ein\, um das Leuchten in dir selbst wiederzuentdecken.\nVerschiedene Körperübungen\, Atemübungen und Achtsamkeitsübungen unterstützen dich dabei\, ebenso harmonische Klänge\, Mantren und positive Affirmationen. So entwickelst du neben Kraft\, Bewegungsfreude\, Flexibilität und Koordination\, auch ein ausgeprägtes Körperbewusstsein und bekommst Techniken in die Hand\, den umherspringenden Geist zu beruhigen sowie tief zu entspannen. Körper\, Geist und Seele kommen wieder in ihre Balance. \nDie 8-wöchigen Kurse live vor Ort können von den meisten Krankenkassen als Präventionskurse bezuschusst werden. \nIch freue mich auf dich!\nNamaste! Steffanie \nmontags 17.00-18.30 Uhr (Holisic Hatha Yoga)\nim Haus Lebenskraft\, Gutenbergstr. 30\, DG\, 14467 Potsdam \nDeine Investition:\n8-wöchiger Kurs für 120\,00 EUR\nEinzelstunden für 18 EUR\nEin Neueinstieg ist jederzeit möglich. (Nur mal probieren … für 15€) \n(Gemäß §19 Abs. 1 UStG Kleinunternehmerbesteuerung wird keine MwSt. ausgewiesen.)
URL:https://staging.hauslebenskraft.de/veranstaltung/holistic-hatha-yoga-mit-leichtigkeit-kraft-und-fuelle-10-2021-10-04-2021-10-25-3-3-2-2/2025-12-08/
LOCATION:Haus Lebenskraft\, Gutenbergstr. 30\, Potsdam\, Brandenburg\, 14467\, Germany
CATEGORIES:Öffentlich, Sonnenraum
ATTACH;FMTTYPE=image/jpeg:https://staging.hauslebenskraft.de/wp-content/uploads/2025/08/Holistic-Hatha-Yoga.jpg
ORGANIZER;CN="Steffanie Rosenhahn":MAILTO:ananda-yoga-potsdam@web.de
END:VEVENT
BEGIN:VEVENT
DTSTART;TZID=Europe/Berlin:20251215T170000
DTEND;TZID=Europe/Berlin:20251215T183000
DTSTAMP:20260421T064801
CREATED:20250812T091649Z
LAST-MODIFIED:20260202T135246Z
UID:10014645-1765818000-1765823400@staging.hauslebenskraft.de
SUMMARY:Holistic Hatha Yoga
DESCRIPTION:Holistic Hatha Yoga \nIn diesem Yogakurs tauchst du auf ganzheitliche Weise in die Welt des Hatha Yoga ein\, um das Leuchten in dir selbst wiederzuentdecken.\nVerschiedene Körperübungen\, Atemübungen und Achtsamkeitsübungen unterstützen dich dabei\, ebenso harmonische Klänge\, Mantren und positive Affirmationen. So entwickelst du neben Kraft\, Bewegungsfreude\, Flexibilität und Koordination\, auch ein ausgeprägtes Körperbewusstsein und bekommst Techniken in die Hand\, den umherspringenden Geist zu beruhigen sowie tief zu entspannen. Körper\, Geist und Seele kommen wieder in ihre Balance. \nDie 8-wöchigen Kurse live vor Ort können von den meisten Krankenkassen als Präventionskurse bezuschusst werden. \nIch freue mich auf dich!\nNamaste! Steffanie \nmontags 17.00-18.30 Uhr (Holisic Hatha Yoga)\nim Haus Lebenskraft\, Gutenbergstr. 30\, DG\, 14467 Potsdam \nDeine Investition:\n8-wöchiger Kurs für 120\,00 EUR\nEinzelstunden für 18 EUR\nEin Neueinstieg ist jederzeit möglich. (Nur mal probieren … für 15€) \n(Gemäß §19 Abs. 1 UStG Kleinunternehmerbesteuerung wird keine MwSt. ausgewiesen.)
URL:https://staging.hauslebenskraft.de/veranstaltung/holistic-hatha-yoga-mit-leichtigkeit-kraft-und-fuelle-10-2021-10-04-2021-10-25-3-3-2-2/2025-12-15/
LOCATION:Haus Lebenskraft\, Gutenbergstr. 30\, Potsdam\, Brandenburg\, 14467\, Germany
CATEGORIES:Öffentlich, Sonnenraum
ATTACH;FMTTYPE=image/jpeg:https://staging.hauslebenskraft.de/wp-content/uploads/2025/08/Holistic-Hatha-Yoga.jpg
ORGANIZER;CN="Steffanie Rosenhahn":MAILTO:ananda-yoga-potsdam@web.de
END:VEVENT
BEGIN:VEVENT
DTSTART;TZID=Europe/Berlin:20251222T170000
DTEND;TZID=Europe/Berlin:20251222T183000
DTSTAMP:20260421T064801
CREATED:20250812T091649Z
LAST-MODIFIED:20260202T135246Z
UID:10014646-1766422800-1766428200@staging.hauslebenskraft.de
SUMMARY:Holistic Hatha Yoga
DESCRIPTION:Holistic Hatha Yoga \nIn diesem Yogakurs tauchst du auf ganzheitliche Weise in die Welt des Hatha Yoga ein\, um das Leuchten in dir selbst wiederzuentdecken.\nVerschiedene Körperübungen\, Atemübungen und Achtsamkeitsübungen unterstützen dich dabei\, ebenso harmonische Klänge\, Mantren und positive Affirmationen. So entwickelst du neben Kraft\, Bewegungsfreude\, Flexibilität und Koordination\, auch ein ausgeprägtes Körperbewusstsein und bekommst Techniken in die Hand\, den umherspringenden Geist zu beruhigen sowie tief zu entspannen. Körper\, Geist und Seele kommen wieder in ihre Balance. \nDie 8-wöchigen Kurse live vor Ort können von den meisten Krankenkassen als Präventionskurse bezuschusst werden. \nIch freue mich auf dich!\nNamaste! Steffanie \nmontags 17.00-18.30 Uhr (Holisic Hatha Yoga)\nim Haus Lebenskraft\, Gutenbergstr. 30\, DG\, 14467 Potsdam \nDeine Investition:\n8-wöchiger Kurs für 120\,00 EUR\nEinzelstunden für 18 EUR\nEin Neueinstieg ist jederzeit möglich. (Nur mal probieren … für 15€) \n(Gemäß §19 Abs. 1 UStG Kleinunternehmerbesteuerung wird keine MwSt. ausgewiesen.)
URL:https://staging.hauslebenskraft.de/veranstaltung/holistic-hatha-yoga-mit-leichtigkeit-kraft-und-fuelle-10-2021-10-04-2021-10-25-3-3-2-2/2025-12-22/
LOCATION:Haus Lebenskraft\, Gutenbergstr. 30\, Potsdam\, Brandenburg\, 14467\, Germany
CATEGORIES:Öffentlich, Sonnenraum
ATTACH;FMTTYPE=image/jpeg:https://staging.hauslebenskraft.de/wp-content/uploads/2025/08/Holistic-Hatha-Yoga.jpg
ORGANIZER;CN="Steffanie Rosenhahn":MAILTO:ananda-yoga-potsdam@web.de
END:VEVENT
END:VCALENDAR