BEGIN:VCALENDAR
VERSION:2.0
PRODID:-//Haus Lebenskraft - ECPv6.15.20//NONSGML v1.0//EN
CALSCALE:GREGORIAN
METHOD:PUBLISH
X-ORIGINAL-URL:https://staging.hauslebenskraft.de
X-WR-CALDESC:Veranstaltungen für Haus Lebenskraft
REFRESH-INTERVAL;VALUE=DURATION:PT1H
X-Robots-Tag:noindex
X-PUBLISHED-TTL:PT1H
BEGIN:VTIMEZONE
TZID:Europe/Berlin
BEGIN:DAYLIGHT
TZOFFSETFROM:+0100
TZOFFSETTO:+0200
TZNAME:CEST
DTSTART:20250330T010000
END:DAYLIGHT
BEGIN:STANDARD
TZOFFSETFROM:+0200
TZOFFSETTO:+0100
TZNAME:CET
DTSTART:20251026T010000
END:STANDARD
BEGIN:DAYLIGHT
TZOFFSETFROM:+0100
TZOFFSETTO:+0200
TZNAME:CEST
DTSTART:20260329T010000
END:DAYLIGHT
BEGIN:STANDARD
TZOFFSETFROM:+0200
TZOFFSETTO:+0100
TZNAME:CET
DTSTART:20261025T010000
END:STANDARD
BEGIN:DAYLIGHT
TZOFFSETFROM:+0100
TZOFFSETTO:+0200
TZNAME:CEST
DTSTART:20270328T010000
END:DAYLIGHT
BEGIN:STANDARD
TZOFFSETFROM:+0200
TZOFFSETTO:+0100
TZNAME:CET
DTSTART:20271031T010000
END:STANDARD
END:VTIMEZONE
BEGIN:VEVENT
DTSTART;TZID=Europe/Berlin:20260313T180000
DTEND;TZID=Europe/Berlin:20260313T193000
DTSTAMP:20260420T181953
CREATED:20260313T085654Z
LAST-MODIFIED:20260313T085704Z
UID:10024276-1773424800-1773430200@staging.hauslebenskraft.de
SUMMARY:Sacred Chanting Circle
DESCRIPTION:Liebe Freunde des Singens\, Musizieren und Mantra-Chanten\, \n…COME\, COME\, WHOEVER YOU ARE… \nkommt wieder im Kreis zusammen\, um gemeinsam zu tönen\, um Raum und Zeit aufzulösen und alles in einen heiligen Klang zu verwandeln! Egal\, ob du singen kannst oder nicht (Du weißt\, jeder ist dazu geschaffen!)…stimm einfach mit ein! Wer selbst ein Mantra oder ein anderes spirituelles Lied anstimmen möchte oder mit seinem eigenen Instrument uns begleiten kann\, fühle sich dazu herzlich ermutigt! Eine Anmeldung ist nicht erforderlich. Der Eintritt ist frei. \nim Haus Lebenskraft\, Gutenbergstr. 30\, 2. OG \nIch freue mich auf euch! Steffanie \n 
URL:https://staging.hauslebenskraft.de/veranstaltung/sacred-chanting-circle-mit-steffanie-2-3/
LOCATION:Haus Lebenskraft\, Gutenbergstr. 30\, Potsdam\, Brandenburg\, 14467\, Germany
CATEGORIES:Öffentlich, Raum der Erde
ATTACH;FMTTYPE=image/jpeg:https://staging.hauslebenskraft.de/wp-content/uploads/2025/02/Sacred-Chanting-Circle.jpg
ORGANIZER;CN="Steffanie Rosenhahn":MAILTO:ananda-yoga-potsdam@web.de
END:VEVENT
BEGIN:VEVENT
DTSTART;TZID=Europe/Berlin:20260326T190000
DTEND;TZID=Europe/Berlin:20260326T203000
DTSTAMP:20260420T181953
CREATED:20260223T153215Z
LAST-MODIFIED:20260227T202953Z
UID:10015429-1774551600-1774557000@staging.hauslebenskraft.de
SUMMARY:Singkreis mit Uta und Savitri
DESCRIPTION:Im gemeinsamen Singen die Seele berühren\n\nJeden 4. Donnerstag im Monat laden Dich Savitri (Harfe) und Uta (Gitarre) zum Mitsingen ein. Einfach zu lernende Mantras\, spirituelle Lieder und come-together-songs aus verschiedenen Traditionen ebnen uns den Weg zu Verbundenheit und Lebensfreude.\nWir öffnen uns der transformierenden Kraft der Lieder und der Klänge – mal meditativ\, mal kraftvoll und beschwingt\, mal mehrstimmig und mal ganz zart.\nGemeinsam Singen und die Seele berühren – komm mit uns auf den Weg!\n\nAuf Spendenbasis (Empfehlung 10 €)\n\nKontakt: uta@sing-doch-einfach-mit.de\nhallo@harfe-potsdam.de\n\nHomepage: sing-doch-einfach-mit.de\nharfe-potsdam.de
URL:https://staging.hauslebenskraft.de/veranstaltung/singkreis-im-gemeinsamen-singen-die-seele-beruehren-3-2/
LOCATION:Haus Lebenskraft\, Gutenbergstr. 30\, Potsdam\, Brandenburg\, 14467\, Germany
CATEGORIES:Öffentlich, Raum der Erde
ATTACH;FMTTYPE=image/jpeg:https://staging.hauslebenskraft.de/wp-content/uploads/2024/10/Singkreis.jpg
ORGANIZER;CN="Uta Baunach":MAILTO:uta@sing-doch-einfach-mit.de
END:VEVENT
END:VCALENDAR