BEGIN:VCALENDAR
VERSION:2.0
PRODID:-//Haus Lebenskraft - ECPv6.15.20//NONSGML v1.0//EN
CALSCALE:GREGORIAN
METHOD:PUBLISH
X-WR-CALNAME:Haus Lebenskraft
X-ORIGINAL-URL:https://staging.hauslebenskraft.de
X-WR-CALDESC:Veranstaltungen für Haus Lebenskraft
REFRESH-INTERVAL;VALUE=DURATION:PT1H
X-Robots-Tag:noindex
X-PUBLISHED-TTL:PT1H
BEGIN:VTIMEZONE
TZID:Europe/Berlin
BEGIN:DAYLIGHT
TZOFFSETFROM:+0100
TZOFFSETTO:+0200
TZNAME:CEST
DTSTART:20250330T010000
END:DAYLIGHT
BEGIN:STANDARD
TZOFFSETFROM:+0200
TZOFFSETTO:+0100
TZNAME:CET
DTSTART:20251026T010000
END:STANDARD
BEGIN:DAYLIGHT
TZOFFSETFROM:+0100
TZOFFSETTO:+0200
TZNAME:CEST
DTSTART:20260329T010000
END:DAYLIGHT
BEGIN:STANDARD
TZOFFSETFROM:+0200
TZOFFSETTO:+0100
TZNAME:CET
DTSTART:20261025T010000
END:STANDARD
BEGIN:DAYLIGHT
TZOFFSETFROM:+0100
TZOFFSETTO:+0200
TZNAME:CEST
DTSTART:20270328T010000
END:DAYLIGHT
BEGIN:STANDARD
TZOFFSETFROM:+0200
TZOFFSETTO:+0100
TZNAME:CET
DTSTART:20271031T010000
END:STANDARD
END:VTIMEZONE
BEGIN:VEVENT
DTSTART;TZID=Europe/Berlin:20260329T160000
DTEND;TZID=Europe/Berlin:20260329T190000
DTSTAMP:20260425T131150
CREATED:20260220T171450Z
LAST-MODIFIED:20260306T135615Z
UID:10025161-1774800000-1774810800@staging.hauslebenskraft.de
SUMMARY:die Kunst des Kuschelns- Workshop
DESCRIPTION:Welcher Kuscheltyp bist Du? Was ist Deine Lieblings-Kuschelposition?\nViele Menschen lieben Kuscheln – Und gleichzeitig bewegen wir uns meist in vertrauten Gewohnheiten. Dabei gibt es so viel zu erforschen: Wie fühlt es sich an\, langsam und bewusst berührt zu werden? Oder zu berühren? Wirst Du lieber fest gehalten oder sanft gestreichelt? Kannst Du benennen\, wonach Du Dich in diesem Moment sehnst?In diesem Workshop erforschen wir Kuscheln als eine Form achtsamer Begegnung. Durch einfache\, angeleitete Erfahrungen bekommst Du Raum\, Deine eigenen Muster rund um Berührung\, Nähe und Kontakt wahrzunehmen und mit neuen Möglichkeiten zu experimentieren. Dabei steht nicht Technik im Vordergrund\, sondern Erfahrung: Ausprobieren\, reinspüren\, benennen\, justieren. \nDer Rahmen des Workshops ist bewusst langsam\, respektvoll und konsensorientiert. Alle Begegnungen geschehen freiwillig und in deinem eigenen Tempo. Der Raum ist als nicht-erotischer Erfahrungsraum gehalten – frei von Dating- oder Flirtabsichten – so dass Nähe ohne Erwartungsdruck erlebt werden kann.\nDadurch kannst Du Dich spielerisch ausprobieren\, Dein Kuschel-Repertoire erweitern und vielleicht ganz neue Seiten von Nähe entdecken. \nUnd Kuscheln kann für Dich noch mehr werden als eine schöne Gewohnheit: Eine erfüllende Quelle von echter Nähe\, tiefer Geborgenheit\, und einem feineren Gespür für die Bedürfnisse Deines Körpers. \n  \nTeilnahmegebühren: 20 Euro\nE-Mail: florian.hollandt@gmail.com\nTelefonnummer: 017623516385\nPostalische Adresse: Gutenbergstr. 30; 14467 Potsdam \nBuchungs-Link: https://www.eventbrite.de/e/die-kunst-des-kuschelns-workshop-tickets-1984564277176 \n  \n  \n 
URL:https://staging.hauslebenskraft.de/veranstaltung/die-kunst-des-kuschelns-workshop/
LOCATION:Haus Lebenskraft\, Gutenbergstr. 30\, Potsdam\, Brandenburg\, 14467\, Germany
CATEGORIES:Öffentlich, Sonnenraum
ATTACH;FMTTYPE=image/png:https://staging.hauslebenskraft.de/wp-content/uploads/2026/02/kuscheln-workshop.png
ORGANIZER;CN="Florian Hollandt":MAILTO:florian.hollandt@gmail.com
END:VEVENT
END:VCALENDAR