BEGIN:VCALENDAR
VERSION:2.0
PRODID:-//Haus Lebenskraft - ECPv6.15.20//NONSGML v1.0//EN
CALSCALE:GREGORIAN
METHOD:PUBLISH
X-ORIGINAL-URL:https://staging.hauslebenskraft.de
X-WR-CALDESC:Veranstaltungen für Haus Lebenskraft
REFRESH-INTERVAL;VALUE=DURATION:PT1H
X-Robots-Tag:noindex
X-PUBLISHED-TTL:PT1H
BEGIN:VTIMEZONE
TZID:Europe/Berlin
BEGIN:DAYLIGHT
TZOFFSETFROM:+0100
TZOFFSETTO:+0200
TZNAME:CEST
DTSTART:20250330T010000
END:DAYLIGHT
BEGIN:STANDARD
TZOFFSETFROM:+0200
TZOFFSETTO:+0100
TZNAME:CET
DTSTART:20251026T010000
END:STANDARD
BEGIN:DAYLIGHT
TZOFFSETFROM:+0100
TZOFFSETTO:+0200
TZNAME:CEST
DTSTART:20260329T010000
END:DAYLIGHT
BEGIN:STANDARD
TZOFFSETFROM:+0200
TZOFFSETTO:+0100
TZNAME:CET
DTSTART:20261025T010000
END:STANDARD
BEGIN:DAYLIGHT
TZOFFSETFROM:+0100
TZOFFSETTO:+0200
TZNAME:CEST
DTSTART:20270328T010000
END:DAYLIGHT
BEGIN:STANDARD
TZOFFSETFROM:+0200
TZOFFSETTO:+0100
TZNAME:CET
DTSTART:20271031T010000
END:STANDARD
END:VTIMEZONE
BEGIN:VEVENT
DTSTART;TZID=Europe/Berlin:20260531T090000
DTEND;TZID=Europe/Berlin:20260531T110000
DTSTAMP:20260420T085923
CREATED:20250216T163358Z
LAST-MODIFIED:20260410T183447Z
UID:10025107-1780218000-1780225200@staging.hauslebenskraft.de
SUMMARY:Kundalini Yoga Workshop mit Klangtrance
DESCRIPTION:Kundalini-Yoga-Workshop mit Klangtrance \nKundalini-Yoga ist ein kraftvoller und äußerst schnell wirksamer Weg\, der unseren Geist und unseren Körper trainiert\, um eine höhere Schwingung zu erreichen\, unsere innere Energie aufzubauen und bewusst lenken zu lernen. Es erweckt dein Bewusstsein und bringt dich zu dir selbst zurück\, zu deiner dir eigenen Natur und deinem Ursprung in der Unendlichkeit. Deine eigene Erfahrung steht im Mittelpunkt. Sie geht direkt ins Herz und keine Worte könnten diese Erfahrung je ersetzen. \nAn diesem Tag starten wir mit ein paar Warm-up-Übungen\, setzen dann bewusst eine Intention und lassen uns durch eine bestimmte Kriya (Übungsreihe) führen. \nDu tauchst ein in die individuelle Erfahrung und lässt dich von deinem Atem und von Kundalini-Mantren in eine höhere Schwingung versetzen. So können deine Selbstheilungskräfte enorm gestärkt werden. Gestaute Energie kommt wieder in den Fluss\, besonders auch dann\, wenn du anschließend bei den sphärischen Klängen von Gong und Kristallschalen in eine tiefe Entspannung gleitest. Am Ende runden wir diese Reise mit einer wunderbaren Meditation ab. \nLässt du dich auf diese Erfahrungen ganz ein\, wirst du dich danach sicher wie neu geboren fühlen. Versuchen wir es! \nBitte melde dich bei Steffanie an: info@ananda-yoga-potsdam.com \nDein Beitrag: 25€ \n(Matten\, Decken\, Kissen\, Leitungswasser…ist alles vor Ort. Du brauchst einfach nur bequeme Sachen zum Bewegen und für die Entspannung auch etwas Wärmeres zum Drüberziehen. Es empfiehlt sich\, dass du erst nach dem Workshop richtig frühstückst.) \n  \n(Gemäß §19 Abs. 1 UStG Kleinunternehmerbesteuerung wird keine MwSt. ausgewiesen.)
URL:https://staging.hauslebenskraft.de/veranstaltung/kundalini-yoga-workshop-mit-steffanie/2026-05-31/
LOCATION:Haus Lebenskraft\, Gutenbergstr. 30\, Potsdam\, Brandenburg\, 14467\, Germany
CATEGORIES:Öffentlich, Sonnenraum
ATTACH;FMTTYPE=image/jpeg:https://staging.hauslebenskraft.de/wp-content/uploads/2025/02/Kundaliniyoga-mit-Mantren.jpg
ORGANIZER;CN="Steffanie Rosenhahn":MAILTO:ananda-yoga-potsdam@web.de
END:VEVENT
END:VCALENDAR