BEGIN:VCALENDAR
VERSION:2.0
PRODID:-//Haus Lebenskraft - ECPv6.15.20//NONSGML v1.0//EN
CALSCALE:GREGORIAN
METHOD:PUBLISH
X-WR-CALNAME:Haus Lebenskraft
X-ORIGINAL-URL:https://staging.hauslebenskraft.de
X-WR-CALDESC:Veranstaltungen für Haus Lebenskraft
REFRESH-INTERVAL;VALUE=DURATION:PT1H
X-Robots-Tag:noindex
X-PUBLISHED-TTL:PT1H
BEGIN:VTIMEZONE
TZID:Europe/Berlin
BEGIN:DAYLIGHT
TZOFFSETFROM:+0100
TZOFFSETTO:+0200
TZNAME:CEST
DTSTART:20250330T010000
END:DAYLIGHT
BEGIN:STANDARD
TZOFFSETFROM:+0200
TZOFFSETTO:+0100
TZNAME:CET
DTSTART:20251026T010000
END:STANDARD
BEGIN:DAYLIGHT
TZOFFSETFROM:+0100
TZOFFSETTO:+0200
TZNAME:CEST
DTSTART:20260329T010000
END:DAYLIGHT
BEGIN:STANDARD
TZOFFSETFROM:+0200
TZOFFSETTO:+0100
TZNAME:CET
DTSTART:20261025T010000
END:STANDARD
BEGIN:DAYLIGHT
TZOFFSETFROM:+0100
TZOFFSETTO:+0200
TZNAME:CEST
DTSTART:20270328T010000
END:DAYLIGHT
BEGIN:STANDARD
TZOFFSETFROM:+0200
TZOFFSETTO:+0100
TZNAME:CET
DTSTART:20271031T010000
END:STANDARD
END:VTIMEZONE
BEGIN:VEVENT
DTSTART;TZID=Europe/Berlin:20260304T113000
DTEND;TZID=Europe/Berlin:20260304T123000
DTSTAMP:20260422T235013
CREATED:20250515T094711Z
LAST-MODIFIED:20260228T222312Z
UID:10020240-1772623800-1772627400@staging.hauslebenskraft.de
SUMMARY:Pilates mit Selina
DESCRIPTION:Beim Pilates kannst du deinen Körper neu entdecken. Die Übungen stärken sowohl deine Körpermitte als auch dein Selbstbewusstsein.\nMeine Kurse sind mehr als nur ein Workout. Du lernst dich zu spüren\, achtsam und liebevoll mit dir umzugehen.\nPilates soll einen Zugang zu deinem Körper schaffen\, wo du dich sicher fühlst und gleichzeitig mehr über dich erfährst.10 Wochenkurs: 150 EUR\nEinzelstunde: 17 EUR\nProbestunde: 15 EUR\nDieser Kurs gilt als Präventionskurs und wird von gesetzlichen Krankenkassen bezuschusst. \nAnmeldung per Mail: selinakuehlwein@gmx.de\nWebsite: www.gestalttherapie-in-potsdam.de/körperarbeit-pilates\nBei Fragen auch gerne anrufen: 0171 98 68 712\n— \n 
URL:https://staging.hauslebenskraft.de/veranstaltung/pilates-mit-selina-3/2026-03-04/
LOCATION:Haus Lebenskraft\, Gutenbergstr. 30\, Potsdam\, Brandenburg\, 14467\, Germany
CATEGORIES:Öffentlich, Sonnenraum
ATTACH;FMTTYPE=image/jpeg:https://staging.hauslebenskraft.de/wp-content/uploads/2026/02/Pilatesbridge-1.jpg
END:VEVENT
BEGIN:VEVENT
DTSTART;TZID=Europe/Berlin:20260311T113000
DTEND;TZID=Europe/Berlin:20260311T123000
DTSTAMP:20260422T235013
CREATED:20250515T094711Z
LAST-MODIFIED:20260228T222312Z
UID:10020241-1773228600-1773232200@staging.hauslebenskraft.de
SUMMARY:Pilates mit Selina
DESCRIPTION:Beim Pilates kannst du deinen Körper neu entdecken. Die Übungen stärken sowohl deine Körpermitte als auch dein Selbstbewusstsein.\nMeine Kurse sind mehr als nur ein Workout. Du lernst dich zu spüren\, achtsam und liebevoll mit dir umzugehen.\nPilates soll einen Zugang zu deinem Körper schaffen\, wo du dich sicher fühlst und gleichzeitig mehr über dich erfährst.10 Wochenkurs: 150 EUR\nEinzelstunde: 17 EUR\nProbestunde: 15 EUR\nDieser Kurs gilt als Präventionskurs und wird von gesetzlichen Krankenkassen bezuschusst. \nAnmeldung per Mail: selinakuehlwein@gmx.de\nWebsite: www.gestalttherapie-in-potsdam.de/körperarbeit-pilates\nBei Fragen auch gerne anrufen: 0171 98 68 712\n— \n 
URL:https://staging.hauslebenskraft.de/veranstaltung/pilates-mit-selina-3/2026-03-11/
LOCATION:Haus Lebenskraft\, Gutenbergstr. 30\, Potsdam\, Brandenburg\, 14467\, Germany
CATEGORIES:Öffentlich, Sonnenraum
ATTACH;FMTTYPE=image/jpeg:https://staging.hauslebenskraft.de/wp-content/uploads/2026/02/Pilatesbridge-1.jpg
END:VEVENT
BEGIN:VEVENT
DTSTART;TZID=Europe/Berlin:20260318T113000
DTEND;TZID=Europe/Berlin:20260318T123000
DTSTAMP:20260422T235013
CREATED:20250515T094711Z
LAST-MODIFIED:20260228T222312Z
UID:10020242-1773833400-1773837000@staging.hauslebenskraft.de
SUMMARY:Pilates mit Selina
DESCRIPTION:Beim Pilates kannst du deinen Körper neu entdecken. Die Übungen stärken sowohl deine Körpermitte als auch dein Selbstbewusstsein.\nMeine Kurse sind mehr als nur ein Workout. Du lernst dich zu spüren\, achtsam und liebevoll mit dir umzugehen.\nPilates soll einen Zugang zu deinem Körper schaffen\, wo du dich sicher fühlst und gleichzeitig mehr über dich erfährst.10 Wochenkurs: 150 EUR\nEinzelstunde: 17 EUR\nProbestunde: 15 EUR\nDieser Kurs gilt als Präventionskurs und wird von gesetzlichen Krankenkassen bezuschusst. \nAnmeldung per Mail: selinakuehlwein@gmx.de\nWebsite: www.gestalttherapie-in-potsdam.de/körperarbeit-pilates\nBei Fragen auch gerne anrufen: 0171 98 68 712\n— \n 
URL:https://staging.hauslebenskraft.de/veranstaltung/pilates-mit-selina-3/2026-03-18/
LOCATION:Haus Lebenskraft\, Gutenbergstr. 30\, Potsdam\, Brandenburg\, 14467\, Germany
CATEGORIES:Öffentlich, Sonnenraum
ATTACH;FMTTYPE=image/jpeg:https://staging.hauslebenskraft.de/wp-content/uploads/2026/02/Pilatesbridge-1.jpg
END:VEVENT
BEGIN:VEVENT
DTSTART;TZID=Europe/Berlin:20260325T113000
DTEND;TZID=Europe/Berlin:20260325T123000
DTSTAMP:20260422T235013
CREATED:20250515T094711Z
LAST-MODIFIED:20260228T222312Z
UID:10022572-1774438200-1774441800@staging.hauslebenskraft.de
SUMMARY:Pilates mit Selina
DESCRIPTION:Beim Pilates kannst du deinen Körper neu entdecken. Die Übungen stärken sowohl deine Körpermitte als auch dein Selbstbewusstsein.\nMeine Kurse sind mehr als nur ein Workout. Du lernst dich zu spüren\, achtsam und liebevoll mit dir umzugehen.\nPilates soll einen Zugang zu deinem Körper schaffen\, wo du dich sicher fühlst und gleichzeitig mehr über dich erfährst.10 Wochenkurs: 150 EUR\nEinzelstunde: 17 EUR\nProbestunde: 15 EUR\nDieser Kurs gilt als Präventionskurs und wird von gesetzlichen Krankenkassen bezuschusst. \nAnmeldung per Mail: selinakuehlwein@gmx.de\nWebsite: www.gestalttherapie-in-potsdam.de/körperarbeit-pilates\nBei Fragen auch gerne anrufen: 0171 98 68 712\n— \n 
URL:https://staging.hauslebenskraft.de/veranstaltung/pilates-mit-selina-3/2026-03-25/
LOCATION:Haus Lebenskraft\, Gutenbergstr. 30\, Potsdam\, Brandenburg\, 14467\, Germany
CATEGORIES:Öffentlich, Sonnenraum
ATTACH;FMTTYPE=image/jpeg:https://staging.hauslebenskraft.de/wp-content/uploads/2026/02/Pilatesbridge-1.jpg
END:VEVENT
END:VCALENDAR