BEGIN:VCALENDAR
VERSION:2.0
PRODID:-//Haus Lebenskraft - ECPv6.15.20//NONSGML v1.0//EN
CALSCALE:GREGORIAN
METHOD:PUBLISH
X-WR-CALNAME:Haus Lebenskraft
X-ORIGINAL-URL:https://staging.hauslebenskraft.de
X-WR-CALDESC:Veranstaltungen für Haus Lebenskraft
REFRESH-INTERVAL;VALUE=DURATION:PT1H
X-Robots-Tag:noindex
X-PUBLISHED-TTL:PT1H
BEGIN:VTIMEZONE
TZID:Europe/Berlin
BEGIN:DAYLIGHT
TZOFFSETFROM:+0100
TZOFFSETTO:+0200
TZNAME:CEST
DTSTART:20250330T010000
END:DAYLIGHT
BEGIN:STANDARD
TZOFFSETFROM:+0200
TZOFFSETTO:+0100
TZNAME:CET
DTSTART:20251026T010000
END:STANDARD
BEGIN:DAYLIGHT
TZOFFSETFROM:+0100
TZOFFSETTO:+0200
TZNAME:CEST
DTSTART:20260329T010000
END:DAYLIGHT
BEGIN:STANDARD
TZOFFSETFROM:+0200
TZOFFSETTO:+0100
TZNAME:CET
DTSTART:20261025T010000
END:STANDARD
BEGIN:DAYLIGHT
TZOFFSETFROM:+0100
TZOFFSETTO:+0200
TZNAME:CEST
DTSTART:20270328T010000
END:DAYLIGHT
BEGIN:STANDARD
TZOFFSETFROM:+0200
TZOFFSETTO:+0100
TZNAME:CET
DTSTART:20271031T010000
END:STANDARD
END:VTIMEZONE
BEGIN:VEVENT
DTSTART;TZID=Europe/Berlin:20260302T161500
DTEND;TZID=Europe/Berlin:20260302T171500
DTSTAMP:20260421T003203
CREATED:20250221T155455Z
LAST-MODIFIED:20260228T222053Z
UID:10020222-1772468100-1772471700@staging.hauslebenskraft.de
SUMMARY:Pilates mit Selina
DESCRIPTION:Beim Pilates kannst du deinen Körper neu entdecken. Die Übungen stärken sowohl deine Körpermitte als auch dein Selbstbewusstsein.\nMeine Kurse sind mehr als nur ein Workout. Du lernst dich zu spüren\, achtsam und liebevoll mit dir umzugehen.\nPilates soll einen Zugang zu deinem Körper schaffen\, wo du dich sicher fühlst und gleichzeitig mehr über dich erfährst.10 Wochenkurs: 150 EUR\nEinzelstunde: 17 EUR\nProbestunde: 15 EUR\nDieser Kurs gilt als Präventionskurs und wird von gesetzlichen Krankenkassen bezuschusst. \nAnmeldung per Mail: selinakuehlwein@gmx.de\nWebsite: www.gestalttherapie-in-potsdam.de/körperarbeit-pilates\nBei Fragen auch gerne anrufen: 0171 98 68 712\n—
URL:https://staging.hauslebenskraft.de/veranstaltung/pilates-mit-selina/2026-03-02/
LOCATION:Haus Lebenskraft\, Gutenbergstr. 30\, Potsdam\, Brandenburg\, 14467\, Germany
CATEGORIES:Öffentlich, Raum der Erde
ATTACH;FMTTYPE=image/jpeg:https://staging.hauslebenskraft.de/wp-content/uploads/2026/02/Pilatesbridge-1.jpg
END:VEVENT
BEGIN:VEVENT
DTSTART;TZID=Europe/Berlin:20260302T173000
DTEND;TZID=Europe/Berlin:20260302T183000
DTSTAMP:20260421T003203
CREATED:20250221T160221Z
LAST-MODIFIED:20260228T222206Z
UID:10017796-1772472600-1772476200@staging.hauslebenskraft.de
SUMMARY:Pilates mit Selina
DESCRIPTION:Beim Pilates kannst du deinen Körper neu entdecken. Die Übungen stärken sowohl deine Körpermitte als auch dein Selbstbewusstsein.\nMeine Kurse sind mehr als nur ein Workout. Du lernst dich zu spüren\, achtsam und liebevoll mit dir umzugehen.\nPilates soll einen Zugang zu deinem Körper schaffen\, wo du dich sicher fühlst und gleichzeitig mehr über dich erfährst.10 Wochenkurs: 150 EUR\nEinzelstunde: 17 EUR\nProbestunde: 15 EUR\nDieser Kurs gilt als Präventionskurs und wird von gesetzlichen Krankenkassen bezuschusst. \nAnmeldung per Mail: selinakuehlwein@gmx.de\nWebsite: www.gestalttherapie-in-potsdam.de/körperarbeit-pilates\nBei Fragen auch gerne anrufen: 0171 98 68 712\n—
URL:https://staging.hauslebenskraft.de/veranstaltung/pilates-mit-selina-2/2026-03-02/
LOCATION:Haus Lebenskraft\, Gutenbergstr. 30\, Potsdam\, Brandenburg\, 14467\, Germany
CATEGORIES:Öffentlich, Raum der Erde
ATTACH;FMTTYPE=image/jpeg:https://staging.hauslebenskraft.de/wp-content/uploads/2026/02/Pilatesbridge-1.jpg
END:VEVENT
BEGIN:VEVENT
DTSTART;TZID=Europe/Berlin:20260309T161500
DTEND;TZID=Europe/Berlin:20260309T171500
DTSTAMP:20260421T003203
CREATED:20250221T155455Z
LAST-MODIFIED:20260228T222053Z
UID:10020223-1773072900-1773076500@staging.hauslebenskraft.de
SUMMARY:Pilates mit Selina
DESCRIPTION:Beim Pilates kannst du deinen Körper neu entdecken. Die Übungen stärken sowohl deine Körpermitte als auch dein Selbstbewusstsein.\nMeine Kurse sind mehr als nur ein Workout. Du lernst dich zu spüren\, achtsam und liebevoll mit dir umzugehen.\nPilates soll einen Zugang zu deinem Körper schaffen\, wo du dich sicher fühlst und gleichzeitig mehr über dich erfährst.10 Wochenkurs: 150 EUR\nEinzelstunde: 17 EUR\nProbestunde: 15 EUR\nDieser Kurs gilt als Präventionskurs und wird von gesetzlichen Krankenkassen bezuschusst. \nAnmeldung per Mail: selinakuehlwein@gmx.de\nWebsite: www.gestalttherapie-in-potsdam.de/körperarbeit-pilates\nBei Fragen auch gerne anrufen: 0171 98 68 712\n—
URL:https://staging.hauslebenskraft.de/veranstaltung/pilates-mit-selina/2026-03-09/
LOCATION:Haus Lebenskraft\, Gutenbergstr. 30\, Potsdam\, Brandenburg\, 14467\, Germany
CATEGORIES:Öffentlich, Raum der Erde
ATTACH;FMTTYPE=image/jpeg:https://staging.hauslebenskraft.de/wp-content/uploads/2026/02/Pilatesbridge-1.jpg
END:VEVENT
BEGIN:VEVENT
DTSTART;TZID=Europe/Berlin:20260309T173000
DTEND;TZID=Europe/Berlin:20260309T183000
DTSTAMP:20260421T003203
CREATED:20250221T160221Z
LAST-MODIFIED:20260228T222206Z
UID:10017797-1773077400-1773081000@staging.hauslebenskraft.de
SUMMARY:Pilates mit Selina
DESCRIPTION:Beim Pilates kannst du deinen Körper neu entdecken. Die Übungen stärken sowohl deine Körpermitte als auch dein Selbstbewusstsein.\nMeine Kurse sind mehr als nur ein Workout. Du lernst dich zu spüren\, achtsam und liebevoll mit dir umzugehen.\nPilates soll einen Zugang zu deinem Körper schaffen\, wo du dich sicher fühlst und gleichzeitig mehr über dich erfährst.10 Wochenkurs: 150 EUR\nEinzelstunde: 17 EUR\nProbestunde: 15 EUR\nDieser Kurs gilt als Präventionskurs und wird von gesetzlichen Krankenkassen bezuschusst. \nAnmeldung per Mail: selinakuehlwein@gmx.de\nWebsite: www.gestalttherapie-in-potsdam.de/körperarbeit-pilates\nBei Fragen auch gerne anrufen: 0171 98 68 712\n—
URL:https://staging.hauslebenskraft.de/veranstaltung/pilates-mit-selina-2/2026-03-09/
LOCATION:Haus Lebenskraft\, Gutenbergstr. 30\, Potsdam\, Brandenburg\, 14467\, Germany
CATEGORIES:Öffentlich, Raum der Erde
ATTACH;FMTTYPE=image/jpeg:https://staging.hauslebenskraft.de/wp-content/uploads/2026/02/Pilatesbridge-1.jpg
END:VEVENT
BEGIN:VEVENT
DTSTART;TZID=Europe/Berlin:20260316T161500
DTEND;TZID=Europe/Berlin:20260316T171500
DTSTAMP:20260421T003203
CREATED:20250221T155455Z
LAST-MODIFIED:20260228T222053Z
UID:10022095-1773677700-1773681300@staging.hauslebenskraft.de
SUMMARY:Pilates mit Selina
DESCRIPTION:Beim Pilates kannst du deinen Körper neu entdecken. Die Übungen stärken sowohl deine Körpermitte als auch dein Selbstbewusstsein.\nMeine Kurse sind mehr als nur ein Workout. Du lernst dich zu spüren\, achtsam und liebevoll mit dir umzugehen.\nPilates soll einen Zugang zu deinem Körper schaffen\, wo du dich sicher fühlst und gleichzeitig mehr über dich erfährst.10 Wochenkurs: 150 EUR\nEinzelstunde: 17 EUR\nProbestunde: 15 EUR\nDieser Kurs gilt als Präventionskurs und wird von gesetzlichen Krankenkassen bezuschusst. \nAnmeldung per Mail: selinakuehlwein@gmx.de\nWebsite: www.gestalttherapie-in-potsdam.de/körperarbeit-pilates\nBei Fragen auch gerne anrufen: 0171 98 68 712\n—
URL:https://staging.hauslebenskraft.de/veranstaltung/pilates-mit-selina/2026-03-16/
LOCATION:Haus Lebenskraft\, Gutenbergstr. 30\, Potsdam\, Brandenburg\, 14467\, Germany
CATEGORIES:Öffentlich, Raum der Erde
ATTACH;FMTTYPE=image/jpeg:https://staging.hauslebenskraft.de/wp-content/uploads/2026/02/Pilatesbridge-1.jpg
END:VEVENT
BEGIN:VEVENT
DTSTART;TZID=Europe/Berlin:20260316T173000
DTEND;TZID=Europe/Berlin:20260316T183000
DTSTAMP:20260421T003203
CREATED:20250221T160221Z
LAST-MODIFIED:20260228T222206Z
UID:10017798-1773682200-1773685800@staging.hauslebenskraft.de
SUMMARY:Pilates mit Selina
DESCRIPTION:Beim Pilates kannst du deinen Körper neu entdecken. Die Übungen stärken sowohl deine Körpermitte als auch dein Selbstbewusstsein.\nMeine Kurse sind mehr als nur ein Workout. Du lernst dich zu spüren\, achtsam und liebevoll mit dir umzugehen.\nPilates soll einen Zugang zu deinem Körper schaffen\, wo du dich sicher fühlst und gleichzeitig mehr über dich erfährst.10 Wochenkurs: 150 EUR\nEinzelstunde: 17 EUR\nProbestunde: 15 EUR\nDieser Kurs gilt als Präventionskurs und wird von gesetzlichen Krankenkassen bezuschusst. \nAnmeldung per Mail: selinakuehlwein@gmx.de\nWebsite: www.gestalttherapie-in-potsdam.de/körperarbeit-pilates\nBei Fragen auch gerne anrufen: 0171 98 68 712\n—
URL:https://staging.hauslebenskraft.de/veranstaltung/pilates-mit-selina-2/2026-03-16/
LOCATION:Haus Lebenskraft\, Gutenbergstr. 30\, Potsdam\, Brandenburg\, 14467\, Germany
CATEGORIES:Öffentlich, Raum der Erde
ATTACH;FMTTYPE=image/jpeg:https://staging.hauslebenskraft.de/wp-content/uploads/2026/02/Pilatesbridge-1.jpg
END:VEVENT
BEGIN:VEVENT
DTSTART;TZID=Europe/Berlin:20260323T161500
DTEND;TZID=Europe/Berlin:20260323T171500
DTSTAMP:20260421T003203
CREATED:20250221T155455Z
LAST-MODIFIED:20260228T222053Z
UID:10022096-1774282500-1774286100@staging.hauslebenskraft.de
SUMMARY:Pilates mit Selina
DESCRIPTION:Beim Pilates kannst du deinen Körper neu entdecken. Die Übungen stärken sowohl deine Körpermitte als auch dein Selbstbewusstsein.\nMeine Kurse sind mehr als nur ein Workout. Du lernst dich zu spüren\, achtsam und liebevoll mit dir umzugehen.\nPilates soll einen Zugang zu deinem Körper schaffen\, wo du dich sicher fühlst und gleichzeitig mehr über dich erfährst.10 Wochenkurs: 150 EUR\nEinzelstunde: 17 EUR\nProbestunde: 15 EUR\nDieser Kurs gilt als Präventionskurs und wird von gesetzlichen Krankenkassen bezuschusst. \nAnmeldung per Mail: selinakuehlwein@gmx.de\nWebsite: www.gestalttherapie-in-potsdam.de/körperarbeit-pilates\nBei Fragen auch gerne anrufen: 0171 98 68 712\n—
URL:https://staging.hauslebenskraft.de/veranstaltung/pilates-mit-selina/2026-03-23/
LOCATION:Haus Lebenskraft\, Gutenbergstr. 30\, Potsdam\, Brandenburg\, 14467\, Germany
CATEGORIES:Öffentlich, Raum der Erde
ATTACH;FMTTYPE=image/jpeg:https://staging.hauslebenskraft.de/wp-content/uploads/2026/02/Pilatesbridge-1.jpg
END:VEVENT
BEGIN:VEVENT
DTSTART;TZID=Europe/Berlin:20260323T173000
DTEND;TZID=Europe/Berlin:20260323T183000
DTSTAMP:20260421T003203
CREATED:20250221T160221Z
LAST-MODIFIED:20260228T222206Z
UID:10017799-1774287000-1774290600@staging.hauslebenskraft.de
SUMMARY:Pilates mit Selina
DESCRIPTION:Beim Pilates kannst du deinen Körper neu entdecken. Die Übungen stärken sowohl deine Körpermitte als auch dein Selbstbewusstsein.\nMeine Kurse sind mehr als nur ein Workout. Du lernst dich zu spüren\, achtsam und liebevoll mit dir umzugehen.\nPilates soll einen Zugang zu deinem Körper schaffen\, wo du dich sicher fühlst und gleichzeitig mehr über dich erfährst.10 Wochenkurs: 150 EUR\nEinzelstunde: 17 EUR\nProbestunde: 15 EUR\nDieser Kurs gilt als Präventionskurs und wird von gesetzlichen Krankenkassen bezuschusst. \nAnmeldung per Mail: selinakuehlwein@gmx.de\nWebsite: www.gestalttherapie-in-potsdam.de/körperarbeit-pilates\nBei Fragen auch gerne anrufen: 0171 98 68 712\n—
URL:https://staging.hauslebenskraft.de/veranstaltung/pilates-mit-selina-2/2026-03-23/
LOCATION:Haus Lebenskraft\, Gutenbergstr. 30\, Potsdam\, Brandenburg\, 14467\, Germany
CATEGORIES:Öffentlich, Raum der Erde
ATTACH;FMTTYPE=image/jpeg:https://staging.hauslebenskraft.de/wp-content/uploads/2026/02/Pilatesbridge-1.jpg
END:VEVENT
BEGIN:VEVENT
DTSTART;TZID=Europe/Berlin:20260330T161500
DTEND;TZID=Europe/Berlin:20260330T171500
DTSTAMP:20260421T003203
CREATED:20250221T155455Z
LAST-MODIFIED:20260228T222053Z
UID:10022097-1774887300-1774890900@staging.hauslebenskraft.de
SUMMARY:Pilates mit Selina
DESCRIPTION:Beim Pilates kannst du deinen Körper neu entdecken. Die Übungen stärken sowohl deine Körpermitte als auch dein Selbstbewusstsein.\nMeine Kurse sind mehr als nur ein Workout. Du lernst dich zu spüren\, achtsam und liebevoll mit dir umzugehen.\nPilates soll einen Zugang zu deinem Körper schaffen\, wo du dich sicher fühlst und gleichzeitig mehr über dich erfährst.10 Wochenkurs: 150 EUR\nEinzelstunde: 17 EUR\nProbestunde: 15 EUR\nDieser Kurs gilt als Präventionskurs und wird von gesetzlichen Krankenkassen bezuschusst. \nAnmeldung per Mail: selinakuehlwein@gmx.de\nWebsite: www.gestalttherapie-in-potsdam.de/körperarbeit-pilates\nBei Fragen auch gerne anrufen: 0171 98 68 712\n—
URL:https://staging.hauslebenskraft.de/veranstaltung/pilates-mit-selina/2026-03-30/
LOCATION:Haus Lebenskraft\, Gutenbergstr. 30\, Potsdam\, Brandenburg\, 14467\, Germany
CATEGORIES:Öffentlich, Raum der Erde
ATTACH;FMTTYPE=image/jpeg:https://staging.hauslebenskraft.de/wp-content/uploads/2026/02/Pilatesbridge-1.jpg
END:VEVENT
BEGIN:VEVENT
DTSTART;TZID=Europe/Berlin:20260330T173000
DTEND;TZID=Europe/Berlin:20260330T183000
DTSTAMP:20260421T003203
CREATED:20250221T160221Z
LAST-MODIFIED:20260228T222206Z
UID:10017800-1774891800-1774895400@staging.hauslebenskraft.de
SUMMARY:Pilates mit Selina
DESCRIPTION:Beim Pilates kannst du deinen Körper neu entdecken. Die Übungen stärken sowohl deine Körpermitte als auch dein Selbstbewusstsein.\nMeine Kurse sind mehr als nur ein Workout. Du lernst dich zu spüren\, achtsam und liebevoll mit dir umzugehen.\nPilates soll einen Zugang zu deinem Körper schaffen\, wo du dich sicher fühlst und gleichzeitig mehr über dich erfährst.10 Wochenkurs: 150 EUR\nEinzelstunde: 17 EUR\nProbestunde: 15 EUR\nDieser Kurs gilt als Präventionskurs und wird von gesetzlichen Krankenkassen bezuschusst. \nAnmeldung per Mail: selinakuehlwein@gmx.de\nWebsite: www.gestalttherapie-in-potsdam.de/körperarbeit-pilates\nBei Fragen auch gerne anrufen: 0171 98 68 712\n—
URL:https://staging.hauslebenskraft.de/veranstaltung/pilates-mit-selina-2/2026-03-30/
LOCATION:Haus Lebenskraft\, Gutenbergstr. 30\, Potsdam\, Brandenburg\, 14467\, Germany
CATEGORIES:Öffentlich, Raum der Erde
ATTACH;FMTTYPE=image/jpeg:https://staging.hauslebenskraft.de/wp-content/uploads/2026/02/Pilatesbridge-1.jpg
END:VEVENT
END:VCALENDAR