BEGIN:VCALENDAR
VERSION:2.0
PRODID:-//Haus Lebenskraft - ECPv6.15.20//NONSGML v1.0//EN
CALSCALE:GREGORIAN
METHOD:PUBLISH
X-WR-CALNAME:Haus Lebenskraft
X-ORIGINAL-URL:https://staging.hauslebenskraft.de
X-WR-CALDESC:Veranstaltungen für Haus Lebenskraft
REFRESH-INTERVAL;VALUE=DURATION:PT1H
X-Robots-Tag:noindex
X-PUBLISHED-TTL:PT1H
BEGIN:VTIMEZONE
TZID:Europe/Berlin
BEGIN:DAYLIGHT
TZOFFSETFROM:+0100
TZOFFSETTO:+0200
TZNAME:CEST
DTSTART:20240331T010000
END:DAYLIGHT
BEGIN:STANDARD
TZOFFSETFROM:+0200
TZOFFSETTO:+0100
TZNAME:CET
DTSTART:20241027T010000
END:STANDARD
BEGIN:DAYLIGHT
TZOFFSETFROM:+0100
TZOFFSETTO:+0200
TZNAME:CEST
DTSTART:20250330T010000
END:DAYLIGHT
BEGIN:STANDARD
TZOFFSETFROM:+0200
TZOFFSETTO:+0100
TZNAME:CET
DTSTART:20251026T010000
END:STANDARD
BEGIN:DAYLIGHT
TZOFFSETFROM:+0100
TZOFFSETTO:+0200
TZNAME:CEST
DTSTART:20260329T010000
END:DAYLIGHT
BEGIN:STANDARD
TZOFFSETFROM:+0200
TZOFFSETTO:+0100
TZNAME:CET
DTSTART:20261025T010000
END:STANDARD
END:VTIMEZONE
BEGIN:VEVENT
DTSTART;TZID=Europe/Berlin:20250707T170000
DTEND;TZID=Europe/Berlin:20250707T183000
DTSTAMP:20260421T063331
CREATED:20240718T075409Z
LAST-MODIFIED:20250814T095621Z
UID:10014622-1751907600-1751913000@staging.hauslebenskraft.de
SUMMARY:Holistic Hatha Yoga mit Steffi Mara
DESCRIPTION:Das Leuchten in dir selbst wieder entdecken. \nDas kannst du in diesem Yogakurs mit Steffi Mara. Du tauchst auf ganzheitliche Weise in die Welt des Hatha Yoga ein\, sodass du neben Kraft\, Bewegungsfreude\, Flexibilität und Koordination\, auch ein ausgeprägtes Körperbewusstsein entwickelst und Techniken in die Hand bekommst\, um den umherspringenden Geist zu beruhigen sowie tief zu entspannen.Mantren\, Klanginstrumente\, Affirmationen und Gesang lassen dich immer tiefer in dein Herz gehen. Körper\, Geist und Seele kommen wieder in ihre Balance. \nDeine Investition für jeweils einen 8-Wochen-Kurs: 120 €\n(Die Kursgebühr für diesen anerkannten Präventionskurs ist bei regelmäßiger Teilnahme anteilig von den meisten Krankenkassen erstattungsfähig.)\nEinzelstunden à 90 Min für 18 EUR sind bei freien Plätzen möglich.
URL:https://staging.hauslebenskraft.de/veranstaltung/holistic-hatha-yoga-mit-leichtigkeit-kraft-und-fuelle-10-2021-10-04-2021-10-25-3-3-2/2025-07-07/
LOCATION:Haus Lebenskraft\, Gutenbergstr. 30\, Potsdam\, Brandenburg\, 14467\, Germany
CATEGORIES:Öffentlich, Sonnenraum
ORGANIZER;CN="Steffanie Rosenhahn":MAILTO:ananda-yoga-potsdam@web.de
END:VEVENT
BEGIN:VEVENT
DTSTART;TZID=Europe/Berlin:20250714T170000
DTEND;TZID=Europe/Berlin:20250714T183000
DTSTAMP:20260421T063331
CREATED:20240718T075409Z
LAST-MODIFIED:20250814T095621Z
UID:10014623-1752512400-1752517800@staging.hauslebenskraft.de
SUMMARY:Holistic Hatha Yoga mit Steffi Mara
DESCRIPTION:Das Leuchten in dir selbst wieder entdecken. \nDas kannst du in diesem Yogakurs mit Steffi Mara. Du tauchst auf ganzheitliche Weise in die Welt des Hatha Yoga ein\, sodass du neben Kraft\, Bewegungsfreude\, Flexibilität und Koordination\, auch ein ausgeprägtes Körperbewusstsein entwickelst und Techniken in die Hand bekommst\, um den umherspringenden Geist zu beruhigen sowie tief zu entspannen.Mantren\, Klanginstrumente\, Affirmationen und Gesang lassen dich immer tiefer in dein Herz gehen. Körper\, Geist und Seele kommen wieder in ihre Balance. \nDeine Investition für jeweils einen 8-Wochen-Kurs: 120 €\n(Die Kursgebühr für diesen anerkannten Präventionskurs ist bei regelmäßiger Teilnahme anteilig von den meisten Krankenkassen erstattungsfähig.)\nEinzelstunden à 90 Min für 18 EUR sind bei freien Plätzen möglich.
URL:https://staging.hauslebenskraft.de/veranstaltung/holistic-hatha-yoga-mit-leichtigkeit-kraft-und-fuelle-10-2021-10-04-2021-10-25-3-3-2/2025-07-14/
LOCATION:Haus Lebenskraft\, Gutenbergstr. 30\, Potsdam\, Brandenburg\, 14467\, Germany
CATEGORIES:Öffentlich, Sonnenraum
ORGANIZER;CN="Steffanie Rosenhahn":MAILTO:ananda-yoga-potsdam@web.de
END:VEVENT
BEGIN:VEVENT
DTSTART;TZID=Europe/Berlin:20250721T170000
DTEND;TZID=Europe/Berlin:20250721T183000
DTSTAMP:20260421T063331
CREATED:20240718T075409Z
LAST-MODIFIED:20250814T095621Z
UID:10014624-1753117200-1753122600@staging.hauslebenskraft.de
SUMMARY:Holistic Hatha Yoga mit Steffi Mara
DESCRIPTION:Das Leuchten in dir selbst wieder entdecken. \nDas kannst du in diesem Yogakurs mit Steffi Mara. Du tauchst auf ganzheitliche Weise in die Welt des Hatha Yoga ein\, sodass du neben Kraft\, Bewegungsfreude\, Flexibilität und Koordination\, auch ein ausgeprägtes Körperbewusstsein entwickelst und Techniken in die Hand bekommst\, um den umherspringenden Geist zu beruhigen sowie tief zu entspannen.Mantren\, Klanginstrumente\, Affirmationen und Gesang lassen dich immer tiefer in dein Herz gehen. Körper\, Geist und Seele kommen wieder in ihre Balance. \nDeine Investition für jeweils einen 8-Wochen-Kurs: 120 €\n(Die Kursgebühr für diesen anerkannten Präventionskurs ist bei regelmäßiger Teilnahme anteilig von den meisten Krankenkassen erstattungsfähig.)\nEinzelstunden à 90 Min für 18 EUR sind bei freien Plätzen möglich.
URL:https://staging.hauslebenskraft.de/veranstaltung/holistic-hatha-yoga-mit-leichtigkeit-kraft-und-fuelle-10-2021-10-04-2021-10-25-3-3-2/2025-07-21/
LOCATION:Haus Lebenskraft\, Gutenbergstr. 30\, Potsdam\, Brandenburg\, 14467\, Germany
CATEGORIES:Öffentlich, Sonnenraum
ORGANIZER;CN="Steffanie Rosenhahn":MAILTO:ananda-yoga-potsdam@web.de
END:VEVENT
END:VCALENDAR