BEGIN:VCALENDAR
VERSION:2.0
PRODID:-//Haus Lebenskraft - ECPv6.15.20//NONSGML v1.0//EN
CALSCALE:GREGORIAN
METHOD:PUBLISH
X-ORIGINAL-URL:https://staging.hauslebenskraft.de
X-WR-CALDESC:Veranstaltungen für Haus Lebenskraft
REFRESH-INTERVAL;VALUE=DURATION:PT1H
X-Robots-Tag:noindex
X-PUBLISHED-TTL:PT1H
BEGIN:VTIMEZONE
TZID:Europe/Berlin
BEGIN:DAYLIGHT
TZOFFSETFROM:+0100
TZOFFSETTO:+0200
TZNAME:CEST
DTSTART:20250330T010000
END:DAYLIGHT
BEGIN:STANDARD
TZOFFSETFROM:+0200
TZOFFSETTO:+0100
TZNAME:CET
DTSTART:20251026T010000
END:STANDARD
BEGIN:DAYLIGHT
TZOFFSETFROM:+0100
TZOFFSETTO:+0200
TZNAME:CEST
DTSTART:20260329T010000
END:DAYLIGHT
BEGIN:STANDARD
TZOFFSETFROM:+0200
TZOFFSETTO:+0100
TZNAME:CET
DTSTART:20261025T010000
END:STANDARD
BEGIN:DAYLIGHT
TZOFFSETFROM:+0100
TZOFFSETTO:+0200
TZNAME:CEST
DTSTART:20270328T010000
END:DAYLIGHT
BEGIN:STANDARD
TZOFFSETFROM:+0200
TZOFFSETTO:+0100
TZNAME:CET
DTSTART:20271031T010000
END:STANDARD
END:VTIMEZONE
BEGIN:VEVENT
DTSTART;TZID=Europe/Berlin:20260508T180000
DTEND;TZID=Europe/Berlin:20260508T223000
DTSTAMP:20260423T051419
CREATED:20260226T083926Z
LAST-MODIFIED:20260310T165610Z
UID:10025166-1778263200-1778279400@staging.hauslebenskraft.de
SUMMARY:Frühlingsfest 2026
DESCRIPTION:Wir feiern mit euch!\nJetzt ist es wieder so weit. Das Haus Lebenskraft lädt euch alle zum Frühlingsfest 2026 ein. Wir öffnen alle Räume für ein wunderbares Miteinander. Bringt bitte wie immer etwas Leckeres für das Buffet mit\, auch Instrumente und Ideen für die Gestaltung des Abends. Es liegt auch in eurer Hand\, was geschieht. Wir werden singen\, tanzen\, musizieren und uns natürlich nach Herzenslust miteinander austauschen. \nBeginn ist 18 Uhr. \nGanz liebe Grüße vom Haus Lebenskraft Team
URL:https://staging.hauslebenskraft.de/veranstaltung/fruehlingsfest-2/
LOCATION:Haus Lebenskraft\, Gutenbergstr. 30\, Potsdam\, Brandenburg\, 14467\, Germany
CATEGORIES:Öffentlich, Raum der Erde,Öffentlich, Sonnenraum,Öffentlich, Therapieraum
ATTACH;FMTTYPE=image/jpeg:https://staging.hauslebenskraft.de/wp-content/uploads/2026/02/Fruehlingsfest-2026.jpg
ORGANIZER;CN="Haus Lebenskraft":MAILTO:willkommen@hauslebenskraft.de
END:VEVENT
END:VCALENDAR