BEGIN:VCALENDAR
VERSION:2.0
PRODID:-//Haus Lebenskraft - ECPv6.15.20//NONSGML v1.0//EN
CALSCALE:GREGORIAN
METHOD:PUBLISH
X-ORIGINAL-URL:https://staging.hauslebenskraft.de
X-WR-CALDESC:Veranstaltungen für Haus Lebenskraft
REFRESH-INTERVAL;VALUE=DURATION:PT1H
X-Robots-Tag:noindex
X-PUBLISHED-TTL:PT1H
BEGIN:VTIMEZONE
TZID:Europe/Berlin
BEGIN:DAYLIGHT
TZOFFSETFROM:+0100
TZOFFSETTO:+0200
TZNAME:CEST
DTSTART:20270328T010000
END:DAYLIGHT
BEGIN:STANDARD
TZOFFSETFROM:+0200
TZOFFSETTO:+0100
TZNAME:CET
DTSTART:20271031T010000
END:STANDARD
BEGIN:DAYLIGHT
TZOFFSETFROM:+0100
TZOFFSETTO:+0200
TZNAME:CEST
DTSTART:20280326T010000
END:DAYLIGHT
BEGIN:STANDARD
TZOFFSETFROM:+0200
TZOFFSETTO:+0100
TZNAME:CET
DTSTART:20281029T010000
END:STANDARD
BEGIN:DAYLIGHT
TZOFFSETFROM:+0100
TZOFFSETTO:+0200
TZNAME:CEST
DTSTART:20290325T010000
END:DAYLIGHT
BEGIN:STANDARD
TZOFFSETFROM:+0200
TZOFFSETTO:+0100
TZNAME:CET
DTSTART:20291028T010000
END:STANDARD
END:VTIMEZONE
BEGIN:VEVENT
DTSTART;TZID=Europe/Berlin:20280201T190000
DTEND;TZID=Europe/Berlin:20280201T203000
DTSTAMP:20260425T043645
CREATED:20250719T134131Z
LAST-MODIFIED:20260202T133217Z
UID:10021178-1833044400-1833049800@staging.hauslebenskraft.de
SUMMARY:Neuer Yogakurs für Anfänger und Fortgeschrittene
DESCRIPTION:Eine intensive Yoga-Einheit pro Woche reicht aus\, um unseren Körper bewusster wahrzunehmen\, sowie um Kraft\, Flexibilität und Koordination merklich aufzubauen. Wir erinnern uns daran\, dass wir Entspannung und Wohlgefühl jederzeit und fast an jedem Ort herbeirufen können und erlernen einfache und belebende Übungen\, mit denen wir selbständig unsere Gesundheit und Lebendigkeit aufrechterhalten.\nEin Platz ist noch frei. Wenn du möchtest\, bist du herzlich eingeladen\, im Kreis einer kleinen wohlgelaunten Gruppe einmal wöchentlich Inspiration und Entspannung zu tanken. \nDer ganze Kurs kostet 150\,00 Euro\, die sporadische Einzelstunde 19 Euro. \nAnmeldung unter 01520 77777 48\nJudith.rauxloh@gmx.de\noder über www.lebenswerkstatt-potsdam.de \nJudith\, Yogalehrerin BYV
URL:https://staging.hauslebenskraft.de/veranstaltung/hatha-yoga-mit-judith-4-2-4-2/2028-02-01/
LOCATION:Haus Lebenskraft\, Gutenbergstr. 30\, Potsdam\, Brandenburg\, 14467\, Germany
CATEGORIES:Öffentlich, Raum der Erde
ATTACH;FMTTYPE=image/jpeg:https://staging.hauslebenskraft.de/wp-content/uploads/2025/07/Yogakurs-fuer-Anfaenger-und-Fortgeschrittene.jpg
ORGANIZER;CN="Judith Rauxloh":MAILTO:judith.rauxloh@gmx.de
END:VEVENT
BEGIN:VEVENT
DTSTART;TZID=Europe/Berlin:20280202T180000
DTEND;TZID=Europe/Berlin:20280202T203000
DTSTAMP:20260425T043645
CREATED:20260127T164029Z
LAST-MODIFIED:20260202T142233Z
UID:10023508-1833127200-1833136200@staging.hauslebenskraft.de
SUMMARY:Visionen für die Neue Zeit
DESCRIPTION:Gesprächskreis für die Neue Zeit\nfür wache Menschen mit Frank \n 
URL:https://staging.hauslebenskraft.de/veranstaltung/visionen-fuer-die-neue-zeit-2-2/2028-02-02/
LOCATION:Haus Lebenskraft\, Gutenbergstr. 30\, Potsdam\, Brandenburg\, 14467\, Germany
CATEGORIES:Öffentlich, Sonnenraum
ATTACH;FMTTYPE=image/jpeg:https://staging.hauslebenskraft.de/wp-content/uploads/2026/02/Visionen_fuer_die_Neue_Zeit_Frank_Ritschel_Haus_Lebenskraft_Potsdam-1.jpg
ORGANIZER;CN="Frank Ritschel":MAILTO:frank@hauslebenskraft.de
END:VEVENT
BEGIN:VEVENT
DTSTART;TZID=Europe/Berlin:20280208T190000
DTEND;TZID=Europe/Berlin:20280208T203000
DTSTAMP:20260425T043645
CREATED:20250719T134131Z
LAST-MODIFIED:20260202T133217Z
UID:10021179-1833649200-1833654600@staging.hauslebenskraft.de
SUMMARY:Neuer Yogakurs für Anfänger und Fortgeschrittene
DESCRIPTION:Eine intensive Yoga-Einheit pro Woche reicht aus\, um unseren Körper bewusster wahrzunehmen\, sowie um Kraft\, Flexibilität und Koordination merklich aufzubauen. Wir erinnern uns daran\, dass wir Entspannung und Wohlgefühl jederzeit und fast an jedem Ort herbeirufen können und erlernen einfache und belebende Übungen\, mit denen wir selbständig unsere Gesundheit und Lebendigkeit aufrechterhalten.\nEin Platz ist noch frei. Wenn du möchtest\, bist du herzlich eingeladen\, im Kreis einer kleinen wohlgelaunten Gruppe einmal wöchentlich Inspiration und Entspannung zu tanken. \nDer ganze Kurs kostet 150\,00 Euro\, die sporadische Einzelstunde 19 Euro. \nAnmeldung unter 01520 77777 48\nJudith.rauxloh@gmx.de\noder über www.lebenswerkstatt-potsdam.de \nJudith\, Yogalehrerin BYV
URL:https://staging.hauslebenskraft.de/veranstaltung/hatha-yoga-mit-judith-4-2-4-2/2028-02-08/
LOCATION:Haus Lebenskraft\, Gutenbergstr. 30\, Potsdam\, Brandenburg\, 14467\, Germany
CATEGORIES:Öffentlich, Raum der Erde
ATTACH;FMTTYPE=image/jpeg:https://staging.hauslebenskraft.de/wp-content/uploads/2025/07/Yogakurs-fuer-Anfaenger-und-Fortgeschrittene.jpg
ORGANIZER;CN="Judith Rauxloh":MAILTO:judith.rauxloh@gmx.de
END:VEVENT
BEGIN:VEVENT
DTSTART;TZID=Europe/Berlin:20280215T190000
DTEND;TZID=Europe/Berlin:20280215T203000
DTSTAMP:20260425T043645
CREATED:20250719T134131Z
LAST-MODIFIED:20260202T133217Z
UID:10021180-1834254000-1834259400@staging.hauslebenskraft.de
SUMMARY:Neuer Yogakurs für Anfänger und Fortgeschrittene
DESCRIPTION:Eine intensive Yoga-Einheit pro Woche reicht aus\, um unseren Körper bewusster wahrzunehmen\, sowie um Kraft\, Flexibilität und Koordination merklich aufzubauen. Wir erinnern uns daran\, dass wir Entspannung und Wohlgefühl jederzeit und fast an jedem Ort herbeirufen können und erlernen einfache und belebende Übungen\, mit denen wir selbständig unsere Gesundheit und Lebendigkeit aufrechterhalten.\nEin Platz ist noch frei. Wenn du möchtest\, bist du herzlich eingeladen\, im Kreis einer kleinen wohlgelaunten Gruppe einmal wöchentlich Inspiration und Entspannung zu tanken. \nDer ganze Kurs kostet 150\,00 Euro\, die sporadische Einzelstunde 19 Euro. \nAnmeldung unter 01520 77777 48\nJudith.rauxloh@gmx.de\noder über www.lebenswerkstatt-potsdam.de \nJudith\, Yogalehrerin BYV
URL:https://staging.hauslebenskraft.de/veranstaltung/hatha-yoga-mit-judith-4-2-4-2/2028-02-15/
LOCATION:Haus Lebenskraft\, Gutenbergstr. 30\, Potsdam\, Brandenburg\, 14467\, Germany
CATEGORIES:Öffentlich, Raum der Erde
ATTACH;FMTTYPE=image/jpeg:https://staging.hauslebenskraft.de/wp-content/uploads/2025/07/Yogakurs-fuer-Anfaenger-und-Fortgeschrittene.jpg
ORGANIZER;CN="Judith Rauxloh":MAILTO:judith.rauxloh@gmx.de
END:VEVENT
BEGIN:VEVENT
DTSTART;TZID=Europe/Berlin:20280222T190000
DTEND;TZID=Europe/Berlin:20280222T203000
DTSTAMP:20260425T043645
CREATED:20250719T134131Z
LAST-MODIFIED:20260202T133217Z
UID:10021181-1834858800-1834864200@staging.hauslebenskraft.de
SUMMARY:Neuer Yogakurs für Anfänger und Fortgeschrittene
DESCRIPTION:Eine intensive Yoga-Einheit pro Woche reicht aus\, um unseren Körper bewusster wahrzunehmen\, sowie um Kraft\, Flexibilität und Koordination merklich aufzubauen. Wir erinnern uns daran\, dass wir Entspannung und Wohlgefühl jederzeit und fast an jedem Ort herbeirufen können und erlernen einfache und belebende Übungen\, mit denen wir selbständig unsere Gesundheit und Lebendigkeit aufrechterhalten.\nEin Platz ist noch frei. Wenn du möchtest\, bist du herzlich eingeladen\, im Kreis einer kleinen wohlgelaunten Gruppe einmal wöchentlich Inspiration und Entspannung zu tanken. \nDer ganze Kurs kostet 150\,00 Euro\, die sporadische Einzelstunde 19 Euro. \nAnmeldung unter 01520 77777 48\nJudith.rauxloh@gmx.de\noder über www.lebenswerkstatt-potsdam.de \nJudith\, Yogalehrerin BYV
URL:https://staging.hauslebenskraft.de/veranstaltung/hatha-yoga-mit-judith-4-2-4-2/2028-02-22/
LOCATION:Haus Lebenskraft\, Gutenbergstr. 30\, Potsdam\, Brandenburg\, 14467\, Germany
CATEGORIES:Öffentlich, Raum der Erde
ATTACH;FMTTYPE=image/jpeg:https://staging.hauslebenskraft.de/wp-content/uploads/2025/07/Yogakurs-fuer-Anfaenger-und-Fortgeschrittene.jpg
ORGANIZER;CN="Judith Rauxloh":MAILTO:judith.rauxloh@gmx.de
END:VEVENT
BEGIN:VEVENT
DTSTART;TZID=Europe/Berlin:20280229T190000
DTEND;TZID=Europe/Berlin:20280229T203000
DTSTAMP:20260425T043645
CREATED:20250719T134131Z
LAST-MODIFIED:20260202T133217Z
UID:10021182-1835463600-1835469000@staging.hauslebenskraft.de
SUMMARY:Neuer Yogakurs für Anfänger und Fortgeschrittene
DESCRIPTION:Eine intensive Yoga-Einheit pro Woche reicht aus\, um unseren Körper bewusster wahrzunehmen\, sowie um Kraft\, Flexibilität und Koordination merklich aufzubauen. Wir erinnern uns daran\, dass wir Entspannung und Wohlgefühl jederzeit und fast an jedem Ort herbeirufen können und erlernen einfache und belebende Übungen\, mit denen wir selbständig unsere Gesundheit und Lebendigkeit aufrechterhalten.\nEin Platz ist noch frei. Wenn du möchtest\, bist du herzlich eingeladen\, im Kreis einer kleinen wohlgelaunten Gruppe einmal wöchentlich Inspiration und Entspannung zu tanken. \nDer ganze Kurs kostet 150\,00 Euro\, die sporadische Einzelstunde 19 Euro. \nAnmeldung unter 01520 77777 48\nJudith.rauxloh@gmx.de\noder über www.lebenswerkstatt-potsdam.de \nJudith\, Yogalehrerin BYV
URL:https://staging.hauslebenskraft.de/veranstaltung/hatha-yoga-mit-judith-4-2-4-2/2028-02-29/
LOCATION:Haus Lebenskraft\, Gutenbergstr. 30\, Potsdam\, Brandenburg\, 14467\, Germany
CATEGORIES:Öffentlich, Raum der Erde
ATTACH;FMTTYPE=image/jpeg:https://staging.hauslebenskraft.de/wp-content/uploads/2025/07/Yogakurs-fuer-Anfaenger-und-Fortgeschrittene.jpg
ORGANIZER;CN="Judith Rauxloh":MAILTO:judith.rauxloh@gmx.de
END:VEVENT
END:VCALENDAR