BEGIN:VCALENDAR
VERSION:2.0
PRODID:-//Haus Lebenskraft - ECPv6.15.20//NONSGML v1.0//EN
CALSCALE:GREGORIAN
METHOD:PUBLISH
X-ORIGINAL-URL:https://staging.hauslebenskraft.de
X-WR-CALDESC:Veranstaltungen für Haus Lebenskraft
REFRESH-INTERVAL;VALUE=DURATION:PT1H
X-Robots-Tag:noindex
X-PUBLISHED-TTL:PT1H
BEGIN:VTIMEZONE
TZID:Europe/Berlin
BEGIN:DAYLIGHT
TZOFFSETFROM:+0100
TZOFFSETTO:+0200
TZNAME:CEST
DTSTART:20250330T010000
END:DAYLIGHT
BEGIN:STANDARD
TZOFFSETFROM:+0200
TZOFFSETTO:+0100
TZNAME:CET
DTSTART:20251026T010000
END:STANDARD
BEGIN:DAYLIGHT
TZOFFSETFROM:+0100
TZOFFSETTO:+0200
TZNAME:CEST
DTSTART:20260329T010000
END:DAYLIGHT
BEGIN:STANDARD
TZOFFSETFROM:+0200
TZOFFSETTO:+0100
TZNAME:CET
DTSTART:20261025T010000
END:STANDARD
BEGIN:DAYLIGHT
TZOFFSETFROM:+0100
TZOFFSETTO:+0200
TZNAME:CEST
DTSTART:20270328T010000
END:DAYLIGHT
BEGIN:STANDARD
TZOFFSETFROM:+0200
TZOFFSETTO:+0100
TZNAME:CET
DTSTART:20271031T010000
END:STANDARD
END:VTIMEZONE
BEGIN:VEVENT
DTSTART;TZID=Europe/Berlin:20260531T100000
DTEND;TZID=Europe/Berlin:20260531T190000
DTSTAMP:20260422T193238
CREATED:20260217T110212Z
LAST-MODIFIED:20260416T193703Z
UID:10025110-1780221600-1780254000@staging.hauslebenskraft.de
SUMMARY:Gelassenheit und innere Kraft für eine bessere Lebensqualität
DESCRIPTION:Unsere Veranstaltungsreihe lässt dich tief eintauchen in eine liebevolle Kommunikation und Feinfühligkeit mit dir selbst – für Wohlgefühl und Sanftheit\, für inneres Verbunden-Sein. \nbeschützt – behütet- geborgen – genährt \nUm anzufangen zu lieben\nbrauchst du keine andere Person.\nDu kannst mit dir selbst beginnen. \nThich Nhat Hanh \nEs kann uns gelingen\, in einem hektischen Alltag zu Ruhe\, Klarheit und Wohlgefühl zu finden. \nWie das möglich ist\, zeigen wir in unserer Veranstaltungsreihe nicht nur auf\, sondern lassen es erfahrbar werden.\nEs geht um den Mut\, die eigene innere Stimme aufzuspüren und ihr zu folgen.\n \nTagesablauf am 31.05.2026 \n– Anfangsrunde auf Grundlagen der friedfertigen Kommunikationsform „Council“ \n– Meditationsübung zum Thema „Schutz und Geborgenheit“ \n– Inhaltlicher Input anhand anschaulicher Grafiken \n– Übung zum Beobachten statt Bewerten mit anschließendem Austausch \n– Mittagspause\n\n– Auflockernde Übung \n– Erfahrungsprozess – Selbstmitgefühl entdecken \n– Beruhigende Erfahrung \n– Erfüllte und unerfüllte Bedürfnisse erforschen \n– Übung: Ein Geschenk an uns selbst \n– Abschlussrunde \nBitte denkt an einen Imbiss für euch für die Mittagspause und warme Socken oder Hausschuhe.\nFür Tee\, Wasser und Snacks in den Pausen ist gesorgt\, eine Kaffeemaschine steht mit verschiedenen Geschmackskapseln gegen Gebühr zur Verfügung. \n„Wir können den Wind nicht ändern\, \naber wir können die Segel richtig setzen.“ \n                                                     Aristoteles \nWichtig ist die Verbundenheit mit uns selbst. Wenn wir uns mit Liebe selbst umsorgen\, taucht oftmals etwas auf\, was wir nicht so gerne sehen und fühlen wollen. Am 19.09. und 20.09.26 geht es um den Umgang mit schwierigen Gefühlen und Konflikten. Wie kann es uns gelingen\, in der eigenen Mitte zentriert zu bleiben? \nThematik \n– innig leben (unsere Grundwerte entdecken)\n– den verborgenen Wert des Leids entdecken\n– weicher werden – umsorgen – zulassen (Thema: Scham)\n– herausfordernde Beziehungen\n– der Schmerz der Unverbundenheit\n– dein Leben umarmen \nVeranstalterinnen: \nDani Liebe https://lifecoaching-liebe.de\nEva-Maria Zander https://evamariazander.de \n  \nhttps://youtube.com/shorts/JiyQxFqcoPo \n\nAnmeldung:  Jetzt@AufstehenInDerWeiblichkeit.de\n\nAusgleich:\n165 Euro für den 31.05. sowie für den 19. / 20.09.\n300 Euro bei Buchung der Veranstaltungsreihe\n(s. Teilnehmerkonditionen auf der Homepage https://evamariazander.de) \nLiteratur:\nZander\, Eva-Maria\, (2022) Aufstehen in der Weiblichkeit\, wie Frau und Mann Seele\, Herz und Mitgefühl ins Leben bringen\, Verlag Neue Erde \n\nE-Mail:\nJetzt@AufstehenInDerWeiblichkeit.de \nTelefon:\n0151 41278417 \nLink zur Veranstaltung auf eigener Webseite: \nhttps://evamariazander.de/veranstaltungen\nhttps://www.lifecoaching-liebe.de/seminare/ \n 
URL:https://staging.hauslebenskraft.de/veranstaltung/gelassenheit-und-innere-kraft-fuer-eine-bessere-lebensqualitaet/2026-05-31/
LOCATION:Haus Lebenskraft\, Gutenbergstr. 30\, Potsdam\, Brandenburg\, 14467\, Germany
CATEGORIES:Öffentlich, Therapieraum
ATTACH;FMTTYPE=image/png:https://staging.hauslebenskraft.de/wp-content/uploads/2026/02/Foto-fuer-31.5.png
ORGANIZER;CN="Eva Maria Zander":MAILTO:ichbin@evamariazander.de
END:VEVENT
END:VCALENDAR