BEGIN:VCALENDAR
VERSION:2.0
PRODID:-//Haus Lebenskraft - ECPv6.15.20//NONSGML v1.0//EN
CALSCALE:GREGORIAN
METHOD:PUBLISH
X-WR-CALNAME:Haus Lebenskraft
X-ORIGINAL-URL:https://staging.hauslebenskraft.de
X-WR-CALDESC:Veranstaltungen für Haus Lebenskraft
REFRESH-INTERVAL;VALUE=DURATION:PT1H
X-Robots-Tag:noindex
X-PUBLISHED-TTL:PT1H
BEGIN:VTIMEZONE
TZID:Europe/Berlin
BEGIN:DAYLIGHT
TZOFFSETFROM:+0100
TZOFFSETTO:+0200
TZNAME:CEST
DTSTART:20250330T010000
END:DAYLIGHT
BEGIN:STANDARD
TZOFFSETFROM:+0200
TZOFFSETTO:+0100
TZNAME:CET
DTSTART:20251026T010000
END:STANDARD
BEGIN:DAYLIGHT
TZOFFSETFROM:+0100
TZOFFSETTO:+0200
TZNAME:CEST
DTSTART:20260329T010000
END:DAYLIGHT
BEGIN:STANDARD
TZOFFSETFROM:+0200
TZOFFSETTO:+0100
TZNAME:CET
DTSTART:20261025T010000
END:STANDARD
BEGIN:DAYLIGHT
TZOFFSETFROM:+0100
TZOFFSETTO:+0200
TZNAME:CEST
DTSTART:20270328T010000
END:DAYLIGHT
BEGIN:STANDARD
TZOFFSETFROM:+0200
TZOFFSETTO:+0100
TZNAME:CET
DTSTART:20271031T010000
END:STANDARD
END:VTIMEZONE
BEGIN:VEVENT
DTSTART;TZID=Europe/Berlin:20260303T190000
DTEND;TZID=Europe/Berlin:20260303T203000
DTSTAMP:20260420T061634
CREATED:20260119T174100Z
LAST-MODIFIED:20260202T142118Z
UID:10024512-1772564400-1772569800@staging.hauslebenskraft.de
SUMMARY:Lokale EM-Gruppe nach Gopal Norbert Klein
DESCRIPTION:  \n12-Wochen-Kurs für Neu- & Wiedereinsteiger \nDiese lokale EM-Gruppe richtet sich an Menschen\, die Ehrliches Mitteilen (EM) neu kennenlernen oder ihre bisherige Praxis vertiefen möchten – in einem konstanten\, sicheren Rahmen mit kleiner Gruppengröße. \nWir üben EM regelmäßig in der Gruppe und ergänzen die Praxis durch verständliche Impulse zu Entwicklungs- und Bindungstrauma. Der Schwerpunkt liegt auf der Arbeit von Gopal Norbert Klein\, ergänzt durch ausgewählte Inhalte anderer Quellen\, die das Verständnis für traumabedingte Prozesse vertiefen und Ansätze zur Lösung aufzeigen. \n⸻ \nWas dich erwartet \n•Regelmäßige EM-Praxis in der Gruppe \n•Stärkung von Selbstwahrnehmung\, Präsenz & Nervensystem-Regulation \n•Einordnung von Trauma-Zusammenhängen \n•Raum für Austausch\, Fragen und gemeinsames Lernen \nNach dem Kurs bist du befähigt \n•Ehrliches Mitteilen sicher\, klar und korrekt anzuwenden \n•EM selbstständig in der Gruppe oder mit dem eigenen Partner / der eigenen Partnerin zu praktizieren \n•Grundlagen und Lösungsmöglichkeiten für Entwicklungs- und Bindungstrauma zu verstehen und einzuordnen \n•typische Stolpersteine im EM zu erkennen und regulierend damit umzugehen \nRahmen \n•Kleine Gruppe (max. 6 Teilnehmende) \n•Dienstags\, 19:00 – 20.30 Uhr \n•Start: 3.3.2026 \n•Dauer: 12 Wochen (regelmäßige Teilnahme nach dem Probezeitraum erwünscht; bei Interesse wird die Gruppe im Anschluss als offene EM-Gruppe weitergeführt) \n•Kosten: 75 € (der Betrag dient ausschließlich zur Deckung der Raumkosten – die EM-Praxis selbst ist kostenfrei) \n💛 Je vertrauter die Gruppe\, desto mehr Sicherheit\, Tiefe und nachhaltige Veränderung. \n📩 Anmeldung & Infos \nBei Interesse oder Fragen sendet uns einfach eine E-Mail an: \nverbunden_sein@posteo.de \nWir freuen uns auf euch \nNicole & Stefan \n⚠️ Wichtiger Hinweis \nEhrliches Mitteilen ist eine Selbsthilfe- und Bewusstseinspraxis und ersetzt keine Psychotherapie oder medizinische Behandlung. \nDie Gruppe ist nicht geeignet bei akuten oder schwerwiegenden psychischen Erkrankungen (z. B. Psychosen\, schwere Depressionen\, akute Traumafolgen oder Suchterkrankungen)\, die eine therapeutische Begleitung erfordern.  \nWenn du unsicher bist\, ob die Gruppe für dich aktuell passend ist\, melde dich gerne vorab bei uns – wir schauen gemeinsam was stimmig ist.
URL:https://staging.hauslebenskraft.de/veranstaltung/lokale-em-gruppe-nach-gopal-norbert-klein/2026-03-03/
LOCATION:Haus Lebenskraft\, Gutenbergstr. 30\, Potsdam\, Brandenburg\, 14467\, Germany
CATEGORIES:Öffentlich, Therapieraum
ATTACH;FMTTYPE=image/png:https://staging.hauslebenskraft.de/wp-content/uploads/2026/02/EM_KURS-1.png
ORGANIZER;CN="Nicole Heidbrink":MAILTO:nheidbrink@posteo.de
END:VEVENT
BEGIN:VEVENT
DTSTART;TZID=Europe/Berlin:20260304T193000
DTEND;TZID=Europe/Berlin:20260304T203000
DTSTAMP:20260420T061635
CREATED:20241129T092258Z
LAST-MODIFIED:20260202T133934Z
UID:10018612-1772652600-1772656200@staging.hauslebenskraft.de
SUMMARY:Das Ehrliche Mitteilen nach Gopal
DESCRIPTION:Das Ehrliche Mitteilen ist eine Methode\, mit der man durch das Aussprechen WAS IST\, in tiefe Entspannung und Regulierung des Nervensystems kommt. Durch Annahme und Aussprechen werden Themen transformiert. Jeder spricht und jeder hört zu. Durch das Mitteilen und Zuhören entsteht eine tiefe Verbindung mit den anderen der Gruppe und so auch ein Gefühl der Sicherheit. \n\nGanz nach dem Motto: „Uns heilt\, was uns verbindet“ (Gopal Norbert Klein – Begründer von EM) \nDie Teilnahme erfolgt gegen Spende. \nIch bitte um Anmeldung unter: mail@ernaehrung-und-lebensenergie.com
URL:https://staging.hauslebenskraft.de/veranstaltung/das-ehrliche-mitteilen-nach-gopal-2/2026-03-04/
LOCATION:Haus Lebenskraft\, Gutenbergstr. 30\, Potsdam\, Brandenburg\, 14467\, Germany
CATEGORIES:Öffentlich, Raum der Erde
ATTACH;FMTTYPE=image/png:https://staging.hauslebenskraft.de/wp-content/uploads/2026/02/Bild-Voegel-nebeneinander-1.png
ORGANIZER;CN="Carmen Queck":MAILTO:mail@ernaehrung-und-lebensenergie.com
END:VEVENT
BEGIN:VEVENT
DTSTART;TZID=Europe/Berlin:20260310T190000
DTEND;TZID=Europe/Berlin:20260310T203000
DTSTAMP:20260420T061635
CREATED:20260119T174100Z
LAST-MODIFIED:20260202T142118Z
UID:10024513-1773169200-1773174600@staging.hauslebenskraft.de
SUMMARY:Lokale EM-Gruppe nach Gopal Norbert Klein
DESCRIPTION:  \n12-Wochen-Kurs für Neu- & Wiedereinsteiger \nDiese lokale EM-Gruppe richtet sich an Menschen\, die Ehrliches Mitteilen (EM) neu kennenlernen oder ihre bisherige Praxis vertiefen möchten – in einem konstanten\, sicheren Rahmen mit kleiner Gruppengröße. \nWir üben EM regelmäßig in der Gruppe und ergänzen die Praxis durch verständliche Impulse zu Entwicklungs- und Bindungstrauma. Der Schwerpunkt liegt auf der Arbeit von Gopal Norbert Klein\, ergänzt durch ausgewählte Inhalte anderer Quellen\, die das Verständnis für traumabedingte Prozesse vertiefen und Ansätze zur Lösung aufzeigen. \n⸻ \nWas dich erwartet \n•Regelmäßige EM-Praxis in der Gruppe \n•Stärkung von Selbstwahrnehmung\, Präsenz & Nervensystem-Regulation \n•Einordnung von Trauma-Zusammenhängen \n•Raum für Austausch\, Fragen und gemeinsames Lernen \nNach dem Kurs bist du befähigt \n•Ehrliches Mitteilen sicher\, klar und korrekt anzuwenden \n•EM selbstständig in der Gruppe oder mit dem eigenen Partner / der eigenen Partnerin zu praktizieren \n•Grundlagen und Lösungsmöglichkeiten für Entwicklungs- und Bindungstrauma zu verstehen und einzuordnen \n•typische Stolpersteine im EM zu erkennen und regulierend damit umzugehen \nRahmen \n•Kleine Gruppe (max. 6 Teilnehmende) \n•Dienstags\, 19:00 – 20.30 Uhr \n•Start: 3.3.2026 \n•Dauer: 12 Wochen (regelmäßige Teilnahme nach dem Probezeitraum erwünscht; bei Interesse wird die Gruppe im Anschluss als offene EM-Gruppe weitergeführt) \n•Kosten: 75 € (der Betrag dient ausschließlich zur Deckung der Raumkosten – die EM-Praxis selbst ist kostenfrei) \n💛 Je vertrauter die Gruppe\, desto mehr Sicherheit\, Tiefe und nachhaltige Veränderung. \n📩 Anmeldung & Infos \nBei Interesse oder Fragen sendet uns einfach eine E-Mail an: \nverbunden_sein@posteo.de \nWir freuen uns auf euch \nNicole & Stefan \n⚠️ Wichtiger Hinweis \nEhrliches Mitteilen ist eine Selbsthilfe- und Bewusstseinspraxis und ersetzt keine Psychotherapie oder medizinische Behandlung. \nDie Gruppe ist nicht geeignet bei akuten oder schwerwiegenden psychischen Erkrankungen (z. B. Psychosen\, schwere Depressionen\, akute Traumafolgen oder Suchterkrankungen)\, die eine therapeutische Begleitung erfordern.  \nWenn du unsicher bist\, ob die Gruppe für dich aktuell passend ist\, melde dich gerne vorab bei uns – wir schauen gemeinsam was stimmig ist.
URL:https://staging.hauslebenskraft.de/veranstaltung/lokale-em-gruppe-nach-gopal-norbert-klein/2026-03-10/
LOCATION:Haus Lebenskraft\, Gutenbergstr. 30\, Potsdam\, Brandenburg\, 14467\, Germany
CATEGORIES:Öffentlich, Therapieraum
ATTACH;FMTTYPE=image/png:https://staging.hauslebenskraft.de/wp-content/uploads/2026/02/EM_KURS-1.png
ORGANIZER;CN="Nicole Heidbrink":MAILTO:nheidbrink@posteo.de
END:VEVENT
BEGIN:VEVENT
DTSTART;TZID=Europe/Berlin:20260311T193000
DTEND;TZID=Europe/Berlin:20260311T203000
DTSTAMP:20260420T061635
CREATED:20241129T092258Z
LAST-MODIFIED:20260202T133934Z
UID:10018613-1773257400-1773261000@staging.hauslebenskraft.de
SUMMARY:Das Ehrliche Mitteilen nach Gopal
DESCRIPTION:Das Ehrliche Mitteilen ist eine Methode\, mit der man durch das Aussprechen WAS IST\, in tiefe Entspannung und Regulierung des Nervensystems kommt. Durch Annahme und Aussprechen werden Themen transformiert. Jeder spricht und jeder hört zu. Durch das Mitteilen und Zuhören entsteht eine tiefe Verbindung mit den anderen der Gruppe und so auch ein Gefühl der Sicherheit. \n\nGanz nach dem Motto: „Uns heilt\, was uns verbindet“ (Gopal Norbert Klein – Begründer von EM) \nDie Teilnahme erfolgt gegen Spende. \nIch bitte um Anmeldung unter: mail@ernaehrung-und-lebensenergie.com
URL:https://staging.hauslebenskraft.de/veranstaltung/das-ehrliche-mitteilen-nach-gopal-2/2026-03-11/
LOCATION:Haus Lebenskraft\, Gutenbergstr. 30\, Potsdam\, Brandenburg\, 14467\, Germany
CATEGORIES:Öffentlich, Raum der Erde
ATTACH;FMTTYPE=image/png:https://staging.hauslebenskraft.de/wp-content/uploads/2026/02/Bild-Voegel-nebeneinander-1.png
ORGANIZER;CN="Carmen Queck":MAILTO:mail@ernaehrung-und-lebensenergie.com
END:VEVENT
BEGIN:VEVENT
DTSTART;TZID=Europe/Berlin:20260317T190000
DTEND;TZID=Europe/Berlin:20260317T203000
DTSTAMP:20260420T061635
CREATED:20260119T174100Z
LAST-MODIFIED:20260202T142118Z
UID:10024514-1773774000-1773779400@staging.hauslebenskraft.de
SUMMARY:Lokale EM-Gruppe nach Gopal Norbert Klein
DESCRIPTION:  \n12-Wochen-Kurs für Neu- & Wiedereinsteiger \nDiese lokale EM-Gruppe richtet sich an Menschen\, die Ehrliches Mitteilen (EM) neu kennenlernen oder ihre bisherige Praxis vertiefen möchten – in einem konstanten\, sicheren Rahmen mit kleiner Gruppengröße. \nWir üben EM regelmäßig in der Gruppe und ergänzen die Praxis durch verständliche Impulse zu Entwicklungs- und Bindungstrauma. Der Schwerpunkt liegt auf der Arbeit von Gopal Norbert Klein\, ergänzt durch ausgewählte Inhalte anderer Quellen\, die das Verständnis für traumabedingte Prozesse vertiefen und Ansätze zur Lösung aufzeigen. \n⸻ \nWas dich erwartet \n•Regelmäßige EM-Praxis in der Gruppe \n•Stärkung von Selbstwahrnehmung\, Präsenz & Nervensystem-Regulation \n•Einordnung von Trauma-Zusammenhängen \n•Raum für Austausch\, Fragen und gemeinsames Lernen \nNach dem Kurs bist du befähigt \n•Ehrliches Mitteilen sicher\, klar und korrekt anzuwenden \n•EM selbstständig in der Gruppe oder mit dem eigenen Partner / der eigenen Partnerin zu praktizieren \n•Grundlagen und Lösungsmöglichkeiten für Entwicklungs- und Bindungstrauma zu verstehen und einzuordnen \n•typische Stolpersteine im EM zu erkennen und regulierend damit umzugehen \nRahmen \n•Kleine Gruppe (max. 6 Teilnehmende) \n•Dienstags\, 19:00 – 20.30 Uhr \n•Start: 3.3.2026 \n•Dauer: 12 Wochen (regelmäßige Teilnahme nach dem Probezeitraum erwünscht; bei Interesse wird die Gruppe im Anschluss als offene EM-Gruppe weitergeführt) \n•Kosten: 75 € (der Betrag dient ausschließlich zur Deckung der Raumkosten – die EM-Praxis selbst ist kostenfrei) \n💛 Je vertrauter die Gruppe\, desto mehr Sicherheit\, Tiefe und nachhaltige Veränderung. \n📩 Anmeldung & Infos \nBei Interesse oder Fragen sendet uns einfach eine E-Mail an: \nverbunden_sein@posteo.de \nWir freuen uns auf euch \nNicole & Stefan \n⚠️ Wichtiger Hinweis \nEhrliches Mitteilen ist eine Selbsthilfe- und Bewusstseinspraxis und ersetzt keine Psychotherapie oder medizinische Behandlung. \nDie Gruppe ist nicht geeignet bei akuten oder schwerwiegenden psychischen Erkrankungen (z. B. Psychosen\, schwere Depressionen\, akute Traumafolgen oder Suchterkrankungen)\, die eine therapeutische Begleitung erfordern.  \nWenn du unsicher bist\, ob die Gruppe für dich aktuell passend ist\, melde dich gerne vorab bei uns – wir schauen gemeinsam was stimmig ist.
URL:https://staging.hauslebenskraft.de/veranstaltung/lokale-em-gruppe-nach-gopal-norbert-klein/2026-03-17/
LOCATION:Haus Lebenskraft\, Gutenbergstr. 30\, Potsdam\, Brandenburg\, 14467\, Germany
CATEGORIES:Öffentlich, Therapieraum
ATTACH;FMTTYPE=image/png:https://staging.hauslebenskraft.de/wp-content/uploads/2026/02/EM_KURS-1.png
ORGANIZER;CN="Nicole Heidbrink":MAILTO:nheidbrink@posteo.de
END:VEVENT
BEGIN:VEVENT
DTSTART;TZID=Europe/Berlin:20260318T193000
DTEND;TZID=Europe/Berlin:20260318T203000
DTSTAMP:20260420T061635
CREATED:20260312T073937Z
LAST-MODIFIED:20260312T073946Z
UID:10018614-1773862200-1773865800@staging.hauslebenskraft.de
SUMMARY:Das Ehrliche Mitteilen nach Gopal
DESCRIPTION:Das Ehrliche Mitteilen ist eine Methode\, mit der man durch das Aussprechen WAS IST\, in tiefe Entspannung und Regulierung des Nervensystems kommt. Durch Annahme und Aussprechen werden Themen transformiert. Jeder spricht und jeder hört zu. Durch das Mitteilen und Zuhören entsteht eine tiefe Verbindung mit den anderen der Gruppe und so auch ein Gefühl der Sicherheit. \n\nGanz nach dem Motto: „Uns heilt\, was uns verbindet“ (Gopal Norbert Klein – Begründer von EM) \nDie Teilnahme erfolgt gegen Spende. \nIch bitte um Anmeldung unter: mail@ernaehrung-und-lebensenergie.com
URL:https://staging.hauslebenskraft.de/veranstaltung/das-ehrliche-mitteilen-nach-gopal-2-2/
LOCATION:Haus Lebenskraft\, Gutenbergstr. 30\, Potsdam\, Brandenburg\, 14467\, Germany
CATEGORIES:Öffentlich, Raum der Erde
ATTACH;FMTTYPE=image/png:https://staging.hauslebenskraft.de/wp-content/uploads/2026/02/Bild-Voegel-nebeneinander-1.png
ORGANIZER;CN="Carmen Queck":MAILTO:mail@ernaehrung-und-lebensenergie.com
END:VEVENT
BEGIN:VEVENT
DTSTART;TZID=Europe/Berlin:20260324T190000
DTEND;TZID=Europe/Berlin:20260324T203000
DTSTAMP:20260420T061635
CREATED:20260119T174100Z
LAST-MODIFIED:20260202T142118Z
UID:10024515-1774378800-1774384200@staging.hauslebenskraft.de
SUMMARY:Lokale EM-Gruppe nach Gopal Norbert Klein
DESCRIPTION:  \n12-Wochen-Kurs für Neu- & Wiedereinsteiger \nDiese lokale EM-Gruppe richtet sich an Menschen\, die Ehrliches Mitteilen (EM) neu kennenlernen oder ihre bisherige Praxis vertiefen möchten – in einem konstanten\, sicheren Rahmen mit kleiner Gruppengröße. \nWir üben EM regelmäßig in der Gruppe und ergänzen die Praxis durch verständliche Impulse zu Entwicklungs- und Bindungstrauma. Der Schwerpunkt liegt auf der Arbeit von Gopal Norbert Klein\, ergänzt durch ausgewählte Inhalte anderer Quellen\, die das Verständnis für traumabedingte Prozesse vertiefen und Ansätze zur Lösung aufzeigen. \n⸻ \nWas dich erwartet \n•Regelmäßige EM-Praxis in der Gruppe \n•Stärkung von Selbstwahrnehmung\, Präsenz & Nervensystem-Regulation \n•Einordnung von Trauma-Zusammenhängen \n•Raum für Austausch\, Fragen und gemeinsames Lernen \nNach dem Kurs bist du befähigt \n•Ehrliches Mitteilen sicher\, klar und korrekt anzuwenden \n•EM selbstständig in der Gruppe oder mit dem eigenen Partner / der eigenen Partnerin zu praktizieren \n•Grundlagen und Lösungsmöglichkeiten für Entwicklungs- und Bindungstrauma zu verstehen und einzuordnen \n•typische Stolpersteine im EM zu erkennen und regulierend damit umzugehen \nRahmen \n•Kleine Gruppe (max. 6 Teilnehmende) \n•Dienstags\, 19:00 – 20.30 Uhr \n•Start: 3.3.2026 \n•Dauer: 12 Wochen (regelmäßige Teilnahme nach dem Probezeitraum erwünscht; bei Interesse wird die Gruppe im Anschluss als offene EM-Gruppe weitergeführt) \n•Kosten: 75 € (der Betrag dient ausschließlich zur Deckung der Raumkosten – die EM-Praxis selbst ist kostenfrei) \n💛 Je vertrauter die Gruppe\, desto mehr Sicherheit\, Tiefe und nachhaltige Veränderung. \n📩 Anmeldung & Infos \nBei Interesse oder Fragen sendet uns einfach eine E-Mail an: \nverbunden_sein@posteo.de \nWir freuen uns auf euch \nNicole & Stefan \n⚠️ Wichtiger Hinweis \nEhrliches Mitteilen ist eine Selbsthilfe- und Bewusstseinspraxis und ersetzt keine Psychotherapie oder medizinische Behandlung. \nDie Gruppe ist nicht geeignet bei akuten oder schwerwiegenden psychischen Erkrankungen (z. B. Psychosen\, schwere Depressionen\, akute Traumafolgen oder Suchterkrankungen)\, die eine therapeutische Begleitung erfordern.  \nWenn du unsicher bist\, ob die Gruppe für dich aktuell passend ist\, melde dich gerne vorab bei uns – wir schauen gemeinsam was stimmig ist.
URL:https://staging.hauslebenskraft.de/veranstaltung/lokale-em-gruppe-nach-gopal-norbert-klein/2026-03-24/
LOCATION:Haus Lebenskraft\, Gutenbergstr. 30\, Potsdam\, Brandenburg\, 14467\, Germany
CATEGORIES:Öffentlich, Therapieraum
ATTACH;FMTTYPE=image/png:https://staging.hauslebenskraft.de/wp-content/uploads/2026/02/EM_KURS-1.png
ORGANIZER;CN="Nicole Heidbrink":MAILTO:nheidbrink@posteo.de
END:VEVENT
BEGIN:VEVENT
DTSTART;TZID=Europe/Berlin:20260325T193000
DTEND;TZID=Europe/Berlin:20260325T203000
DTSTAMP:20260420T061635
CREATED:20241129T092258Z
LAST-MODIFIED:20260202T133934Z
UID:10018615-1774467000-1774470600@staging.hauslebenskraft.de
SUMMARY:Das Ehrliche Mitteilen nach Gopal
DESCRIPTION:Das Ehrliche Mitteilen ist eine Methode\, mit der man durch das Aussprechen WAS IST\, in tiefe Entspannung und Regulierung des Nervensystems kommt. Durch Annahme und Aussprechen werden Themen transformiert. Jeder spricht und jeder hört zu. Durch das Mitteilen und Zuhören entsteht eine tiefe Verbindung mit den anderen der Gruppe und so auch ein Gefühl der Sicherheit. \n\nGanz nach dem Motto: „Uns heilt\, was uns verbindet“ (Gopal Norbert Klein – Begründer von EM) \nDie Teilnahme erfolgt gegen Spende. \nIch bitte um Anmeldung unter: mail@ernaehrung-und-lebensenergie.com
URL:https://staging.hauslebenskraft.de/veranstaltung/das-ehrliche-mitteilen-nach-gopal-2/2026-03-25/
LOCATION:Haus Lebenskraft\, Gutenbergstr. 30\, Potsdam\, Brandenburg\, 14467\, Germany
CATEGORIES:Öffentlich, Raum der Erde
ATTACH;FMTTYPE=image/png:https://staging.hauslebenskraft.de/wp-content/uploads/2026/02/Bild-Voegel-nebeneinander-1.png
ORGANIZER;CN="Carmen Queck":MAILTO:mail@ernaehrung-und-lebensenergie.com
END:VEVENT
BEGIN:VEVENT
DTSTART;TZID=Europe/Berlin:20260331T190000
DTEND;TZID=Europe/Berlin:20260331T203000
DTSTAMP:20260420T061635
CREATED:20260119T174100Z
LAST-MODIFIED:20260202T142118Z
UID:10024516-1774983600-1774989000@staging.hauslebenskraft.de
SUMMARY:Lokale EM-Gruppe nach Gopal Norbert Klein
DESCRIPTION:  \n12-Wochen-Kurs für Neu- & Wiedereinsteiger \nDiese lokale EM-Gruppe richtet sich an Menschen\, die Ehrliches Mitteilen (EM) neu kennenlernen oder ihre bisherige Praxis vertiefen möchten – in einem konstanten\, sicheren Rahmen mit kleiner Gruppengröße. \nWir üben EM regelmäßig in der Gruppe und ergänzen die Praxis durch verständliche Impulse zu Entwicklungs- und Bindungstrauma. Der Schwerpunkt liegt auf der Arbeit von Gopal Norbert Klein\, ergänzt durch ausgewählte Inhalte anderer Quellen\, die das Verständnis für traumabedingte Prozesse vertiefen und Ansätze zur Lösung aufzeigen. \n⸻ \nWas dich erwartet \n•Regelmäßige EM-Praxis in der Gruppe \n•Stärkung von Selbstwahrnehmung\, Präsenz & Nervensystem-Regulation \n•Einordnung von Trauma-Zusammenhängen \n•Raum für Austausch\, Fragen und gemeinsames Lernen \nNach dem Kurs bist du befähigt \n•Ehrliches Mitteilen sicher\, klar und korrekt anzuwenden \n•EM selbstständig in der Gruppe oder mit dem eigenen Partner / der eigenen Partnerin zu praktizieren \n•Grundlagen und Lösungsmöglichkeiten für Entwicklungs- und Bindungstrauma zu verstehen und einzuordnen \n•typische Stolpersteine im EM zu erkennen und regulierend damit umzugehen \nRahmen \n•Kleine Gruppe (max. 6 Teilnehmende) \n•Dienstags\, 19:00 – 20.30 Uhr \n•Start: 3.3.2026 \n•Dauer: 12 Wochen (regelmäßige Teilnahme nach dem Probezeitraum erwünscht; bei Interesse wird die Gruppe im Anschluss als offene EM-Gruppe weitergeführt) \n•Kosten: 75 € (der Betrag dient ausschließlich zur Deckung der Raumkosten – die EM-Praxis selbst ist kostenfrei) \n💛 Je vertrauter die Gruppe\, desto mehr Sicherheit\, Tiefe und nachhaltige Veränderung. \n📩 Anmeldung & Infos \nBei Interesse oder Fragen sendet uns einfach eine E-Mail an: \nverbunden_sein@posteo.de \nWir freuen uns auf euch \nNicole & Stefan \n⚠️ Wichtiger Hinweis \nEhrliches Mitteilen ist eine Selbsthilfe- und Bewusstseinspraxis und ersetzt keine Psychotherapie oder medizinische Behandlung. \nDie Gruppe ist nicht geeignet bei akuten oder schwerwiegenden psychischen Erkrankungen (z. B. Psychosen\, schwere Depressionen\, akute Traumafolgen oder Suchterkrankungen)\, die eine therapeutische Begleitung erfordern.  \nWenn du unsicher bist\, ob die Gruppe für dich aktuell passend ist\, melde dich gerne vorab bei uns – wir schauen gemeinsam was stimmig ist.
URL:https://staging.hauslebenskraft.de/veranstaltung/lokale-em-gruppe-nach-gopal-norbert-klein/2026-03-31/
LOCATION:Haus Lebenskraft\, Gutenbergstr. 30\, Potsdam\, Brandenburg\, 14467\, Germany
CATEGORIES:Öffentlich, Therapieraum
ATTACH;FMTTYPE=image/png:https://staging.hauslebenskraft.de/wp-content/uploads/2026/02/EM_KURS-1.png
ORGANIZER;CN="Nicole Heidbrink":MAILTO:nheidbrink@posteo.de
END:VEVENT
END:VCALENDAR