BEGIN:VCALENDAR
VERSION:2.0
PRODID:-//Haus Lebenskraft - ECPv6.15.20//NONSGML v1.0//EN
CALSCALE:GREGORIAN
METHOD:PUBLISH
X-WR-CALNAME:Haus Lebenskraft
X-ORIGINAL-URL:https://staging.hauslebenskraft.de
X-WR-CALDESC:Veranstaltungen für Haus Lebenskraft
REFRESH-INTERVAL;VALUE=DURATION:PT1H
X-Robots-Tag:noindex
X-PUBLISHED-TTL:PT1H
BEGIN:VTIMEZONE
TZID:Europe/Berlin
BEGIN:DAYLIGHT
TZOFFSETFROM:+0100
TZOFFSETTO:+0200
TZNAME:CEST
DTSTART:20240331T010000
END:DAYLIGHT
BEGIN:STANDARD
TZOFFSETFROM:+0200
TZOFFSETTO:+0100
TZNAME:CET
DTSTART:20241027T010000
END:STANDARD
BEGIN:DAYLIGHT
TZOFFSETFROM:+0100
TZOFFSETTO:+0200
TZNAME:CEST
DTSTART:20250330T010000
END:DAYLIGHT
BEGIN:STANDARD
TZOFFSETFROM:+0200
TZOFFSETTO:+0100
TZNAME:CET
DTSTART:20251026T010000
END:STANDARD
BEGIN:DAYLIGHT
TZOFFSETFROM:+0100
TZOFFSETTO:+0200
TZNAME:CEST
DTSTART:20260329T010000
END:DAYLIGHT
BEGIN:STANDARD
TZOFFSETFROM:+0200
TZOFFSETTO:+0100
TZNAME:CET
DTSTART:20261025T010000
END:STANDARD
END:VTIMEZONE
BEGIN:VEVENT
DTSTART;TZID=Europe/Berlin:20251120T183000
DTEND;TZID=Europe/Berlin:20251120T194500
DTSTAMP:20260425T162805
CREATED:20250910T140210Z
LAST-MODIFIED:20251002T112323Z
UID:10016668-1763663400-1763667900@staging.hauslebenskraft.de
SUMMARY:Meditation
DESCRIPTION:Ich lade dich ein\, in Verbindung zu gehen\, mit deinem Herzensraum\, deiner Seele\, mit dir selbst.\n\nNach einer kurzen Bewegungssequenz kannst du dich bewusst mit deinem Atem verbinden und durch geführte Meditationen\, Seelenreisen und Klang in einen heilsamen Raum eintauchen\, in welchem du einfach nur sein und wahrnehmen darfst… deine Freude\, Lebendigkeit\, Liebe\, Geborgenheit\, Stille\, Inneren Frieden.\nIch freue mich auf dich und unser gemeinsames lichtvolles Feld.\n\nVon Herzen Jeannette \n  \nTermine: Jeden 3. Donnerstag im Monat 18.30 bis 19.45 Uhr\, 12-15 EUR  (Raum der Erde) \nEnergieausgleich: 12-15 EUR \nOrt: Haus Lebenskraft\, Gutenbergstr. 30\, 14467 Potsdam\, www.hauslebenskraft.de\nAnmeldung: jeannettedu@web.de oder 01577 6203876
URL:https://staging.hauslebenskraft.de/veranstaltung/meditation/2025-11-20/
LOCATION:Haus Lebenskraft\, Gutenbergstr. 30\, Potsdam\, Brandenburg\, 14467\, Germany
CATEGORIES:Öffentlich, Raum der Erde
ORGANIZER;CN="Jeannette St%C3%B6lzel":MAILTO:contact@jeanne-heilimpulse.eu
END:VEVENT
END:VCALENDAR