BEGIN:VCALENDAR
VERSION:2.0
PRODID:-//Haus Lebenskraft - ECPv6.15.20//NONSGML v1.0//EN
CALSCALE:GREGORIAN
METHOD:PUBLISH
X-ORIGINAL-URL:https://staging.hauslebenskraft.de
X-WR-CALDESC:Veranstaltungen für Haus Lebenskraft
REFRESH-INTERVAL;VALUE=DURATION:PT1H
X-Robots-Tag:noindex
X-PUBLISHED-TTL:PT1H
BEGIN:VTIMEZONE
TZID:Europe/Berlin
BEGIN:DAYLIGHT
TZOFFSETFROM:+0100
TZOFFSETTO:+0200
TZNAME:CEST
DTSTART:20250330T010000
END:DAYLIGHT
BEGIN:STANDARD
TZOFFSETFROM:+0200
TZOFFSETTO:+0100
TZNAME:CET
DTSTART:20251026T010000
END:STANDARD
BEGIN:DAYLIGHT
TZOFFSETFROM:+0100
TZOFFSETTO:+0200
TZNAME:CEST
DTSTART:20260329T010000
END:DAYLIGHT
BEGIN:STANDARD
TZOFFSETFROM:+0200
TZOFFSETTO:+0100
TZNAME:CET
DTSTART:20261025T010000
END:STANDARD
BEGIN:DAYLIGHT
TZOFFSETFROM:+0100
TZOFFSETTO:+0200
TZNAME:CEST
DTSTART:20270328T010000
END:DAYLIGHT
BEGIN:STANDARD
TZOFFSETFROM:+0200
TZOFFSETTO:+0100
TZNAME:CET
DTSTART:20271031T010000
END:STANDARD
END:VTIMEZONE
BEGIN:VEVENT
DTSTART;TZID=Europe/Berlin:20260106T170000
DTEND;TZID=Europe/Berlin:20260106T183000
DTSTAMP:20260420T042843
CREATED:20241215T180938Z
LAST-MODIFIED:20260119T122215Z
UID:10023926-1767718800-1767724200@staging.hauslebenskraft.de
SUMMARY:Tanzfreude mit Gesine - ein faszienorientiertes Bewegungsangebot
DESCRIPTION:Der flow-orientierte Faszientanz zu Musik aus aller Welt ist ein Bewegungsangebot\, das fließende\, tanz-inspirierte Bewegungen mit gezielten Impulsen für das fasziale Gewebe verbindet. Mit Freude an Bewegung und spürbarer Leidenschaft für den Körper entstehen freie Bewegungsformen\, die Mobilität\, Elastizität\, Körperwahrnehmung und einen sanften Muskelaufbau fördern. \nDas Training kommt ohne feste Choreografien aus und lädt dazu ein\, sein eigenes Tempo und Intensität individuell anzupassen. Das Angebot unterstützt Ausdauer\, das Herz-Kreislauf-System sowie die Koordination und ist für Menschen unterschiedlicher Alters- und Erfahrungsstufen geeignet. \nDen Abschluss bildet eine wohltuende Dehnungs- und Entspannungsphase mit Klangspiel und Gong. Sie schafft Raum für Ruhe\, Nachspüren und Regeneration. Ich freue mich auf eine gemeinsame Bewegungszeit voller Lebensfreude\, Achtsamkeit und lebendiger Präsenz in dem wundervollen Sonnenraum im Haus Lebenskraft. \nHerzlichst Gesine \nEinzelveranstaltung: 15 €\, 6-er Karte: 72 € \nSchnupperstunde: 12 € \nAnmeldung unter: gesine.schaefer@gmx.de oder gesine@hauslebenskraft.de bis zum 05.01.2026 \nDie Teilnahme am Kurs ist nur nach persönlicher oder schriftlicher Zusage möglich. \nTel: 017651871225 \nIch freue mich auf euch. \nGesine Schaefer \nTanztrainerin\, HP nach Psych KG\, Kinesiologin\, Gestalttherapeutin\, Klangmassagepraktikerin \n  \n  \n 
URL:https://staging.hauslebenskraft.de/veranstaltung/tanzfreude-mit-gesine-ein-faszienorientiertes-bewegungsangebot/2026-01-06/
LOCATION:Haus Lebenskraft\, Gutenbergstr. 30\, Potsdam\, Brandenburg\, 14467\, Germany
CATEGORIES:Öffentlich, Sonnenraum
ORGANIZER;CN="Gesine Schaefer":MAILTO:gesine.schaefer@gmx.de
END:VEVENT
BEGIN:VEVENT
DTSTART;TZID=Europe/Berlin:20260113T170000
DTEND;TZID=Europe/Berlin:20260113T183000
DTSTAMP:20260420T042843
CREATED:20241215T180938Z
LAST-MODIFIED:20260119T122215Z
UID:10023927-1768323600-1768329000@staging.hauslebenskraft.de
SUMMARY:Tanzfreude mit Gesine - ein faszienorientiertes Bewegungsangebot
DESCRIPTION:Der flow-orientierte Faszientanz zu Musik aus aller Welt ist ein Bewegungsangebot\, das fließende\, tanz-inspirierte Bewegungen mit gezielten Impulsen für das fasziale Gewebe verbindet. Mit Freude an Bewegung und spürbarer Leidenschaft für den Körper entstehen freie Bewegungsformen\, die Mobilität\, Elastizität\, Körperwahrnehmung und einen sanften Muskelaufbau fördern. \nDas Training kommt ohne feste Choreografien aus und lädt dazu ein\, sein eigenes Tempo und Intensität individuell anzupassen. Das Angebot unterstützt Ausdauer\, das Herz-Kreislauf-System sowie die Koordination und ist für Menschen unterschiedlicher Alters- und Erfahrungsstufen geeignet. \nDen Abschluss bildet eine wohltuende Dehnungs- und Entspannungsphase mit Klangspiel und Gong. Sie schafft Raum für Ruhe\, Nachspüren und Regeneration. Ich freue mich auf eine gemeinsame Bewegungszeit voller Lebensfreude\, Achtsamkeit und lebendiger Präsenz in dem wundervollen Sonnenraum im Haus Lebenskraft. \nHerzlichst Gesine \nEinzelveranstaltung: 15 €\, 6-er Karte: 72 € \nSchnupperstunde: 12 € \nAnmeldung unter: gesine.schaefer@gmx.de oder gesine@hauslebenskraft.de bis zum 05.01.2026 \nDie Teilnahme am Kurs ist nur nach persönlicher oder schriftlicher Zusage möglich. \nTel: 017651871225 \nIch freue mich auf euch. \nGesine Schaefer \nTanztrainerin\, HP nach Psych KG\, Kinesiologin\, Gestalttherapeutin\, Klangmassagepraktikerin \n  \n  \n 
URL:https://staging.hauslebenskraft.de/veranstaltung/tanzfreude-mit-gesine-ein-faszienorientiertes-bewegungsangebot/2026-01-13/
LOCATION:Haus Lebenskraft\, Gutenbergstr. 30\, Potsdam\, Brandenburg\, 14467\, Germany
CATEGORIES:Öffentlich, Sonnenraum
ORGANIZER;CN="Gesine Schaefer":MAILTO:gesine.schaefer@gmx.de
END:VEVENT
BEGIN:VEVENT
DTSTART;TZID=Europe/Berlin:20260120T170000
DTEND;TZID=Europe/Berlin:20260120T183000
DTSTAMP:20260420T042843
CREATED:20241215T180938Z
LAST-MODIFIED:20260119T122215Z
UID:10023928-1768928400-1768933800@staging.hauslebenskraft.de
SUMMARY:Tanzfreude mit Gesine - ein faszienorientiertes Bewegungsangebot
DESCRIPTION:Der flow-orientierte Faszientanz zu Musik aus aller Welt ist ein Bewegungsangebot\, das fließende\, tanz-inspirierte Bewegungen mit gezielten Impulsen für das fasziale Gewebe verbindet. Mit Freude an Bewegung und spürbarer Leidenschaft für den Körper entstehen freie Bewegungsformen\, die Mobilität\, Elastizität\, Körperwahrnehmung und einen sanften Muskelaufbau fördern. \nDas Training kommt ohne feste Choreografien aus und lädt dazu ein\, sein eigenes Tempo und Intensität individuell anzupassen. Das Angebot unterstützt Ausdauer\, das Herz-Kreislauf-System sowie die Koordination und ist für Menschen unterschiedlicher Alters- und Erfahrungsstufen geeignet. \nDen Abschluss bildet eine wohltuende Dehnungs- und Entspannungsphase mit Klangspiel und Gong. Sie schafft Raum für Ruhe\, Nachspüren und Regeneration. Ich freue mich auf eine gemeinsame Bewegungszeit voller Lebensfreude\, Achtsamkeit und lebendiger Präsenz in dem wundervollen Sonnenraum im Haus Lebenskraft. \nHerzlichst Gesine \nEinzelveranstaltung: 15 €\, 6-er Karte: 72 € \nSchnupperstunde: 12 € \nAnmeldung unter: gesine.schaefer@gmx.de oder gesine@hauslebenskraft.de bis zum 05.01.2026 \nDie Teilnahme am Kurs ist nur nach persönlicher oder schriftlicher Zusage möglich. \nTel: 017651871225 \nIch freue mich auf euch. \nGesine Schaefer \nTanztrainerin\, HP nach Psych KG\, Kinesiologin\, Gestalttherapeutin\, Klangmassagepraktikerin \n  \n  \n 
URL:https://staging.hauslebenskraft.de/veranstaltung/tanzfreude-mit-gesine-ein-faszienorientiertes-bewegungsangebot/2026-01-20/
LOCATION:Haus Lebenskraft\, Gutenbergstr. 30\, Potsdam\, Brandenburg\, 14467\, Germany
CATEGORIES:Öffentlich, Sonnenraum
ORGANIZER;CN="Gesine Schaefer":MAILTO:gesine.schaefer@gmx.de
END:VEVENT
BEGIN:VEVENT
DTSTART;TZID=Europe/Berlin:20260127T170000
DTEND;TZID=Europe/Berlin:20260127T183000
DTSTAMP:20260420T042843
CREATED:20260201T143228Z
LAST-MODIFIED:20260201T143230Z
UID:10023929-1769533200-1769538600@staging.hauslebenskraft.de
SUMMARY:Tanzfreude mit Gesine - ein faszienorientiertes Bewegungsangebot
DESCRIPTION:Der flow-orientierte Faszientanz zu Musik aus aller Welt ist ein Bewegungsangebot\, das fließende\, tanz-inspirierte Bewegungen mit gezielten Impulsen für das fasziale Gewebe verbindet. Mit Freude an Bewegung und spürbarer Leidenschaft für den Körper entstehen freie Bewegungsformen\, die Mobilität\, Elastizität\, Körperwahrnehmung und einen sanften Muskelaufbau fördern. \nDas Training kommt ohne feste Choreografien aus und lädt dazu ein\, sein eigenes Tempo und Intensität individuell anzupassen. Das Angebot unterstützt Ausdauer\, das Herz-Kreislauf-System sowie die Koordination und ist für Menschen unterschiedlicher Alters- und Erfahrungsstufen geeignet. \nDen Abschluss bildet eine wohltuende Dehnungs- und Entspannungsphase mit Klangspiel und Gong. Sie schafft Raum für Ruhe\, Nachspüren und Regeneration. Ich freue mich auf eine gemeinsame Bewegungszeit voller Lebensfreude\, Achtsamkeit und lebendiger Präsenz in dem wundervollen Sonnenraum im Haus Lebenskraft. \nHerzlichst Gesine \nEinzelveranstaltung: 15 €\, 6-er Karte: 72 € \nSchnupperstunde: 12 € \nAnmeldung unter: gesine.schaefer@gmx.de oder gesine@hauslebenskraft.de bis zum 05.01.2026 \nDie Teilnahme am Kurs ist nur nach persönlicher oder schriftlicher Zusage möglich. \nTel: 017651871225 \nIch freue mich auf euch. \nGesine Schaefer \nTanztrainerin\, HP nach Psych KG\, Kinesiologin\, Gestalttherapeutin\, Klangmassagepraktikerin \n  \n  \n 
URL:https://staging.hauslebenskraft.de/veranstaltung/tanzfreude-mit-gesine-ein-faszienorientiertes-bewegungsangebot-2/
LOCATION:Haus Lebenskraft\, Gutenbergstr. 30\, Potsdam\, Brandenburg\, 14467\, Germany
CATEGORIES:Öffentlich, Sonnenraum
ATTACH;FMTTYPE=image/jpeg:https://staging.hauslebenskraft.de/wp-content/uploads/2026/02/Tanzfreude-1.jpg
ORGANIZER;CN="Gesine Schaefer":MAILTO:gesine.schaefer@gmx.de
END:VEVENT
END:VCALENDAR