BEGIN:VCALENDAR
VERSION:2.0
PRODID:-//Haus Lebenskraft - ECPv6.15.20//NONSGML v1.0//EN
CALSCALE:GREGORIAN
METHOD:PUBLISH
X-ORIGINAL-URL:https://staging.hauslebenskraft.de
X-WR-CALDESC:Veranstaltungen für Haus Lebenskraft
REFRESH-INTERVAL;VALUE=DURATION:PT1H
X-Robots-Tag:noindex
X-PUBLISHED-TTL:PT1H
BEGIN:VTIMEZONE
TZID:Europe/Berlin
BEGIN:DAYLIGHT
TZOFFSETFROM:+0100
TZOFFSETTO:+0200
TZNAME:CEST
DTSTART:20240331T010000
END:DAYLIGHT
BEGIN:STANDARD
TZOFFSETFROM:+0200
TZOFFSETTO:+0100
TZNAME:CET
DTSTART:20241027T010000
END:STANDARD
BEGIN:DAYLIGHT
TZOFFSETFROM:+0100
TZOFFSETTO:+0200
TZNAME:CEST
DTSTART:20250330T010000
END:DAYLIGHT
BEGIN:STANDARD
TZOFFSETFROM:+0200
TZOFFSETTO:+0100
TZNAME:CET
DTSTART:20251026T010000
END:STANDARD
BEGIN:DAYLIGHT
TZOFFSETFROM:+0100
TZOFFSETTO:+0200
TZNAME:CEST
DTSTART:20260329T010000
END:DAYLIGHT
BEGIN:STANDARD
TZOFFSETFROM:+0200
TZOFFSETTO:+0100
TZNAME:CET
DTSTART:20261025T010000
END:STANDARD
END:VTIMEZONE
BEGIN:VEVENT
DTSTART;TZID=Europe/Berlin:20250424T180000
DTEND;TZID=Europe/Berlin:20250424T191500
DTSTAMP:20260424T094924
CREATED:20250202T153457Z
LAST-MODIFIED:20260202T134108Z
UID:10015951-1745517600-1745522100@staging.hauslebenskraft.de
SUMMARY:Bauchtanz
DESCRIPTION:Bauchtanz\, eigentlich „Orientalischer Tanz“ nimmt Dich mit in eine andere Welt. Wie kaum ein anderer Tanz vereint er Weiblichkeit\, Körperbeherrschung und Tanzfreude. Als positiven Nebeneffekt verbessert er Deine Beweglichkeit\, Deine Haltung und Dein körperliches und seelisches Wohlbefinden. Die typischen Bewegungen werden stets mit viel Tanzfreude geübt und bis hin zu Choreographien miteinander kombiniert. Zusätzlich werden in manchen Stunden Elemente wie der Tanzschleier hinzugenommen. \nBauchtanz bzw. Orientalischer Tanz eignet sich für alle Frauen und Mädchen jeden Alters.\nDieser Kurs ist für Tänzerinnen mit Vorkenntnissen. Einsteigerinnen: nach Rücksprache möglich. Erste Schnupperstunde 10 €. \nKosten: 50 € monatlich \nInfo: https://www.zeyna.com \nTelefon: 0151 432 53 180
URL:https://staging.hauslebenskraft.de/veranstaltung/bauchtanz-5/2025-04-24/
LOCATION:Haus Lebenskraft\, Gutenbergstr. 30\, Potsdam\, Brandenburg\, 14467\, Germany
CATEGORIES:Öffentlich, Sonnenraum
ATTACH;FMTTYPE=image/png:https://staging.hauslebenskraft.de/wp-content/uploads/2026/02/bauchtanz_potsdam-1.png
ORGANIZER;CN="Sabine Richter":MAILTO:sabinezeyna@yahoo.de
END:VEVENT
BEGIN:VEVENT
DTSTART;TZID=Europe/Berlin:20250425T183000
DTEND;TZID=Europe/Berlin:20250425T190000
DTSTAMP:20260424T094924
CREATED:20250312T120753Z
LAST-MODIFIED:20250312T120829Z
UID:10012974-1745605800-1745607600@staging.hauslebenskraft.de
SUMMARY:Reserviert für Singkreis
DESCRIPTION:
URL:https://staging.hauslebenskraft.de/veranstaltung/reserviert-fuer-singkreis/
LOCATION:Haus Lebenskraft\, Gutenbergstr. 30\, Potsdam\, Brandenburg\, 14467\, Germany
CATEGORIES:Intern, Raum der Erde
ORGANIZER;CN="Uta Baunach":MAILTO:uta@sing-doch-einfach-mit.de
END:VEVENT
BEGIN:VEVENT
DTSTART;TZID=Europe/Berlin:20250425T190000
DTEND;TZID=Europe/Berlin:20250425T203000
DTSTAMP:20260424T094924
CREATED:20250312T120315Z
LAST-MODIFIED:20250320T075111Z
UID:10015418-1745607600-1745613000@staging.hauslebenskraft.de
SUMMARY:Singkreis mit Uta und Conny
DESCRIPTION:Einfach zu lernende\, kraftvolle Lieder aus der ganzen Welt zum Mitsingen und Schwingen … angeleitet und begleitet von Conny (Djembé) und Uta (Gitarre).\n\nDieser Singkreis findet anstelle des regulären monatlichen Termins am 4. Donnerstag/Monat statt.\n\nAuf Spendenbasis (Empfehlung 10 €)\n\nKontakt: uta@sing-doch-einfach-mit.de\nHomepage: sing-doch-einfach-mit.de
URL:https://staging.hauslebenskraft.de/veranstaltung/singkreis-mit-uta-und-savitri/
LOCATION:Haus Lebenskraft\, Gutenbergstr. 30\, Potsdam\, Brandenburg\, 14467\, Germany
CATEGORIES:Öffentlich, Raum der Erde
ORGANIZER;CN="Uta Baunach":MAILTO:uta@sing-doch-einfach-mit.de
END:VEVENT
BEGIN:VEVENT
DTSTART;TZID=Europe/Berlin:20250426T080000
DTEND;TZID=Europe/Berlin:20250426T093000
DTSTAMP:20260424T094924
CREATED:20250126T152934Z
LAST-MODIFIED:20251014T145402Z
UID:10017147-1745654400-1745659800@staging.hauslebenskraft.de
SUMMARY:Yoga für Anfänger und Fortgeschrittene
DESCRIPTION:Yoga für mehr Energie\, für Anfänger und Fortgeschrittene sind sanfte Yoga-Stellungen\, verbunden mit Atemübungen und anschließender Meditation und Entspannung. Es ist ein Teil der traditionellen indischen Heilkunde\, dem Ayurveda und Teil meines Gesamtkonzeptes. \nDiese Lehre sieht einen engen Zusammenhang zwischen Körper\, Geist und Seele. Eine regelmäßige Praxis reguliert und aktiviert dein Atmungssystem\, den Stoffwechsel\, das Verdauungssystem und die hormonellen Funktionen. Auf der rein körperlichen Ebene stärkt es den Bewegungsapparat\, das Nervensystem\, hilft bei stressbedingten Störungen wie Bluthochdruck\, Magenbeschwerden und Kopfschmerzen\, fördert die Konzentrationsfähigkeit und sorgt für innere Ausgeglichenheit. \nAsanas beziehen alle Muskeln\, Bänder und Gelenke sowie die Organe mit ein. Yoga ist deshalb sehr empfehlenswert\, sowohl bei Atemwegserkrankungen\, bis zu Asthma\, als auch bei sämtlichen\, meist zivilisationsbedingten Rückenleiden. Auf der spirituellen Ebene wird es als ein ganzheitlicher\, undogmatischer Weg zum Göttlichen verstanden\, durch das Einsinken in die Meditation wird die spirituelle Entwicklung gefördert\, während Geduld\, Toleranz und Zufriedenheit wachsen. Yoga-Praktizierende entwickeln eine neue Sichtweise auf das Leben\, erweitern ihr Bewusstsein und schärfen ihre Willens- und Urteilskraft. \nDie Yogastunde beginnt mit sanften\, ruhigen Mobilisationsübungen\, gefolgt von Atemübungen und anschließenden Yogastellungen. Die Yogastunden enden mit einer Meditation und Entspannungsübungen. Yoga ist für jeden Konstitutionstyp geeignet. \nTeilnehmergebühren: 20 Euro \nEmail: info@ayurvedakunde.de \nTelefon: 01795299475
URL:https://staging.hauslebenskraft.de/veranstaltung/yoga/2025-04-26/
LOCATION:Haus Lebenskraft\, Gutenbergstr. 30\, Potsdam\, Brandenburg\, 14467\, Germany
CATEGORIES:Öffentlich, Raum der Erde
ORGANIZER;CN="Knut Kunde":MAILTO:info@ayurvedakunde.de
END:VEVENT
BEGIN:VEVENT
DTSTART;TZID=Europe/Berlin:20250426T100000
DTEND;TZID=Europe/Berlin:20250426T110000
DTSTAMP:20260424T094924
CREATED:20250313T122600Z
LAST-MODIFIED:20250313T122628Z
UID:10017877-1745661600-1745665200@staging.hauslebenskraft.de
SUMMARY:Vorbereitung Michaele
DESCRIPTION:
URL:https://staging.hauslebenskraft.de/veranstaltung/vorbereitung-michaele/
LOCATION:Haus Lebenskraft\, Gutenbergstr. 30\, Potsdam\, Brandenburg\, 14467\, Germany
CATEGORIES:Öffentlich, Raum der Erde
END:VEVENT
BEGIN:VEVENT
DTSTART;TZID=Europe/Berlin:20250426T100000
DTEND;TZID=Europe/Berlin:20250426T180000
DTSTAMP:20260424T094924
CREATED:20241111T095637Z
LAST-MODIFIED:20250625T074309Z
UID:10015844-1745661600-1745690400@staging.hauslebenskraft.de
SUMMARY:HenDō Körper - Schwert - Klang\, Tages-Retreat
DESCRIPTION:ErLebst du (manchmal) SCHWANKUNGEN in deinem Leben? \nErLebst du DICH (manchmal) mehr im AUßEN als in deinem INNEREN? \nWie wäre das ErLeben in optimaler Entspannung & vollkommener Ausgeglichenheit? \nHenDō – basiert auf dem Prinzip des Ausgleichs. \nDas ErLeben deiner KörperIntelligenz (nach Karl Grunick) erInnert dich an deinen INNEREN und ÄUßEREN Ausgleich – natürlich\, einfach und klar. \nKörper\, Empfindungen und Verstand schwingen in ihrer natürliche Ordnung bzw. im EinKlang. \nHenDō öffnet Räume für Körper- und Schwertarbeit – spielerisch in Einzel- und Partnerübungen. \nDer Integration dient der Klang der abschließenden Live – Handpan – Meditation. \nFrei von Erwartungen \nFrei von Bewertungen \nPräsent im HIER und JETZT \nwebseite: \nwww.hovannesjan.com
URL:https://staging.hauslebenskraft.de/veranstaltung/hendo-2/2025-04-26/
LOCATION:Haus Lebenskraft\, Gutenbergstr. 30\, Potsdam\, Brandenburg\, 14467\, Germany
CATEGORIES:Öffentlich, Sonnenraum
ORGANIZER;CN="Henry Hovannesjan":MAILTO:h.hovannesjan@hotmail.de
END:VEVENT
BEGIN:VEVENT
DTSTART;TZID=Europe/Berlin:20250426T110000
DTEND;TZID=Europe/Berlin:20250426T210000
DTSTAMP:20260424T094924
CREATED:20250304T110450Z
LAST-MODIFIED:20250423T094513Z
UID:10017847-1745665200-1745701200@staging.hauslebenskraft.de
SUMMARY:Liebe\, Eros und Beziehung - Ein tantrischer Begegnungstag mit Michaele Kuhn & Kolja Güldenberg
DESCRIPTION:„Solange Du nicht die Liebe in Dir berührst\,\nwirst Du eine Frau oder einen Mann nicht lieben können.\nDie Quelle der Liebe ist in Dir“ Osho \nDieser Tag ist ein Geschenk an Dich selbst.\nGemeinsam erforschen wir das Mysterium der Liebe\, und begeben uns auf eine herzenswarme\, wahrheitsliebende und seelentiefe Reise zu Deiner Essenz.\nEs erwartet Dich ein Initiationstag in Deine Selbstliebe und Deinen Selbstwert.\nAn diesem Tag werden wir liebevoll und achtsam das leben\, was uns Menschen würdig ist:\nSelbstfürsorge…Achtsamkeit… Wertschätzung…Seelenpflege…nährendes und liebevolles Miteinander und würdevolle und heilsame Berührung.\nWenn du dich für die Liebe entscheidest\, dann erstrahlt eine Selbstliebe\, die sich in Deinem Leben\, in Deinen Beziehungen und in deiner Sexualität wieder spiegelt.\nEs erwartet Dich geistige Inspiration\, Begegnungsrituale\, Innehalten\, Sharing Tanz und Glücklichsein. \nLeitung und Details: \nKolja Güldenberg \nJg.1970\, Vater einer Tochter\nBegleitet seit 20 Jahren Männer und Frauen auf Ihrem Weg in die Liebe.\nGFK-Trainer\, Seminarleiter und Führungskräfte Coach.\n“Meine Vision ist\, dass wir Menschen sowohl herzlich und berührbar\, als auch kraftvoll und frei lieben können. Vertrauen\, Kraft und Inspiration für unseren Weg schöpfen wir aus der tiefen Anbindung an die göttliche Quelle in uns.“\nkolja-gueldenberg.de | initiation-mannsein.de \nMichaele Kuhn \nJg. 1960\, Mutter eines Sohnes\nBegleitet seit über 35 Jahren Menschen bei ihrer Heilung und Entwicklung.\nTrauma- und Körperpsychotherapie\, Paartherapie\, und Tantralehrerin.\n„Meine Gabe ist es\, Menschen in ihr innerstes Zuhause\, in die Verbundenheit und Liebe zu sich selbst zu führen. Mein tiefstes Anliegen ist es\, dass die Menschen wieder fühlen lernen\, wer und was sie wirklich sind\, und eine lebbare Verbindung mit der LIEBE und der Präsenz des GÖTTLICHEN finden und leben.“\nwww.michaelekuhn.de \nVeranstaltungsdetails:\n• Datum und Ort: Samstag\, 26. April\, im Haus\nLebenskraft\, Potsdam\, Erdenraum\n• Leitung: Michaele Kuhn & Kolja Güldenberg\n• Teilnahmegebühr inkl. MWST: € 120\, Ermäßigung auf Anfrage \n• Anmeldung: Michaele Kuhn\, E-Mail: post@michaelekuhn.de\nTel.: +49 179-6895410 \nwww.michaelekuhn.de
URL:https://staging.hauslebenskraft.de/veranstaltung/michaele/
LOCATION:Haus Lebenskraft\, Gutenbergstr. 30\, Potsdam\, Brandenburg\, 14467\, Germany
CATEGORIES:Öffentlich, Raum der Erde
ORGANIZER;CN="Michaele Kuhn":MAILTO:post@michaelekuhn.de
END:VEVENT
BEGIN:VEVENT
DTSTART;TZID=Europe/Berlin:20250428T070000
DTEND;TZID=Europe/Berlin:20250428T100000
DTSTAMP:20260424T094924
CREATED:20240112T155041Z
LAST-MODIFIED:20260205T091421Z
UID:10017970-1745823600-1745834400@staging.hauslebenskraft.de
SUMMARY:Hausreinigung
DESCRIPTION:
URL:https://staging.hauslebenskraft.de/veranstaltung/hausreinigung/2025-04-28/
LOCATION:Haus Lebenskraft\, Gutenbergstr. 30\, Potsdam\, Brandenburg\, 14467\, Germany
CATEGORIES:Intern, Behandlungsraum,Intern, Raum der Erde,Intern, Sonnenraum,Intern, Therapieraum
END:VEVENT
BEGIN:VEVENT
DTSTART;TZID=Europe/Berlin:20250428T130000
DTEND;TZID=Europe/Berlin:20250428T141500
DTSTAMP:20260424T094924
CREATED:20250224T115831Z
LAST-MODIFIED:20250224T120306Z
UID:10017826-1745845200-1745849700@staging.hauslebenskraft.de
SUMMARY:Leber-QiGong- innere Ordnung für den Frühling
DESCRIPTION:Leber-Qigong ist eine gute Selbsthilfe für die Leber und ihre Funktionen: Detox und Verdauung über Beweglichkeit der Sehkraft bis zur charakterlichen Stärke. Ihre hohe Zeit ist der Frühling.
URL:https://staging.hauslebenskraft.de/veranstaltung/qigong-2/2025-04-28/
LOCATION:Haus Lebenskraft\, Gutenbergstr. 30\, Potsdam\, Brandenburg\, 14467\, Germany
CATEGORIES:Öffentlich, Raum der Erde
ORGANIZER;CN="Katrin M%C3%BCller":MAILTO:km-qigongseminare@posteo.de
END:VEVENT
BEGIN:VEVENT
DTSTART;TZID=Europe/Berlin:20250428T161500
DTEND;TZID=Europe/Berlin:20250428T171500
DTSTAMP:20260424T094924
CREATED:20250221T155455Z
LAST-MODIFIED:20260228T222053Z
UID:10017689-1745856900-1745860500@staging.hauslebenskraft.de
SUMMARY:Pilates mit Selina
DESCRIPTION:Beim Pilates kannst du deinen Körper neu entdecken. Die Übungen stärken sowohl deine Körpermitte als auch dein Selbstbewusstsein.\nMeine Kurse sind mehr als nur ein Workout. Du lernst dich zu spüren\, achtsam und liebevoll mit dir umzugehen.\nPilates soll einen Zugang zu deinem Körper schaffen\, wo du dich sicher fühlst und gleichzeitig mehr über dich erfährst.10 Wochenkurs: 150 EUR\nEinzelstunde: 17 EUR\nProbestunde: 15 EUR\nDieser Kurs gilt als Präventionskurs und wird von gesetzlichen Krankenkassen bezuschusst. \nAnmeldung per Mail: selinakuehlwein@gmx.de\nWebsite: www.gestalttherapie-in-potsdam.de/körperarbeit-pilates\nBei Fragen auch gerne anrufen: 0171 98 68 712\n—
URL:https://staging.hauslebenskraft.de/veranstaltung/pilates-mit-selina/2025-04-28/
LOCATION:Haus Lebenskraft\, Gutenbergstr. 30\, Potsdam\, Brandenburg\, 14467\, Germany
CATEGORIES:Öffentlich, Raum der Erde
ATTACH;FMTTYPE=image/jpeg:https://staging.hauslebenskraft.de/wp-content/uploads/2026/02/Pilatesbridge-1.jpg
END:VEVENT
BEGIN:VEVENT
DTSTART;TZID=Europe/Berlin:20250428T173000
DTEND;TZID=Europe/Berlin:20250428T183000
DTSTAMP:20260424T094924
CREATED:20250221T160221Z
LAST-MODIFIED:20260228T222206Z
UID:10017752-1745861400-1745865000@staging.hauslebenskraft.de
SUMMARY:Pilates mit Selina
DESCRIPTION:Beim Pilates kannst du deinen Körper neu entdecken. Die Übungen stärken sowohl deine Körpermitte als auch dein Selbstbewusstsein.\nMeine Kurse sind mehr als nur ein Workout. Du lernst dich zu spüren\, achtsam und liebevoll mit dir umzugehen.\nPilates soll einen Zugang zu deinem Körper schaffen\, wo du dich sicher fühlst und gleichzeitig mehr über dich erfährst.10 Wochenkurs: 150 EUR\nEinzelstunde: 17 EUR\nProbestunde: 15 EUR\nDieser Kurs gilt als Präventionskurs und wird von gesetzlichen Krankenkassen bezuschusst. \nAnmeldung per Mail: selinakuehlwein@gmx.de\nWebsite: www.gestalttherapie-in-potsdam.de/körperarbeit-pilates\nBei Fragen auch gerne anrufen: 0171 98 68 712\n—
URL:https://staging.hauslebenskraft.de/veranstaltung/pilates-mit-selina-2/2025-04-28/
LOCATION:Haus Lebenskraft\, Gutenbergstr. 30\, Potsdam\, Brandenburg\, 14467\, Germany
CATEGORIES:Öffentlich, Raum der Erde
ATTACH;FMTTYPE=image/jpeg:https://staging.hauslebenskraft.de/wp-content/uploads/2026/02/Pilatesbridge-1.jpg
END:VEVENT
BEGIN:VEVENT
DTSTART;TZID=Europe/Berlin:20250429T080000
DTEND;TZID=Europe/Berlin:20250429T090000
DTSTAMP:20260424T094924
CREATED:20220125T141741Z
LAST-MODIFIED:20250714T070943Z
UID:10010829-1745913600-1745917200@staging.hauslebenskraft.de
SUMMARY:Early Bird Yoga
DESCRIPTION:Wach und energetisch in den Tag starten! Ich kombiniere traditionelle Yogahaltungen\, fließe durch einige Vinyasa Flows und lasse dich im Kopf ruhig und dennoch wach und fit aus der Yoga-Stunde in den Tag starten.
URL:https://staging.hauslebenskraft.de/veranstaltung/early-bird-yoga/2025-04-29/
LOCATION:Haus Lebenskraft\, Gutenbergstr. 30\, Potsdam\, Brandenburg\, 14467\, Germany
CATEGORIES:Öffentlich, Raum der Erde
ORGANIZER;CN="Maxi Radicke":MAILTO:spiritmagic@posteo.com
END:VEVENT
BEGIN:VEVENT
DTSTART;TZID=Europe/Berlin:20250429T121500
DTEND;TZID=Europe/Berlin:20250429T130000
DTSTAMP:20260424T094924
CREATED:20210624T111528Z
LAST-MODIFIED:20250630T095425Z
UID:10006722-1745928900-1745931600@staging.hauslebenskraft.de
SUMMARY:Lunch Break Yoga\, 45 min
DESCRIPTION:Wir werden deinem Rücken und deinen Schultern gutes Tun\, damit du dich energetisiert durch die zweite Tageshälfte bewegst. Ich kombiniere traditionelles Hatha Yoga mit Vinyasa und lasse je nach Gruppenenergie auch mal ein paar YinYoga-Positionen oder Yoga für emotionale Balance einfließen.
URL:https://staging.hauslebenskraft.de/veranstaltung/lunch-break-yoga-10er-kurs-5/2025-04-29/
LOCATION:Haus Lebenskraft\, Gutenbergstr. 30\, Potsdam\, Brandenburg\, 14467\, Germany
CATEGORIES:Öffentlich, Raum der Erde
ORGANIZER;CN="Maxi Radicke":MAILTO:spiritmagic@posteo.com
END:VEVENT
BEGIN:VEVENT
DTSTART;TZID=Europe/Berlin:20250429T170000
DTEND;TZID=Europe/Berlin:20250429T183000
DTSTAMP:20260424T094924
CREATED:20241215T180938Z
LAST-MODIFIED:20260119T122215Z
UID:10023890-1745946000-1745951400@staging.hauslebenskraft.de
SUMMARY:Tanzfreude mit Gesine - ein faszienorientiertes Bewegungsangebot
DESCRIPTION:Der flow-orientierte Faszientanz zu Musik aus aller Welt ist ein Bewegungsangebot\, das fließende\, tanz-inspirierte Bewegungen mit gezielten Impulsen für das fasziale Gewebe verbindet. Mit Freude an Bewegung und spürbarer Leidenschaft für den Körper entstehen freie Bewegungsformen\, die Mobilität\, Elastizität\, Körperwahrnehmung und einen sanften Muskelaufbau fördern. \nDas Training kommt ohne feste Choreografien aus und lädt dazu ein\, sein eigenes Tempo und Intensität individuell anzupassen. Das Angebot unterstützt Ausdauer\, das Herz-Kreislauf-System sowie die Koordination und ist für Menschen unterschiedlicher Alters- und Erfahrungsstufen geeignet. \nDen Abschluss bildet eine wohltuende Dehnungs- und Entspannungsphase mit Klangspiel und Gong. Sie schafft Raum für Ruhe\, Nachspüren und Regeneration. Ich freue mich auf eine gemeinsame Bewegungszeit voller Lebensfreude\, Achtsamkeit und lebendiger Präsenz in dem wundervollen Sonnenraum im Haus Lebenskraft. \nHerzlichst Gesine \nEinzelveranstaltung: 15 €\, 6-er Karte: 72 € \nSchnupperstunde: 12 € \nAnmeldung unter: gesine.schaefer@gmx.de oder gesine@hauslebenskraft.de bis zum 05.01.2026 \nDie Teilnahme am Kurs ist nur nach persönlicher oder schriftlicher Zusage möglich. \nTel: 017651871225 \nIch freue mich auf euch. \nGesine Schaefer \nTanztrainerin\, HP nach Psych KG\, Kinesiologin\, Gestalttherapeutin\, Klangmassagepraktikerin \n  \n  \n 
URL:https://staging.hauslebenskraft.de/veranstaltung/tanzfreude-mit-gesine-ein-faszienorientiertes-bewegungsangebot/2025-04-29/
LOCATION:Haus Lebenskraft\, Gutenbergstr. 30\, Potsdam\, Brandenburg\, 14467\, Germany
CATEGORIES:Öffentlich, Sonnenraum
ORGANIZER;CN="Gesine Schaefer":MAILTO:gesine.schaefer@gmx.de
END:VEVENT
BEGIN:VEVENT
DTSTART;TZID=Europe/Berlin:20250429T193000
DTEND;TZID=Europe/Berlin:20250429T213000
DTSTAMP:20260424T094924
CREATED:20250410T180141Z
LAST-MODIFIED:20250605T183504Z
UID:10018024-1745955000-1745962200@staging.hauslebenskraft.de
SUMMARY:Conscious Playfight - Achtsames Raufen
DESCRIPTION:Hast du Lust\, Deinen natürlichen Instinkt des spielerischen Kräftemessens in einem sicheren Raum auszuleben? „Achtsames Raufen“ lädt dich ein\, in eine körperliche Begegnung einzutauchen\, bei der die Intuition deines Körpers im Mittelpunkt steht. Jede Session entfaltet ihre eigene Energie und bringt dich in tiefe Verbindung mit Dir selbst\, dem Moment und Deinen Mitspieler*innen.\nIch verstehe Playfight eher als eine Art Kontaktimprovisation statt einem Kampfsport: Es geht nicht darum\, zu gewinnen oder zu dominieren\, sondern wie bei einem Tanz die Freude dessen zu erleben\, ganz im eigenen Körper zu sein und sich in einem freien\, dynamischen\, spielerischen Kontakt mit anderen Körpern zu erleben. \nDiese Form von Playfight erfordert keinerlei Vorerfahrung und ist perfekt für Dich\, wenn Du neugierig auf Raufen bist\, aber Dich dem auf eine langsame und sanfte Art annähern möchten.\nTrau dich und entdecke die Freude am spielerischen Raufen! \nAuch wenn wir uns hier achtsam und unter Berücksichtigung insbesondere unserer körperlichen Grenzen und Einschränkungen begegnen\, können Verletzungen auftreten. Aus diesem Grund ist die Einwilligung in eine Haftungsausschlusserklärung für dieses Event erforderlich. \nTeilnahmegebühren: 10 Euro Ermäßigt\, 15 Euro Normal\, 20 Euro Unterstützer \nE-Mail: florian.hollandt@gmail.com \nTelefonnummer: 017623516385\nAdresse: Gutenbergstr. 30; 14467 Potsdam
URL:https://staging.hauslebenskraft.de/veranstaltung/conscious-playfight-achtsames-raufen-2-2/2025-04-29/
LOCATION:Haus Lebenskraft\, Gutenbergstr. 30\, Potsdam\, Brandenburg\, 14467\, Germany
CATEGORIES:Öffentlich, Sonnenraum
ORGANIZER;CN="Florian Hollandt":MAILTO:florian.hollandt@gmail.com
END:VEVENT
BEGIN:VEVENT
DTSTART;TZID=Europe/Berlin:20250430T100000
DTEND;TZID=Europe/Berlin:20250430T180000
DTSTAMP:20260424T094924
CREATED:20230531T092827Z
LAST-MODIFIED:20250113T181723Z
UID:10016937-1746007200-1746036000@staging.hauslebenskraft.de
SUMMARY:Judith Rauxloh Therapie
DESCRIPTION:
URL:https://staging.hauslebenskraft.de/veranstaltung/judith-rauxloh-therapie-3/2025-04-30/
LOCATION:Haus Lebenskraft\, Gutenbergstr. 30\, Potsdam\, Brandenburg\, 14467\, Germany
CATEGORIES:Intern, Therapieraum
ORGANIZER;CN="Judith Rauxloh":MAILTO:judith.rauxloh@gmx.de
END:VEVENT
BEGIN:VEVENT
DTSTART;TZID=Europe/Berlin:20250430T113000
DTEND;TZID=Europe/Berlin:20250430T123000
DTSTAMP:20260424T094924
CREATED:20250515T094711Z
LAST-MODIFIED:20260228T222312Z
UID:10017815-1746012600-1746016200@staging.hauslebenskraft.de
SUMMARY:Pilates mit Selina
DESCRIPTION:Beim Pilates kannst du deinen Körper neu entdecken. Die Übungen stärken sowohl deine Körpermitte als auch dein Selbstbewusstsein.\nMeine Kurse sind mehr als nur ein Workout. Du lernst dich zu spüren\, achtsam und liebevoll mit dir umzugehen.\nPilates soll einen Zugang zu deinem Körper schaffen\, wo du dich sicher fühlst und gleichzeitig mehr über dich erfährst.10 Wochenkurs: 150 EUR\nEinzelstunde: 17 EUR\nProbestunde: 15 EUR\nDieser Kurs gilt als Präventionskurs und wird von gesetzlichen Krankenkassen bezuschusst. \nAnmeldung per Mail: selinakuehlwein@gmx.de\nWebsite: www.gestalttherapie-in-potsdam.de/körperarbeit-pilates\nBei Fragen auch gerne anrufen: 0171 98 68 712\n— \n 
URL:https://staging.hauslebenskraft.de/veranstaltung/pilates-mit-selina-3/2025-04-30/
LOCATION:Haus Lebenskraft\, Gutenbergstr. 30\, Potsdam\, Brandenburg\, 14467\, Germany
CATEGORIES:Öffentlich, Sonnenraum
ATTACH;FMTTYPE=image/jpeg:https://staging.hauslebenskraft.de/wp-content/uploads/2026/02/Pilatesbridge-1.jpg
END:VEVENT
BEGIN:VEVENT
DTSTART;TZID=Europe/Berlin:20250430T193000
DTEND;TZID=Europe/Berlin:20250430T203000
DTSTAMP:20260424T094924
CREATED:20241129T092258Z
LAST-MODIFIED:20260202T133934Z
UID:10015523-1746041400-1746045000@staging.hauslebenskraft.de
SUMMARY:Das Ehrliche Mitteilen nach Gopal
DESCRIPTION:Das Ehrliche Mitteilen ist eine Methode\, mit der man durch das Aussprechen WAS IST\, in tiefe Entspannung und Regulierung des Nervensystems kommt. Durch Annahme und Aussprechen werden Themen transformiert. Jeder spricht und jeder hört zu. Durch das Mitteilen und Zuhören entsteht eine tiefe Verbindung mit den anderen der Gruppe und so auch ein Gefühl der Sicherheit. \n\nGanz nach dem Motto: „Uns heilt\, was uns verbindet“ (Gopal Norbert Klein – Begründer von EM) \nDie Teilnahme erfolgt gegen Spende. \nIch bitte um Anmeldung unter: mail@ernaehrung-und-lebensenergie.com
URL:https://staging.hauslebenskraft.de/veranstaltung/das-ehrliche-mitteilen-nach-gopal-2/2025-04-30/
LOCATION:Haus Lebenskraft\, Gutenbergstr. 30\, Potsdam\, Brandenburg\, 14467\, Germany
CATEGORIES:Öffentlich, Raum der Erde
ATTACH;FMTTYPE=image/png:https://staging.hauslebenskraft.de/wp-content/uploads/2026/02/Bild-Voegel-nebeneinander-1.png
ORGANIZER;CN="Carmen Queck":MAILTO:mail@ernaehrung-und-lebensenergie.com
END:VEVENT
END:VCALENDAR