BEGIN:VCALENDAR
VERSION:2.0
PRODID:-//Haus Lebenskraft - ECPv6.15.20//NONSGML v1.0//EN
CALSCALE:GREGORIAN
METHOD:PUBLISH
X-ORIGINAL-URL:https://staging.hauslebenskraft.de
X-WR-CALDESC:Veranstaltungen für Haus Lebenskraft
REFRESH-INTERVAL;VALUE=DURATION:PT1H
X-Robots-Tag:noindex
X-PUBLISHED-TTL:PT1H
BEGIN:VTIMEZONE
TZID:Europe/Berlin
BEGIN:DAYLIGHT
TZOFFSETFROM:+0100
TZOFFSETTO:+0200
TZNAME:CEST
DTSTART:20260329T010000
END:DAYLIGHT
BEGIN:STANDARD
TZOFFSETFROM:+0200
TZOFFSETTO:+0100
TZNAME:CET
DTSTART:20261025T010000
END:STANDARD
BEGIN:DAYLIGHT
TZOFFSETFROM:+0100
TZOFFSETTO:+0200
TZNAME:CEST
DTSTART:20270328T010000
END:DAYLIGHT
BEGIN:STANDARD
TZOFFSETFROM:+0200
TZOFFSETTO:+0100
TZNAME:CET
DTSTART:20271031T010000
END:STANDARD
BEGIN:DAYLIGHT
TZOFFSETFROM:+0100
TZOFFSETTO:+0200
TZNAME:CEST
DTSTART:20280326T010000
END:DAYLIGHT
BEGIN:STANDARD
TZOFFSETFROM:+0200
TZOFFSETTO:+0100
TZNAME:CET
DTSTART:20281029T010000
END:STANDARD
END:VTIMEZONE
BEGIN:VEVENT
DTSTART;TZID=Europe/Berlin:20270422T100000
DTEND;TZID=Europe/Berlin:20270422T170000
DTSTAMP:20260425T143201
CREATED:20260423T105353Z
LAST-MODIFIED:20260423T105353Z
UID:10026050-1808388000-1808413200@staging.hauslebenskraft.de
SUMMARY:300h Modul Anatomie ( Lalla)
DESCRIPTION:
URL:https://staging.hauslebenskraft.de/veranstaltung/300h-modul-anatomie-lalla/2027-04-22/
LOCATION:Haus Lebenskraft\, Gutenbergstr. 30\, Potsdam\, Brandenburg\, 14467\, Germany
CATEGORIES:Intern, Sonnenraum
ORGANIZER;CN="parApara Digital GmbH":MAILTO:lena@lallaundvilas.de
END:VEVENT
BEGIN:VEVENT
DTSTART;TZID=Europe/Berlin:20270422T180000
DTEND;TZID=Europe/Berlin:20270422T191500
DTSTAMP:20260425T143201
CREATED:20260423T110831Z
LAST-MODIFIED:20260423T110831Z
UID:10026101-1808416800-1808421300@staging.hauslebenskraft.de
SUMMARY:Bauchtanz
DESCRIPTION:Bauchtanz\, eigentlich „Orientalischer Tanz“ nimmt Dich mit in eine andere Welt. Wie kaum ein anderer Tanz vereint er Weiblichkeit\, Körperbeherrschung und Tanzfreude. Als positiven Nebeneffekt verbessert er Deine Beweglichkeit\, Deine Haltung und Dein körperliches und seelisches Wohlbefinden. Die typischen Bewegungen werden stets mit viel Tanzfreude geübt und bis hin zu Choreographien miteinander kombiniert. Zusätzlich werden in manchen Stunden Elemente wie der Tanzschleier hinzugenommen. \nBauchtanz bzw. Orientalischer Tanz eignet sich für alle Frauen und Mädchen jeden Alters.\nDieser Kurs ist für Tänzerinnen mit Vorkenntnissen. Einsteigerinnen: nach Rücksprache möglich. Erste Schnupperstunde 10 €. \nKosten: 50 € monatlich \nInfo: https://www.zeyna.com \nTelefon: 0151 432 53 180
URL:https://staging.hauslebenskraft.de/veranstaltung/bauchtanz-2/2027-04-22/
LOCATION:Haus Lebenskraft\, Gutenbergstr. 30\, Potsdam\, Brandenburg\, 14467\, Germany
CATEGORIES:Öffentlich, Sonnenraum
ATTACH;FMTTYPE=image/png:https://staging.hauslebenskraft.de/wp-content/uploads/2026/02/bauchtanz_potsdam-1.png
ORGANIZER;CN="Sabine Richter":MAILTO:sabinezeyna@yahoo.de
END:VEVENT
BEGIN:VEVENT
DTSTART;TZID=Europe/Berlin:20270422T183000
DTEND;TZID=Europe/Berlin:20270422T190000
DTSTAMP:20260425T143201
CREATED:20260403T115117Z
LAST-MODIFIED:20260403T115126Z
UID:10012998-1808418600-1808420400@staging.hauslebenskraft.de
SUMMARY:intern
DESCRIPTION:Singkreis Vorbereitung
URL:https://staging.hauslebenskraft.de/veranstaltung/intern-28/2027-04-22/
LOCATION:Haus Lebenskraft\, Gutenbergstr. 30\, Potsdam\, Brandenburg\, 14467\, Germany
CATEGORIES:Intern, Raum der Erde
ORGANIZER;CN="Maria Jastremski":MAILTO:mary1205@gmx.de
END:VEVENT
BEGIN:VEVENT
DTSTART;TZID=Europe/Berlin:20270422T190000
DTEND;TZID=Europe/Berlin:20270422T203000
DTSTAMP:20260425T143201
CREATED:20260320T074618Z
LAST-MODIFIED:20260403T170634Z
UID:10025748-1808420400-1808425800@staging.hauslebenskraft.de
SUMMARY:🎶 Singen und Sein 🎵 mit den Hüterinnen des Klangs
DESCRIPTION:Getragen von herzöffnenden Mantren\, Kraftliedern und Spiritsongs\nerschaffen wir einen Klangraum der Verbindung zu Dir selbst\nund der Gemeinschaft. \nUnabhängig von Deinen Vorerfahrungen teilen wir die Freude mit Dir\, in den Zauber des Singens einzutauchen.\nUnsere Stimmen und Gitarrenklänge reisen durch leise\, zarte und auch kraftvolle\, energetische Welten.\nWir laden Dich ein\, einfach hier zu Sein!\nKomm ohne Anmeldung vorbei. \nWann? Jeden 4. Donnerstag im Monat. Auf Spendenbasis (Empfehlung 10+ €). \nORT: Haus Lebenskraft Gutenbergstraße 30 14467 Potsdam Erdraum\n(durch die Glastür beim Kinderladen gehen\, 1. Etage im Erdraum) \n🎵Wir freuen uns! 🎶
URL:https://staging.hauslebenskraft.de/veranstaltung/%f0%9f%8e%b6-singen-und-sein-%f0%9f%8e%b5-mit-den-hueterinnen-des-klangs/2027-04-22/
LOCATION:Haus Lebenskraft\, Gutenbergstr. 30\, Potsdam\, Brandenburg\, 14467\, Germany
CATEGORIES:Öffentlich, Raum der Erde
ATTACH;FMTTYPE=image/jpeg:https://staging.hauslebenskraft.de/wp-content/uploads/2026/03/IMG_7072.jpeg
ORGANIZER;CN="Maria Jastremski":MAILTO:mary1205@gmx.de
END:VEVENT
BEGIN:VEVENT
DTSTART;TZID=Europe/Berlin:20270422T193000
DTEND;TZID=Europe/Berlin:20270422T204500
DTSTAMP:20260425T143201
CREATED:20260423T111131Z
LAST-MODIFIED:20260423T111131Z
UID:10026151-1808422200-1808426700@staging.hauslebenskraft.de
SUMMARY:Bauchtanz
DESCRIPTION:Bauchtanz\, eigentlich „Orientalischer Tanz“ nimmt Dich mit in eine andere Welt. Wie kaum ein anderer Tanz vereint er Weiblichkeit\, Körperbeherrschung und Tanzfreude. Als positiven Nebeneffekt verbessert er Deine Beweglichkeit\, Deine Haltung und Dein körperliches und seelisches Wohlbefinden. Die typischen Bewegungen werden stets mit viel Tanzfreude geübt und bis hin zu Choreographien miteinander kombiniert. Zusätzlich werden in manchen Stunden Elemente wie der Tanzschleier hinzugenommen. \nBauchtanz bzw. Orientalischer Tanz eignet sich für alle Frauen und Mädchen jeden Alters.\nDieser Kurs ist für Tänzerinnen mit Vorkenntnissen. Einsteigerinnen: nach Rücksprache möglich. Erste Schnupperstunde 10 €. \nKosten: 50 € monatlich \nInfo: https://www.zeyna.com \nTelefon: 0151 432 53 180
URL:https://staging.hauslebenskraft.de/veranstaltung/bauchtanz-4/2027-04-22/
LOCATION:Haus Lebenskraft\, Gutenbergstr. 30\, Potsdam\, Brandenburg\, 14467\, Germany
CATEGORIES:Öffentlich, Sonnenraum
ATTACH;FMTTYPE=image/png:https://staging.hauslebenskraft.de/wp-content/uploads/2026/02/bauchtanz_potsdam-1.png
ORGANIZER;CN="Sabine Richter":MAILTO:sabinezeyna@yahoo.de
END:VEVENT
END:VCALENDAR