BEGIN:VCALENDAR
VERSION:2.0
PRODID:-//Haus Lebenskraft - ECPv6.15.20//NONSGML v1.0//EN
CALSCALE:GREGORIAN
METHOD:PUBLISH
X-WR-CALNAME:Haus Lebenskraft
X-ORIGINAL-URL:https://staging.hauslebenskraft.de
X-WR-CALDESC:Veranstaltungen für Haus Lebenskraft
REFRESH-INTERVAL;VALUE=DURATION:PT1H
X-Robots-Tag:noindex
X-PUBLISHED-TTL:PT1H
BEGIN:VTIMEZONE
TZID:Europe/Berlin
BEGIN:DAYLIGHT
TZOFFSETFROM:+0100
TZOFFSETTO:+0200
TZNAME:CEST
DTSTART:20260329T010000
END:DAYLIGHT
BEGIN:STANDARD
TZOFFSETFROM:+0200
TZOFFSETTO:+0100
TZNAME:CET
DTSTART:20261025T010000
END:STANDARD
BEGIN:DAYLIGHT
TZOFFSETFROM:+0100
TZOFFSETTO:+0200
TZNAME:CEST
DTSTART:20270328T010000
END:DAYLIGHT
BEGIN:STANDARD
TZOFFSETFROM:+0200
TZOFFSETTO:+0100
TZNAME:CET
DTSTART:20271031T010000
END:STANDARD
BEGIN:DAYLIGHT
TZOFFSETFROM:+0100
TZOFFSETTO:+0200
TZNAME:CEST
DTSTART:20280326T010000
END:DAYLIGHT
BEGIN:STANDARD
TZOFFSETFROM:+0200
TZOFFSETTO:+0100
TZNAME:CET
DTSTART:20281029T010000
END:STANDARD
END:VTIMEZONE
BEGIN:VEVENT
DTSTART;TZID=Europe/Berlin:20270114T100000
DTEND;TZID=Europe/Berlin:20270114T170000
DTSTAMP:20260424T111306
CREATED:20260423T103951Z
LAST-MODIFIED:20260423T103951Z
UID:10026042-1799920800-1799946000@staging.hauslebenskraft.de
SUMMARY:300 h Modul Philosophie (Lalla)
DESCRIPTION:
URL:https://staging.hauslebenskraft.de/veranstaltung/300-h-modul-philosophie-lalla/2027-01-14/
LOCATION:Haus Lebenskraft\, Gutenbergstr. 30\, Potsdam\, Brandenburg\, 14467\, Germany
CATEGORIES:Intern, Sonnenraum
ORGANIZER;CN="parApara Digital GmbH":MAILTO:lena@lallaundvilas.de
END:VEVENT
BEGIN:VEVENT
DTSTART;TZID=Europe/Berlin:20270114T174500
DTEND;TZID=Europe/Berlin:20270114T184500
DTSTAMP:20260424T111306
CREATED:20260327T202806Z
LAST-MODIFIED:20260327T202815Z
UID:10024313-1799948700-1799952300@staging.hauslebenskraft.de
SUMMARY:intern
DESCRIPTION:Vorbereitung Jeanette
URL:https://staging.hauslebenskraft.de/veranstaltung/vorb-jeanette-4-2/2027-01-14/
LOCATION:Haus Lebenskraft\, Gutenbergstr. 30\, Potsdam\, Brandenburg\, 14467\, Germany
CATEGORIES:Intern, Raum der Erde
ORGANIZER;CN="Jeannette St%C3%B6lzel":MAILTO:contact@jeanne-heilimpulse.eu
END:VEVENT
BEGIN:VEVENT
DTSTART;TZID=Europe/Berlin:20270114T180000
DTEND;TZID=Europe/Berlin:20270114T191500
DTSTAMP:20260424T111306
CREATED:20260423T110831Z
LAST-MODIFIED:20260423T110831Z
UID:10026087-1799949600-1799954100@staging.hauslebenskraft.de
SUMMARY:Bauchtanz
DESCRIPTION:Bauchtanz\, eigentlich „Orientalischer Tanz“ nimmt Dich mit in eine andere Welt. Wie kaum ein anderer Tanz vereint er Weiblichkeit\, Körperbeherrschung und Tanzfreude. Als positiven Nebeneffekt verbessert er Deine Beweglichkeit\, Deine Haltung und Dein körperliches und seelisches Wohlbefinden. Die typischen Bewegungen werden stets mit viel Tanzfreude geübt und bis hin zu Choreographien miteinander kombiniert. Zusätzlich werden in manchen Stunden Elemente wie der Tanzschleier hinzugenommen. \nBauchtanz bzw. Orientalischer Tanz eignet sich für alle Frauen und Mädchen jeden Alters.\nDieser Kurs ist für Tänzerinnen mit Vorkenntnissen. Einsteigerinnen: nach Rücksprache möglich. Erste Schnupperstunde 10 €. \nKosten: 50 € monatlich \nInfo: https://www.zeyna.com \nTelefon: 0151 432 53 180
URL:https://staging.hauslebenskraft.de/veranstaltung/bauchtanz-2/2027-01-14/
LOCATION:Haus Lebenskraft\, Gutenbergstr. 30\, Potsdam\, Brandenburg\, 14467\, Germany
CATEGORIES:Öffentlich, Sonnenraum
ATTACH;FMTTYPE=image/png:https://staging.hauslebenskraft.de/wp-content/uploads/2026/02/bauchtanz_potsdam-1.png
ORGANIZER;CN="Sabine Richter":MAILTO:sabinezeyna@yahoo.de
END:VEVENT
BEGIN:VEVENT
DTSTART;TZID=Europe/Berlin:20270114T190000
DTEND;TZID=Europe/Berlin:20270114T210000
DTSTAMP:20260424T111306
CREATED:20260327T202700Z
LAST-MODIFIED:20260327T202709Z
UID:10022049-1799953200-1799960400@staging.hauslebenskraft.de
SUMMARY:HeilraumReise mit Jeannette
DESCRIPTION:HeilraumReise \nIch lade dich ein\, Räume zu erfahren\, in denen sich dein Körper an seinen lichtvollen Ursprung erinnern kann. Gerne begleite ich dich gemeinsam mit den lichtvollen Helfern aus der geistigen Welt\, die Energie der neuen Zeit anzunehmen\, mit ihr zu schwingen und deinen physischen\, geistigen und feinstofflichen Körper (Chakren\, Meridiane…) zu stabilisieren. \nVon Herzen Jeannette \n  \nTermine: Jeden 2. Donnerstag im Monat von 19 bis 21 Uhr\, (Raum der Erde) \nEnergieausgleich: 30-35 EUR \nOrt: Haus Lebenskraft\, Gutenbergstr. 30\, 14467 Potsdam\, www.hauslebenskraft.de \nAnmeldung: jeannettedu@web.de oder 01577 6203876 \n  \n 
URL:https://staging.hauslebenskraft.de/veranstaltung/vorbereitung-chakren-in-balance-3-2/2027-01-14/
LOCATION:Haus Lebenskraft\, Gutenbergstr. 30\, Potsdam\, Brandenburg\, 14467\, Germany
CATEGORIES:Öffentlich, Raum der Erde
ORGANIZER;CN="Jeannette St%C3%B6lzel":MAILTO:contact@jeanne-heilimpulse.eu
END:VEVENT
BEGIN:VEVENT
DTSTART;TZID=Europe/Berlin:20270114T193000
DTEND;TZID=Europe/Berlin:20270114T204500
DTSTAMP:20260424T111306
CREATED:20260423T111131Z
LAST-MODIFIED:20260423T111131Z
UID:10026137-1799955000-1799959500@staging.hauslebenskraft.de
SUMMARY:Bauchtanz
DESCRIPTION:Bauchtanz\, eigentlich „Orientalischer Tanz“ nimmt Dich mit in eine andere Welt. Wie kaum ein anderer Tanz vereint er Weiblichkeit\, Körperbeherrschung und Tanzfreude. Als positiven Nebeneffekt verbessert er Deine Beweglichkeit\, Deine Haltung und Dein körperliches und seelisches Wohlbefinden. Die typischen Bewegungen werden stets mit viel Tanzfreude geübt und bis hin zu Choreographien miteinander kombiniert. Zusätzlich werden in manchen Stunden Elemente wie der Tanzschleier hinzugenommen. \nBauchtanz bzw. Orientalischer Tanz eignet sich für alle Frauen und Mädchen jeden Alters.\nDieser Kurs ist für Tänzerinnen mit Vorkenntnissen. Einsteigerinnen: nach Rücksprache möglich. Erste Schnupperstunde 10 €. \nKosten: 50 € monatlich \nInfo: https://www.zeyna.com \nTelefon: 0151 432 53 180
URL:https://staging.hauslebenskraft.de/veranstaltung/bauchtanz-4/2027-01-14/
LOCATION:Haus Lebenskraft\, Gutenbergstr. 30\, Potsdam\, Brandenburg\, 14467\, Germany
CATEGORIES:Öffentlich, Sonnenraum
ATTACH;FMTTYPE=image/png:https://staging.hauslebenskraft.de/wp-content/uploads/2026/02/bauchtanz_potsdam-1.png
ORGANIZER;CN="Sabine Richter":MAILTO:sabinezeyna@yahoo.de
END:VEVENT
END:VCALENDAR