BEGIN:VCALENDAR
VERSION:2.0
PRODID:-//Haus Lebenskraft - ECPv6.15.20//NONSGML v1.0//EN
CALSCALE:GREGORIAN
METHOD:PUBLISH
X-ORIGINAL-URL:https://staging.hauslebenskraft.de
X-WR-CALDESC:Veranstaltungen für Haus Lebenskraft
REFRESH-INTERVAL;VALUE=DURATION:PT1H
X-Robots-Tag:noindex
X-PUBLISHED-TTL:PT1H
BEGIN:VTIMEZONE
TZID:Europe/Berlin
BEGIN:DAYLIGHT
TZOFFSETFROM:+0100
TZOFFSETTO:+0200
TZNAME:CEST
DTSTART:20250330T010000
END:DAYLIGHT
BEGIN:STANDARD
TZOFFSETFROM:+0200
TZOFFSETTO:+0100
TZNAME:CET
DTSTART:20251026T010000
END:STANDARD
BEGIN:DAYLIGHT
TZOFFSETFROM:+0100
TZOFFSETTO:+0200
TZNAME:CEST
DTSTART:20260329T010000
END:DAYLIGHT
BEGIN:STANDARD
TZOFFSETFROM:+0200
TZOFFSETTO:+0100
TZNAME:CET
DTSTART:20261025T010000
END:STANDARD
BEGIN:DAYLIGHT
TZOFFSETFROM:+0100
TZOFFSETTO:+0200
TZNAME:CEST
DTSTART:20270328T010000
END:DAYLIGHT
BEGIN:STANDARD
TZOFFSETFROM:+0200
TZOFFSETTO:+0100
TZNAME:CET
DTSTART:20271031T010000
END:STANDARD
END:VTIMEZONE
BEGIN:VEVENT
DTSTART;TZID=Europe/Berlin:20260922T123000
DTEND;TZID=Europe/Berlin:20260922T134500
DTSTAMP:20260423T045200
CREATED:20260413T142624Z
LAST-MODIFIED:20260416T193357Z
UID:10025989-1790080200-1790084700@staging.hauslebenskraft.de
SUMMARY:Entgiften mit Leber-Qigong
DESCRIPTION:  \nIm Frühjahr ist Hoch-Zeit für die Leber: Stärkendes wirkt stärker\, Schädigendes auch. Die Meridiane geben oft frühe Signale: Blähungen\, Schmerz\, ob im Unterleib\, im Arm\, der Schulter als Qi-Stau; Brennen in Augen\, Ohren\, Hals als Gefühlsstau. Außer Energie für Leber\, Galle\, Sehnen\, Gelenke\, Augen\, Blut und Verdauung ist LeberQigong auch emotionale Reinigung und gibt neue Kraft\, damit nicht ständig eine „Laus über die Leber kriecht“ oder „die Galle hochkocht“.\nMit energischer Atmung im Stehen und stillem Dialog mit den Organen im Sitzen ist spürbar\, dass die Leber im ganzen Körper für innere Ordnung sorgt\, für ein ruhiges Herz und klaren Blick. \n 
URL:https://staging.hauslebenskraft.de/veranstaltung/stilles-winter-qigong-fuer-inneren-frieden-2/2026-09-22/
LOCATION:Haus Lebenskraft\, Gutenbergstr. 30\, Potsdam\, Brandenburg\, 14467\, Germany
CATEGORIES:Öffentlich, Raum der Erde
ORGANIZER;CN="Katrin M%C3%BCller":MAILTO:km-qigongseminare@posteo.de
END:VEVENT
BEGIN:VEVENT
DTSTART;TZID=Europe/Berlin:20260922T154500
DTEND;TZID=Europe/Berlin:20260922T164500
DTSTAMP:20260423T045200
CREATED:20260403T171652Z
LAST-MODIFIED:20260403T171652Z
UID:10025811-1790091900-1790095500@staging.hauslebenskraft.de
SUMMARY:Tanzfreude für Senioren mit Gesine
DESCRIPTION:Der Faszientanz ist ein vielfältiges Bewegungsangebot mit Musik\, das fließende\, tänzerische Bewegungen mit gezielten Impulsen für das fasziale Gewebe verbindet. Mit Freude an Bewegung und spürbarer Leidenschaft für den Körper entstehen freie Bewegungsformen\, die Mobilität\, Elastizität\, Körperwahrnehmung und einen sanften Muskelaufbau fördern. \nDas Training kommt ohne feste Choreografien aus und lädt dazu ein\, sein eigenes Tempo und Intensität individuell anzupassen. Das Angebot unterstützt Ausdauer\, das Herz-Kreislauf-System sowie die Koordination und ist für Menschen unterschiedlicher Alters- und Erfahrungsstufen geeignet. \nAbschließend erklingen Klangspiel und Gong\, sodass auch Entspannung nicht zu kurz kommt. Sie schafft Raum für Ruhe\, Nachspüren und Regeneration. Ich freue mich auf eine gemeinsame Bewegungszeit voller Lebensfreude\, Achtsamkeit und lebendiger Präsenz in dem wundervollen Dachgeschossraum des „Haus Lebenskraft“. \nDerzeit besuchen diesen Kurs Männer und Frauen im Alter von 65-84 Jahren und alle Teilnehmer würden sich freuen\, wenn noch mehr Interessierte dazukommen. \nEinzelveranstaltung: 10\nDauer 1h (15:45 bis 16:45 Uhr) \nAnmeldung unter: gesine.schaefer@gmx.de \nTel: 0176-51871225 \nIch freue mich auf euch. \nGesine Schaefer \nTanztrainerin\, HP nach Psych KG\, Gestalttherapeutin\, Kinesiologin\, Klangmassagepraktikerin\, Soz. Pädagogin
URL:https://staging.hauslebenskraft.de/veranstaltung/tanzfreude-fuer-senioren-mit-gesine-4/2026-09-22/
LOCATION:Haus Lebenskraft\, Gutenbergstr. 30\, Potsdam\, Brandenburg\, 14467\, Germany
CATEGORIES:Öffentlich, Sonnenraum
ATTACH;FMTTYPE=image/jpeg:https://staging.hauslebenskraft.de/wp-content/uploads/2026/02/Faszientanz-1.jpg
ORGANIZER;CN="Gesine Schaefer":MAILTO:gesine.schaefer@gmx.de
END:VEVENT
BEGIN:VEVENT
DTSTART;TZID=Europe/Berlin:20260922T170000
DTEND;TZID=Europe/Berlin:20260922T183000
DTSTAMP:20260423T045200
CREATED:20260301T170915Z
LAST-MODIFIED:20260301T171620Z
UID:10025274-1790096400-1790101800@staging.hauslebenskraft.de
SUMMARY:Neu! Yoga für alle mit Alexandra
DESCRIPTION:Neuer Kurs ab Di 17.3.2026 -2.6.2026 von 17.00 – 18.30 Uhr (Osterferien kein Yoga) \nGönn dir eine Auszeit!\nIn meinem Kurs erwarten dich fließende Bewegungen\, sanfte Kraft und Momente tiefer Ruhe.\nWir verbinden Atem und Körper\, lassen den Alltag los und schaffen Raum für mehr Energie.\nOb du Zentriertheit suchst oder einfach wieder bei dir ankommen möchtestdieser\nKurs lädt dich ein\, dir selbst liebevoll zu begegnen und dich mit deinem wahren Sein zu\nverbinden. \nKomm vorbei und spüre\, wie gut es tut\, dich bewußt wahrzunehmen und vollkommen zu\nentspannen. \nJede Stunde hat einen eigenen Fokus und immer wieder neue variantenreiche Übungen\, so\ndas für alle\, ob mit oder ohne Yogaerfahrung etwas dabei ist. Ich freue mich auf dich. \nAlexandra Ahammer (Osteopathin\, Heilpraktikerin\, seit über 20 Jahren Yogalehrerin)\nVoranmeldung: Tel.0176-24011299 ; \nEmail: aahammer26@gmail.com \nPreis: 10 wöchiger Yogakurs (Krankenkassenzuschuss möglich) 180 Euro\nEinzelstunde 20 Euro\nProbe: 15 Euro
URL:https://staging.hauslebenskraft.de/veranstaltung/neu-yoga-fuer-alle-mit-alexandra/2026-09-22/
LOCATION:Haus Lebenskraft\, Gutenbergstr. 30\, Potsdam\, Brandenburg\, 14467\, Germany
CATEGORIES:Öffentlich, Raum der Erde
ATTACH;FMTTYPE=image/jpeg:https://staging.hauslebenskraft.de/wp-content/uploads/2026/02/Yoga-Alex-Kalender-1-1.jpg
ORGANIZER;CN="Alexandra Ahammer":MAILTO:aahammer26@gmail.com
END:VEVENT
BEGIN:VEVENT
DTSTART;TZID=Europe/Berlin:20260922T170000
DTEND;TZID=Europe/Berlin:20260922T183000
DTSTAMP:20260423T045200
CREATED:20260408T191133Z
LAST-MODIFIED:20260408T191133Z
UID:10025886-1790096400-1790101800@staging.hauslebenskraft.de
SUMMARY:Dynamic Dance
DESCRIPTION:… ein faszien-orientiertes Bewegungsangebot\nDer flow-orientierte Faszientanz zu Musik aus aller Welt ist ein dynamisches Bewegungsangebot für jedes Alter\, das fließende\, tanz-inspirierte Bewegungen mit gezielten Impulsen für das fasziale Gewebe verbindet. Mit Freude an Bewegung und spürbarer Leidenschaft für den Körper entstehen freie Bewegungsformen\, die Mobilität\, Elastizität\, Körperwahrnehmung und einen sanften Muskelaufbau fördern. \nDas Training kommt ohne feste Choreografien aus und lädt dazu ein\, sein eigenes Tempo und Intensität individuell anzupassen. Das Angebot unterstützt Ausdauer\, das Herz-Kreislauf-System sowie die Koordination und ist für Menschen unterschiedlicher Alters- und Erfahrungsstufen geeignet. \nDen Abschluss bildet eine wohltuende Dehnungs- und Entspannungsphase mit Klangspiel und Gong. Sie schafft Raum für Ruhe\, Nachspüren und Regeneration. Ich freue mich auf eine gemeinsame Bewegungszeit voller Lebensfreude\, Achtsamkeit und lebendiger Präsenz in dem wundervollen Sonnenraum im Haus Lebenskraft. \nHerzlichst Gesine \nEinzelveranstaltung: 15 €\, 6-er Karte: 72 € \nSchnupperstunde: 12 € \nAnmeldung unter: gesine.schaefer@gmx.de oder gesine@hauslebenskraft.de  \nDie Teilnahme am Kurs ist nur nach persönlicher oder schriftlicher Zusage möglich. \nTel: 017651871225 \nIch freue mich auf euch. \nGesine Schaefer \nTanztrainerin\, HP nach Psych KG\, Kinesiologin\, Gestalttherapeutin\, Klangmassagepraktikerin \n  \n  \n 
URL:https://staging.hauslebenskraft.de/veranstaltung/dynamic-dance/2026-09-22/
LOCATION:Haus Lebenskraft\, Gutenbergstr. 30\, Potsdam\, Brandenburg\, 14467\, Germany
CATEGORIES:Öffentlich, Sonnenraum
ATTACH;FMTTYPE=image/jpeg:https://staging.hauslebenskraft.de/wp-content/uploads/2026/02/Tanzfreude-1.jpg
ORGANIZER;CN="Gesine Schaefer":MAILTO:gesine.schaefer@gmx.de
END:VEVENT
BEGIN:VEVENT
DTSTART;TZID=Europe/Berlin:20260922T190000
DTEND;TZID=Europe/Berlin:20260922T203000
DTSTAMP:20260423T045200
CREATED:20250719T134131Z
LAST-MODIFIED:20260202T133217Z
UID:10021107-1790103600-1790109000@staging.hauslebenskraft.de
SUMMARY:Neuer Yogakurs für Anfänger und Fortgeschrittene
DESCRIPTION:Eine intensive Yoga-Einheit pro Woche reicht aus\, um unseren Körper bewusster wahrzunehmen\, sowie um Kraft\, Flexibilität und Koordination merklich aufzubauen. Wir erinnern uns daran\, dass wir Entspannung und Wohlgefühl jederzeit und fast an jedem Ort herbeirufen können und erlernen einfache und belebende Übungen\, mit denen wir selbständig unsere Gesundheit und Lebendigkeit aufrechterhalten.\nEin Platz ist noch frei. Wenn du möchtest\, bist du herzlich eingeladen\, im Kreis einer kleinen wohlgelaunten Gruppe einmal wöchentlich Inspiration und Entspannung zu tanken. \nDer ganze Kurs kostet 150\,00 Euro\, die sporadische Einzelstunde 19 Euro. \nAnmeldung unter 01520 77777 48\nJudith.rauxloh@gmx.de\noder über www.lebenswerkstatt-potsdam.de \nJudith\, Yogalehrerin BYV
URL:https://staging.hauslebenskraft.de/veranstaltung/hatha-yoga-mit-judith-4-2-4-2/2026-09-22/
LOCATION:Haus Lebenskraft\, Gutenbergstr. 30\, Potsdam\, Brandenburg\, 14467\, Germany
CATEGORIES:Öffentlich, Raum der Erde
ATTACH;FMTTYPE=image/jpeg:https://staging.hauslebenskraft.de/wp-content/uploads/2025/07/Yogakurs-fuer-Anfaenger-und-Fortgeschrittene.jpg
ORGANIZER;CN="Judith Rauxloh":MAILTO:judith.rauxloh@gmx.de
END:VEVENT
END:VCALENDAR