BEGIN:VCALENDAR
VERSION:2.0
PRODID:-//Haus Lebenskraft - ECPv6.15.20//NONSGML v1.0//EN
CALSCALE:GREGORIAN
METHOD:PUBLISH
X-WR-CALNAME:Haus Lebenskraft
X-ORIGINAL-URL:https://staging.hauslebenskraft.de
X-WR-CALDESC:Veranstaltungen für Haus Lebenskraft
REFRESH-INTERVAL;VALUE=DURATION:PT1H
X-Robots-Tag:noindex
X-PUBLISHED-TTL:PT1H
BEGIN:VTIMEZONE
TZID:Europe/Berlin
BEGIN:DAYLIGHT
TZOFFSETFROM:+0100
TZOFFSETTO:+0200
TZNAME:CEST
DTSTART:20250330T010000
END:DAYLIGHT
BEGIN:STANDARD
TZOFFSETFROM:+0200
TZOFFSETTO:+0100
TZNAME:CET
DTSTART:20251026T010000
END:STANDARD
BEGIN:DAYLIGHT
TZOFFSETFROM:+0100
TZOFFSETTO:+0200
TZNAME:CEST
DTSTART:20260329T010000
END:DAYLIGHT
BEGIN:STANDARD
TZOFFSETFROM:+0200
TZOFFSETTO:+0100
TZNAME:CET
DTSTART:20261025T010000
END:STANDARD
BEGIN:DAYLIGHT
TZOFFSETFROM:+0100
TZOFFSETTO:+0200
TZNAME:CEST
DTSTART:20270328T010000
END:DAYLIGHT
BEGIN:STANDARD
TZOFFSETFROM:+0200
TZOFFSETTO:+0100
TZNAME:CET
DTSTART:20271031T010000
END:STANDARD
END:VTIMEZONE
BEGIN:VEVENT
DTSTART;TZID=Europe/Berlin:20260912T103000
DTEND;TZID=Europe/Berlin:20260912T123000
DTSTAMP:20260423T015931
CREATED:20260217T115946Z
LAST-MODIFIED:20260220T171132Z
UID:10025134-1789209000-1789216200@staging.hauslebenskraft.de
SUMMARY:Der große Rat von Frauen und Männern
DESCRIPTION:Titel: \nRaum:\nTherapieraum öffentlich \nDatum:\n12.09. / 10.30. – 12.30 Uhr \nAusführliche Beschreibung:\nIn Anlehnung an die traditionsreiche Form des Council\, von der Ojai Foundation in Kalifornien\, in jahrzehntelanger Forschung und Praxis weltweit in die Gemeinwesen-Entwicklung hineingetragen\, sitzen wir zu Rate – Frauen und Männer. \n„Man sieht nur mit dem Herzen gut\, das Wesentliche ist für die Augen unsichtbar.“\nAntoine de Saint-Exupery \nDieser Aussage verleihen wir Ausdruck mit unserer Präsenz und Achtsamkeit. Wir sprechen von Herz zu Herz und hören mit dem Herzen zu. Das will gelernt und geübt sein und hier haben wir die Möglichkeit\, in einen tiefen Kontakt und Austausch miteinander zu kommen.\nVorkenntnisse sind nicht erforderlich. \nTeilnahmegebühren: 15 Euro \nIch bitte um Anmeldung unter Jetzt@AufstehenInDerWeiblichkeit.de bis spätestens eine Woche vor Beginn des jeweiligen Termins.\n\nLiteratur:\nZimmermann\, J. & Coyle\, V. (2010) Der große Rat – Das Council\, mit dem Herzen hören und sprechen\, den Kreis erweitern\, Arbor Verlag (Modernes Antiquariat) \nZander\, E.-M. (2022) Aufstehen in der Weiblichkeit\, wie Frau und Mann Seele\, Herz und Mitgefühl ins Leben bringen\, Verlag Neue Erde \nhttps://evamariazander.de \nwww.ojaifoundation.org\nhttps://eschwege-institut.de/ausbildung/council \n  \nTeilnehmergebühren:\n13 Euro\n\n \nE-Mail:\nJetzt@AufstehenInDerWeiblichkeit.de \nTelefon:\n0331/23616302\n0151 41278417 \nLink zur Veranstaltung auf eigener Webseite: \nhttps://evamariazander.de/veranstaltungen
URL:https://staging.hauslebenskraft.de/veranstaltung/der-grosse-rat-von-frauen-und-maennern-3/
LOCATION:Haus Lebenskraft\, Gutenbergstr. 30\, Potsdam\, Brandenburg\, 14467\, Germany
CATEGORIES:Öffentlich, Therapieraum
ATTACH;FMTTYPE=image/jpeg:https://staging.hauslebenskraft.de/wp-content/uploads/2026/02/Stuhlkreis-kl-Kopie-1.jpeg
ORGANIZER;CN="Eva Maria Zander":MAILTO:ichbin@evamariazander.de
END:VEVENT
END:VCALENDAR