BEGIN:VCALENDAR
VERSION:2.0
PRODID:-//Haus Lebenskraft - ECPv6.15.20//NONSGML v1.0//EN
CALSCALE:GREGORIAN
METHOD:PUBLISH
X-ORIGINAL-URL:https://staging.hauslebenskraft.de
X-WR-CALDESC:Veranstaltungen für Haus Lebenskraft
REFRESH-INTERVAL;VALUE=DURATION:PT1H
X-Robots-Tag:noindex
X-PUBLISHED-TTL:PT1H
BEGIN:VTIMEZONE
TZID:Europe/Berlin
BEGIN:DAYLIGHT
TZOFFSETFROM:+0100
TZOFFSETTO:+0200
TZNAME:CEST
DTSTART:20250330T010000
END:DAYLIGHT
BEGIN:STANDARD
TZOFFSETFROM:+0200
TZOFFSETTO:+0100
TZNAME:CET
DTSTART:20251026T010000
END:STANDARD
BEGIN:DAYLIGHT
TZOFFSETFROM:+0100
TZOFFSETTO:+0200
TZNAME:CEST
DTSTART:20260329T010000
END:DAYLIGHT
BEGIN:STANDARD
TZOFFSETFROM:+0200
TZOFFSETTO:+0100
TZNAME:CET
DTSTART:20261025T010000
END:STANDARD
BEGIN:DAYLIGHT
TZOFFSETFROM:+0100
TZOFFSETTO:+0200
TZNAME:CEST
DTSTART:20270328T010000
END:DAYLIGHT
BEGIN:STANDARD
TZOFFSETFROM:+0200
TZOFFSETTO:+0100
TZNAME:CET
DTSTART:20271031T010000
END:STANDARD
END:VTIMEZONE
BEGIN:VEVENT
DTSTART;TZID=Europe/Berlin:20260612T123000
DTEND;TZID=Europe/Berlin:20260612T133000
DTSTAMP:20260422T132654
CREATED:20260413T181621Z
LAST-MODIFIED:20260413T181954Z
UID:10026027-1781267400-1781271000@staging.hauslebenskraft.de
SUMMARY:intern
DESCRIPTION:Sabrina Coaching
URL:https://staging.hauslebenskraft.de/veranstaltung/intern-sabrina/2026-06-12/
LOCATION:Haus Lebenskraft\, Gutenbergstr. 30\, Potsdam\, Brandenburg\, 14467\, Germany
CATEGORIES:Intern, Therapieraum
ORGANIZER;CN="Sabrina G%C3%B6risch":MAILTO:sabrinagoerisch@gmail.com
END:VEVENT
BEGIN:VEVENT
DTSTART;TZID=Europe/Berlin:20260612T143000
DTEND;TZID=Europe/Berlin:20260612T200000
DTSTAMP:20260422T132654
CREATED:20260205T191928Z
LAST-MODIFIED:20260321T155526Z
UID:10025542-1781274600-1781294400@staging.hauslebenskraft.de
SUMMARY:Workshop "Das Erkennen des Selbst – So ham zwischen stillem Sein und schöpferischer Bewegung" mit Vilas
DESCRIPTION:  \nLink zur Veranstaltung: https://www.lallaundvilas.de/event/das-erkennen-des-selbst-so-ham-zwischen-stillem-sein-und-schoepferischer-bewegung/
URL:https://staging.hauslebenskraft.de/veranstaltung/workshop-das-erkennen-des-selbst-so-ham-zwischen-stillem-sein-und-schoepferischer-bewegung-mit-vilas/2026-06-12/
LOCATION:Haus Lebenskraft\, Gutenbergstr. 30\, Potsdam\, Brandenburg\, 14467\, Germany
CATEGORIES:Öffentlich, Sonnenraum
ORGANIZER;CN="parApara Digital GmbH":MAILTO:lena@lallaundvilas.de
END:VEVENT
END:VCALENDAR