BEGIN:VCALENDAR
VERSION:2.0
PRODID:-//Haus Lebenskraft - ECPv6.15.20//NONSGML v1.0//EN
CALSCALE:GREGORIAN
METHOD:PUBLISH
X-ORIGINAL-URL:https://staging.hauslebenskraft.de
X-WR-CALDESC:Veranstaltungen für Haus Lebenskraft
REFRESH-INTERVAL;VALUE=DURATION:PT1H
X-Robots-Tag:noindex
X-PUBLISHED-TTL:PT1H
BEGIN:VTIMEZONE
TZID:Europe/Berlin
BEGIN:DAYLIGHT
TZOFFSETFROM:+0100
TZOFFSETTO:+0200
TZNAME:CEST
DTSTART:20250330T010000
END:DAYLIGHT
BEGIN:STANDARD
TZOFFSETFROM:+0200
TZOFFSETTO:+0100
TZNAME:CET
DTSTART:20251026T010000
END:STANDARD
BEGIN:DAYLIGHT
TZOFFSETFROM:+0100
TZOFFSETTO:+0200
TZNAME:CEST
DTSTART:20260329T010000
END:DAYLIGHT
BEGIN:STANDARD
TZOFFSETFROM:+0200
TZOFFSETTO:+0100
TZNAME:CET
DTSTART:20261025T010000
END:STANDARD
BEGIN:DAYLIGHT
TZOFFSETFROM:+0100
TZOFFSETTO:+0200
TZNAME:CEST
DTSTART:20270328T010000
END:DAYLIGHT
BEGIN:STANDARD
TZOFFSETFROM:+0200
TZOFFSETTO:+0100
TZNAME:CET
DTSTART:20271031T010000
END:STANDARD
END:VTIMEZONE
BEGIN:VEVENT
DTSTART;TZID=Europe/Berlin:20260525T070000
DTEND;TZID=Europe/Berlin:20260525T100000
DTSTAMP:20260421T221425
CREATED:20240112T155041Z
LAST-MODIFIED:20260205T091421Z
UID:10024985-1779692400-1779703200@staging.hauslebenskraft.de
SUMMARY:Hausreinigung
DESCRIPTION:
URL:https://staging.hauslebenskraft.de/veranstaltung/hausreinigung/2026-05-25/
LOCATION:Haus Lebenskraft\, Gutenbergstr. 30\, Potsdam\, Brandenburg\, 14467\, Germany
CATEGORIES:Intern, Behandlungsraum,Intern, Raum der Erde,Intern, Sonnenraum,Intern, Therapieraum
END:VEVENT
BEGIN:VEVENT
DTSTART;TZID=Europe/Berlin:20260525T100000
DTEND;TZID=Europe/Berlin:20260525T113000
DTSTAMP:20260421T221426
CREATED:20250617T173304Z
LAST-MODIFIED:20260202T131344Z
UID:10020628-1779703200-1779708600@staging.hauslebenskraft.de
SUMMARY:Yoga am Vormittag
DESCRIPTION:Ab dem 20. Januar gibt es wieder einen 10-wöchigen Yogakurs für Anfänger und Fortgeschrittene \njeden Montag von 10 – 11.30 Uhr \nBeginne die Woche mit einer entspannten\, aber umfassenden Yoga-Einheit\, um deinen Körper stark und geschmeidig zu halten\, Entspannungstechniken und eine heilsame Bauchatmung in den Alltag zu integrieren und anderthalb Stunden die Seele baumeln zu lassen. \nDer Kurs geht vom 20.01. bis zum 24.03. und kostet 150 Euro. \nBei Interesse melde dich bitte bis zum 06.01. bei mir an unter \njudith.rauxloh@gmx.de\n01520 77777 48\nwww.lebenswerkstatt-potsdam.de \nJudith Rauxloh\, Yogalehrerin BYV
URL:https://staging.hauslebenskraft.de/veranstaltung/judith-5/2026-05-25/
LOCATION:Haus Lebenskraft\, Gutenbergstr. 30\, Potsdam\, Brandenburg\, 14467\, Germany
CATEGORIES:Öffentlich, Raum der Erde
ATTACH;FMTTYPE=image/jpeg:https://staging.hauslebenskraft.de/wp-content/uploads/2026/02/photo_2025-01-03_10-56-10-1.jpg
ORGANIZER;CN="Judith Rauxloh":MAILTO:judith.rauxloh@gmx.de
END:VEVENT
BEGIN:VEVENT
DTSTART;TZID=Europe/Berlin:20260525T193000
DTEND;TZID=Europe/Berlin:20260525T204500
DTSTAMP:20260421T221426
CREATED:20250505T201551Z
LAST-MODIFIED:20260207T111217Z
UID:10018169-1779737400-1779741900@staging.hauslebenskraft.de
SUMMARY:CANTIENICA® in Yoga mit Conny
DESCRIPTION:ANUSARA® Yoga & CANTIENICA®\nYoga in Verbindung mit der Schweizer CANTIENICA®️ Methode zu praktizieren bedeutet\, eine einzigartige Symbiose aus alter Tradition und moderner Trainingslehre kennenzulernen.\nBewusste Atemlenkung\, fasziale Vernetzung sowie eine zarte aber wirksame innere Ausrichtung schaffen neuen Handlungsspielraum und Lebensenergie (Prana) kann zurück in ihren natürlichen Fluss finden.\nGleichzeitig lassen sich fließende Vinyasas\, erdendes Yinyoga und die philosophischen Aspekte aus der ANUSARA® Yogalehre wunderbar integrieren.\nWir treffen uns montags um 19:30 Uhr im Haus Lebenskraft (2. OG) und wer mag\, kann sich auch via Zoom mit uns verbinden.\n \nProbestunde: 15 EUR\n8-Wochenkurs: 120 EUR (online 100 Euro)\nEinzelstunde (nach Anmeldung): 17 EUR (online 15 Euro)\nAnmeldung per Mail: yoga@draussenkind.de\nWebsite: https://draussenkind.de\nInstagram: @draussenkindyoga
URL:https://staging.hauslebenskraft.de/veranstaltung/cantienica-in-yoga-mit-conny-2/2026-05-25/
LOCATION:Haus Lebenskraft\, Gutenbergstr. 30\, Potsdam\, Brandenburg\, 14467\, Germany
CATEGORIES:Öffentlich, Sonnenraum
ATTACH;FMTTYPE=image/png:https://staging.hauslebenskraft.de/wp-content/uploads/2025/05/Cantienica-Yoga.png
ORGANIZER;CN="Cornelia Hanisch":MAILTO:yoga@draussenkind.de
END:VEVENT
END:VCALENDAR