BEGIN:VCALENDAR
VERSION:2.0
PRODID:-//Haus Lebenskraft - ECPv6.15.20//NONSGML v1.0//EN
CALSCALE:GREGORIAN
METHOD:PUBLISH
X-WR-CALNAME:Haus Lebenskraft
X-ORIGINAL-URL:https://staging.hauslebenskraft.de
X-WR-CALDESC:Veranstaltungen für Haus Lebenskraft
REFRESH-INTERVAL;VALUE=DURATION:PT1H
X-Robots-Tag:noindex
X-PUBLISHED-TTL:PT1H
BEGIN:VTIMEZONE
TZID:Europe/Berlin
BEGIN:DAYLIGHT
TZOFFSETFROM:+0100
TZOFFSETTO:+0200
TZNAME:CEST
DTSTART:20250330T010000
END:DAYLIGHT
BEGIN:STANDARD
TZOFFSETFROM:+0200
TZOFFSETTO:+0100
TZNAME:CET
DTSTART:20251026T010000
END:STANDARD
BEGIN:DAYLIGHT
TZOFFSETFROM:+0100
TZOFFSETTO:+0200
TZNAME:CEST
DTSTART:20260329T010000
END:DAYLIGHT
BEGIN:STANDARD
TZOFFSETFROM:+0200
TZOFFSETTO:+0100
TZNAME:CET
DTSTART:20261025T010000
END:STANDARD
BEGIN:DAYLIGHT
TZOFFSETFROM:+0100
TZOFFSETTO:+0200
TZNAME:CEST
DTSTART:20270328T010000
END:DAYLIGHT
BEGIN:STANDARD
TZOFFSETFROM:+0200
TZOFFSETTO:+0100
TZNAME:CET
DTSTART:20271031T010000
END:STANDARD
END:VTIMEZONE
BEGIN:VEVENT
DTSTART;TZID=Europe/Berlin:20260428T090000
DTEND;TZID=Europe/Berlin:20260428T100000
DTSTAMP:20260420T205423
CREATED:20260302T175358Z
LAST-MODIFIED:20260312T073135Z
UID:10025511-1777366800-1777370400@staging.hauslebenskraft.de
SUMMARY:intern
DESCRIPTION:Sabrina
URL:https://staging.hauslebenskraft.de/veranstaltung/intern-22/2026-04-28/
LOCATION:Haus Lebenskraft\, Gutenbergstr. 30\, Potsdam\, Brandenburg\, 14467\, Germany
CATEGORIES:Intern, Therapieraum
ORGANIZER;CN="Sabrina G%C3%B6risch":MAILTO:sabrinagoerisch@gmail.com
END:VEVENT
BEGIN:VEVENT
DTSTART;TZID=Europe/Berlin:20260428T100000
DTEND;TZID=Europe/Berlin:20260428T130000
DTSTAMP:20260420T205423
CREATED:20260401T112621Z
LAST-MODIFIED:20260416T193853Z
UID:10025709-1777370400-1777381200@staging.hauslebenskraft.de
SUMMARY:Ausbildung zum Medium - kurz und knackig
DESCRIPTION:Mit moderner Tiefenspiritualität tauchen wir in ein Feld voller Möglichkeiten ein. Finde Antworten in der geistigen Welt und spüre pure Selbstermächtigung. Mache die Welt damit zu einem besseren Ort. \nZiel ist\, dass du in der Lage bist\, selbst Trance Healings zu geben\, deine Selbstheilung bewusst zu forcieren und medial zu wirken. \nWas ist ein Trance Healing: \nEs ist eine Form spiritueller Energiearbeit und dient der Förderung von Bewusstsein\, Entspannung und innerer Balance. Es handelt sich nicht um eine medizinische\, psychotherapeutische oder heilkundliche Behandlung\, und es werden keine Diagnosen gestellt oder Heilversprechen abgegeben. \nDu solltest dich psychisch und physisch stabil fühlen\, denn du dienst dabei als Brücke und machst es den Menschen dadurch leichter\, die Liebe aus der geistigen Welt zu empfangen. \n→ 3 Stunden\, max. 10 Teilnehmer möglich \n→ inkl. kleiner Kakaopause \n→ 3 Wochen Mail-Support für Fragen nach der Veranstaltung \nAnmeldefrist: bis 14.04.2026 (verbindlich) unter folgendem Link: \nhttps://forms.gle/ytFDeyyBuokczwvU7 \nKosten: 560€ \nWichtig: Die Inhalte der Ausbildung stimme ich nach Ablauf der Anmeldefrist auf die Gruppenenergie ab\, so dass du den bestmöglichsten Input bekommst\, der dir dabei hilft\, deine Form von Spiritualität und Medialität zu entwickeln. \nDu bekommst: \n→ Klare Anleitungen\, mit denen du deinen Zugang zur geistigen Welt freilegen kannst \n→ Ein ausgedrucktes Workbook \n→ Ein Abschlusszertifikat \nZu mir: \nSeit 5 Jahren beschäftige ich mich intensiv mit tiefenspirituellen Methoden\, die wirklich nachhaltig wirken und einen echten Mehrwert für unser Leben bieten. Ohne die geistige Welt hätte ich mein Potenzial niemals freilegen können und wäre nicht da\, wo ich heute bin – im tiefen Vertrauen\, dass alles möglich ist. \nNun möchte ich dieses Wissen an dich weitergeben. \nSolltest du Fragen haben\, schreib mir an its.kindofhuman@gmail.com \nStornierungsregeln: \nBis 14 Tage vor der Veranstaltung: Volle Erstattung des gezahlten Beitrages. \nBis 7 Tage vorher: 50% \nDanach keine Erstattung. \nIch freue mich auf Dich! \n  \nClaudia
URL:https://staging.hauslebenskraft.de/veranstaltung/ausbildung-zum-medium-kurz-und-knackig/
LOCATION:Brandenburg
CATEGORIES:Öffentlich, Sonnenraum
ATTACH;FMTTYPE=image/jpeg:https://staging.hauslebenskraft.de/wp-content/uploads/2026/04/Ausbildung-zum-Medium-scaled.jpg
END:VEVENT
BEGIN:VEVENT
DTSTART;TZID=Europe/Berlin:20260428T123000
DTEND;TZID=Europe/Berlin:20260428T134500
DTSTAMP:20260420T205423
CREATED:20260413T142624Z
LAST-MODIFIED:20260416T193357Z
UID:10025968-1777379400-1777383900@staging.hauslebenskraft.de
SUMMARY:Entgiften mit Leber-Qigong
DESCRIPTION:  \nIm Frühjahr ist Hoch-Zeit für die Leber: Stärkendes wirkt stärker\, Schädigendes auch. Die Meridiane geben oft frühe Signale: Blähungen\, Schmerz\, ob im Unterleib\, im Arm\, der Schulter als Qi-Stau; Brennen in Augen\, Ohren\, Hals als Gefühlsstau. Außer Energie für Leber\, Galle\, Sehnen\, Gelenke\, Augen\, Blut und Verdauung ist LeberQigong auch emotionale Reinigung und gibt neue Kraft\, damit nicht ständig eine „Laus über die Leber kriecht“ oder „die Galle hochkocht“.\nMit energischer Atmung im Stehen und stillem Dialog mit den Organen im Sitzen ist spürbar\, dass die Leber im ganzen Körper für innere Ordnung sorgt\, für ein ruhiges Herz und klaren Blick. \n 
URL:https://staging.hauslebenskraft.de/veranstaltung/stilles-winter-qigong-fuer-inneren-frieden-2/2026-04-28/
LOCATION:Haus Lebenskraft\, Gutenbergstr. 30\, Potsdam\, Brandenburg\, 14467\, Germany
CATEGORIES:Öffentlich, Raum der Erde
ORGANIZER;CN="Katrin M%C3%BCller":MAILTO:km-qigongseminare@posteo.de
END:VEVENT
BEGIN:VEVENT
DTSTART;TZID=Europe/Berlin:20260428T154500
DTEND;TZID=Europe/Berlin:20260428T164500
DTSTAMP:20260420T205423
CREATED:20260202T135800Z
LAST-MODIFIED:20260403T171334Z
UID:10024634-1777391100-1777394700@staging.hauslebenskraft.de
SUMMARY:Tanzfreude für Senioren mit Gesine
DESCRIPTION:Der Faszientanz ist ein vielfältiges Bewegungsangebot mit Musik\, das fließende\, tänzerische Bewegungen mit gezielten Impulsen für das fasziale Gewebe verbindet. Mit Freude an Bewegung und spürbarer Leidenschaft für den Körper entstehen freie Bewegungsformen\, die Mobilität\, Elastizität\, Körperwahrnehmung und einen sanften Muskelaufbau fördern. \nDas Training kommt ohne feste Choreografien aus und lädt dazu ein\, sein eigenes Tempo und Intensität individuell anzupassen. Das Angebot unterstützt Ausdauer\, das Herz-Kreislauf-System sowie die Koordination und ist für Menschen unterschiedlicher Alters- und Erfahrungsstufen geeignet. \nAbschließend erklingen Klangspiel und Gong\, sodass auch Entspannung nicht zu kurz kommt. Sie schafft Raum für Ruhe\, Nachspüren und Regeneration. Ich freue mich auf eine gemeinsame Bewegungszeit voller Lebensfreude\, Achtsamkeit und lebendiger Präsenz in dem wundervollen Dachgeschossraum des „Haus Lebenskraft“. \nDerzeit besuchen diesen Kurs Männer und Frauen im Alter von 65-84 Jahren und alle Teilnehmer würden sich freuen\, wenn noch mehr Interessierte dazukommen. \nEinzelveranstaltung: 12 €\, 6-er Karte: 60 €\nDauer 1h (15:45 bis 16:45 Uhr) \nSchnupperstunde: 10 € \nAnmeldung unter: gesine.schaefer@gmx.de \nTel: 0176-51871225 \nIch freue mich auf euch. \nGesine Schaefer \nDynamic Flow Tanztrainerin\, HP nach Psych KG\, Gestalttherapeutin\, Kinesiologin\, Klangmassagepraktikerin\, Soz. Pädagogin
URL:https://staging.hauslebenskraft.de/veranstaltung/tanzfreude-fuer-senioren-mit-gesine/2026-04-28/
LOCATION:Haus Lebenskraft\, Gutenbergstr. 30\, Potsdam\, Brandenburg\, 14467\, Germany
CATEGORIES:Öffentlich, Sonnenraum
ATTACH;FMTTYPE=image/jpeg:https://staging.hauslebenskraft.de/wp-content/uploads/2026/02/Faszientanz-1.jpg
ORGANIZER;CN="Gesine Schaefer":MAILTO:gesine.schaefer@gmx.de
END:VEVENT
BEGIN:VEVENT
DTSTART;TZID=Europe/Berlin:20260428T170000
DTEND;TZID=Europe/Berlin:20260428T183000
DTSTAMP:20260420T205423
CREATED:20260301T170915Z
LAST-MODIFIED:20260301T171620Z
UID:10025253-1777395600-1777401000@staging.hauslebenskraft.de
SUMMARY:Neu! Yoga für alle mit Alexandra
DESCRIPTION:Neuer Kurs ab Di 17.3.2026 -2.6.2026 von 17.00 – 18.30 Uhr (Osterferien kein Yoga) \nGönn dir eine Auszeit!\nIn meinem Kurs erwarten dich fließende Bewegungen\, sanfte Kraft und Momente tiefer Ruhe.\nWir verbinden Atem und Körper\, lassen den Alltag los und schaffen Raum für mehr Energie.\nOb du Zentriertheit suchst oder einfach wieder bei dir ankommen möchtestdieser\nKurs lädt dich ein\, dir selbst liebevoll zu begegnen und dich mit deinem wahren Sein zu\nverbinden. \nKomm vorbei und spüre\, wie gut es tut\, dich bewußt wahrzunehmen und vollkommen zu\nentspannen. \nJede Stunde hat einen eigenen Fokus und immer wieder neue variantenreiche Übungen\, so\ndas für alle\, ob mit oder ohne Yogaerfahrung etwas dabei ist. Ich freue mich auf dich. \nAlexandra Ahammer (Osteopathin\, Heilpraktikerin\, seit über 20 Jahren Yogalehrerin)\nVoranmeldung: Tel.0176-24011299 ; \nEmail: aahammer26@gmail.com \nPreis: 10 wöchiger Yogakurs (Krankenkassenzuschuss möglich) 180 Euro\nEinzelstunde 20 Euro\nProbe: 15 Euro
URL:https://staging.hauslebenskraft.de/veranstaltung/neu-yoga-fuer-alle-mit-alexandra/2026-04-28/
LOCATION:Haus Lebenskraft\, Gutenbergstr. 30\, Potsdam\, Brandenburg\, 14467\, Germany
CATEGORIES:Öffentlich, Raum der Erde
ATTACH;FMTTYPE=image/jpeg:https://staging.hauslebenskraft.de/wp-content/uploads/2026/02/Yoga-Alex-Kalender-1-1.jpg
ORGANIZER;CN="Alexandra Ahammer":MAILTO:aahammer26@gmail.com
END:VEVENT
BEGIN:VEVENT
DTSTART;TZID=Europe/Berlin:20260428T170000
DTEND;TZID=Europe/Berlin:20260428T183000
DTSTAMP:20260420T205423
CREATED:20260408T190840Z
LAST-MODIFIED:20260408T190851Z
UID:10023942-1777395600-1777401000@staging.hauslebenskraft.de
SUMMARY:Dynamic Dance
DESCRIPTION:… ein faszien-orientiertes Bewegungsangebot\nDer flow-orientierte Faszientanz zu Musik aus aller Welt ist ein dynamisches Bewegungsangebot für jedes Alter\, das fließende\, tanz-inspirierte Bewegungen mit gezielten Impulsen für das fasziale Gewebe verbindet. Mit Freude an Bewegung und spürbarer Leidenschaft für den Körper entstehen freie Bewegungsformen\, die Mobilität\, Elastizität\, Körperwahrnehmung und einen sanften Muskelaufbau fördern. \nDas Training kommt ohne feste Choreografien aus und lädt dazu ein\, sein eigenes Tempo und Intensität individuell anzupassen. Das Angebot unterstützt Ausdauer\, das Herz-Kreislauf-System sowie die Koordination und ist für Menschen unterschiedlicher Alters- und Erfahrungsstufen geeignet. \nDen Abschluss bildet eine wohltuende Dehnungs- und Entspannungsphase mit Klangspiel und Gong. Sie schafft Raum für Ruhe\, Nachspüren und Regeneration. Ich freue mich auf eine gemeinsame Bewegungszeit voller Lebensfreude\, Achtsamkeit und lebendiger Präsenz in dem wundervollen Sonnenraum im Haus Lebenskraft. \nHerzlichst Gesine \nEinzelveranstaltung: 15 €\, 6-er Karte: 72 € \nSchnupperstunde: 12 € \nAnmeldung unter: gesine.schaefer@gmx.de oder gesine@hauslebenskraft.de  \nDie Teilnahme am Kurs ist nur nach persönlicher oder schriftlicher Zusage möglich. \nTel: 017651871225 \nIch freue mich auf euch. \nGesine Schaefer \nTanztrainerin\, HP nach Psych KG\, Kinesiologin\, Gestalttherapeutin\, Klangmassagepraktikerin \n  \n  \n 
URL:https://staging.hauslebenskraft.de/veranstaltung/tanzfreude-mit-gesine-4/2026-04-28/
LOCATION:Haus Lebenskraft\, Gutenbergstr. 30\, Potsdam\, Brandenburg\, 14467\, Germany
CATEGORIES:Öffentlich, Sonnenraum
ATTACH;FMTTYPE=image/jpeg:https://staging.hauslebenskraft.de/wp-content/uploads/2026/02/Tanzfreude-1.jpg
ORGANIZER;CN="Gesine Schaefer":MAILTO:gesine.schaefer@gmx.de
END:VEVENT
BEGIN:VEVENT
DTSTART;TZID=Europe/Berlin:20260428T190000
DTEND;TZID=Europe/Berlin:20260428T191500
DTSTAMP:20260420T205423
CREATED:20250730T115557Z
LAST-MODIFIED:20260202T132526Z
UID:10019363-1777402800-1777403700@staging.hauslebenskraft.de
SUMMARY:intern
DESCRIPTION:Vorbereitung Yoga
URL:https://staging.hauslebenskraft.de/veranstaltung/vorbereitung-yoga/2026-04-28/
LOCATION:Haus Lebenskraft\, Gutenbergstr. 30\, Potsdam\, Brandenburg\, 14467\, Germany
CATEGORIES:Intern, Sonnenraum
ORGANIZER;CN="parApara Digital GmbH":MAILTO:lena@lallaundvilas.de
END:VEVENT
BEGIN:VEVENT
DTSTART;TZID=Europe/Berlin:20260428T190000
DTEND;TZID=Europe/Berlin:20260428T203000
DTSTAMP:20260420T205423
CREATED:20250719T134131Z
LAST-MODIFIED:20260202T133217Z
UID:10021086-1777402800-1777408200@staging.hauslebenskraft.de
SUMMARY:Neuer Yogakurs für Anfänger und Fortgeschrittene
DESCRIPTION:Eine intensive Yoga-Einheit pro Woche reicht aus\, um unseren Körper bewusster wahrzunehmen\, sowie um Kraft\, Flexibilität und Koordination merklich aufzubauen. Wir erinnern uns daran\, dass wir Entspannung und Wohlgefühl jederzeit und fast an jedem Ort herbeirufen können und erlernen einfache und belebende Übungen\, mit denen wir selbständig unsere Gesundheit und Lebendigkeit aufrechterhalten.\nEin Platz ist noch frei. Wenn du möchtest\, bist du herzlich eingeladen\, im Kreis einer kleinen wohlgelaunten Gruppe einmal wöchentlich Inspiration und Entspannung zu tanken. \nDer ganze Kurs kostet 150\,00 Euro\, die sporadische Einzelstunde 19 Euro. \nAnmeldung unter 01520 77777 48\nJudith.rauxloh@gmx.de\noder über www.lebenswerkstatt-potsdam.de \nJudith\, Yogalehrerin BYV
URL:https://staging.hauslebenskraft.de/veranstaltung/hatha-yoga-mit-judith-4-2-4-2/2026-04-28/
LOCATION:Haus Lebenskraft\, Gutenbergstr. 30\, Potsdam\, Brandenburg\, 14467\, Germany
CATEGORIES:Öffentlich, Raum der Erde
ATTACH;FMTTYPE=image/jpeg:https://staging.hauslebenskraft.de/wp-content/uploads/2025/07/Yogakurs-fuer-Anfaenger-und-Fortgeschrittene.jpg
ORGANIZER;CN="Judith Rauxloh":MAILTO:judith.rauxloh@gmx.de
END:VEVENT
BEGIN:VEVENT
DTSTART;TZID=Europe/Berlin:20260428T190000
DTEND;TZID=Europe/Berlin:20260428T203000
DTSTAMP:20260420T205423
CREATED:20260119T174100Z
LAST-MODIFIED:20260202T142118Z
UID:10024520-1777402800-1777408200@staging.hauslebenskraft.de
SUMMARY:Lokale EM-Gruppe nach Gopal Norbert Klein
DESCRIPTION:  \n12-Wochen-Kurs für Neu- & Wiedereinsteiger \nDiese lokale EM-Gruppe richtet sich an Menschen\, die Ehrliches Mitteilen (EM) neu kennenlernen oder ihre bisherige Praxis vertiefen möchten – in einem konstanten\, sicheren Rahmen mit kleiner Gruppengröße. \nWir üben EM regelmäßig in der Gruppe und ergänzen die Praxis durch verständliche Impulse zu Entwicklungs- und Bindungstrauma. Der Schwerpunkt liegt auf der Arbeit von Gopal Norbert Klein\, ergänzt durch ausgewählte Inhalte anderer Quellen\, die das Verständnis für traumabedingte Prozesse vertiefen und Ansätze zur Lösung aufzeigen. \n⸻ \nWas dich erwartet \n•Regelmäßige EM-Praxis in der Gruppe \n•Stärkung von Selbstwahrnehmung\, Präsenz & Nervensystem-Regulation \n•Einordnung von Trauma-Zusammenhängen \n•Raum für Austausch\, Fragen und gemeinsames Lernen \nNach dem Kurs bist du befähigt \n•Ehrliches Mitteilen sicher\, klar und korrekt anzuwenden \n•EM selbstständig in der Gruppe oder mit dem eigenen Partner / der eigenen Partnerin zu praktizieren \n•Grundlagen und Lösungsmöglichkeiten für Entwicklungs- und Bindungstrauma zu verstehen und einzuordnen \n•typische Stolpersteine im EM zu erkennen und regulierend damit umzugehen \nRahmen \n•Kleine Gruppe (max. 6 Teilnehmende) \n•Dienstags\, 19:00 – 20.30 Uhr \n•Start: 3.3.2026 \n•Dauer: 12 Wochen (regelmäßige Teilnahme nach dem Probezeitraum erwünscht; bei Interesse wird die Gruppe im Anschluss als offene EM-Gruppe weitergeführt) \n•Kosten: 75 € (der Betrag dient ausschließlich zur Deckung der Raumkosten – die EM-Praxis selbst ist kostenfrei) \n💛 Je vertrauter die Gruppe\, desto mehr Sicherheit\, Tiefe und nachhaltige Veränderung. \n📩 Anmeldung & Infos \nBei Interesse oder Fragen sendet uns einfach eine E-Mail an: \nverbunden_sein@posteo.de \nWir freuen uns auf euch \nNicole & Stefan \n⚠️ Wichtiger Hinweis \nEhrliches Mitteilen ist eine Selbsthilfe- und Bewusstseinspraxis und ersetzt keine Psychotherapie oder medizinische Behandlung. \nDie Gruppe ist nicht geeignet bei akuten oder schwerwiegenden psychischen Erkrankungen (z. B. Psychosen\, schwere Depressionen\, akute Traumafolgen oder Suchterkrankungen)\, die eine therapeutische Begleitung erfordern.  \nWenn du unsicher bist\, ob die Gruppe für dich aktuell passend ist\, melde dich gerne vorab bei uns – wir schauen gemeinsam was stimmig ist.
URL:https://staging.hauslebenskraft.de/veranstaltung/lokale-em-gruppe-nach-gopal-norbert-klein/2026-04-28/
LOCATION:Haus Lebenskraft\, Gutenbergstr. 30\, Potsdam\, Brandenburg\, 14467\, Germany
CATEGORIES:Öffentlich, Therapieraum
ATTACH;FMTTYPE=image/png:https://staging.hauslebenskraft.de/wp-content/uploads/2026/02/EM_KURS-1.png
ORGANIZER;CN="Nicole Heidbrink":MAILTO:nheidbrink@posteo.de
END:VEVENT
BEGIN:VEVENT
DTSTART;TZID=Europe/Berlin:20260428T193000
DTEND;TZID=Europe/Berlin:20260428T210000
DTSTAMP:20260420T205423
CREATED:20250630T145643Z
LAST-MODIFIED:20260202T133332Z
UID:10019311-1777404600-1777410000@staging.hauslebenskraft.de
SUMMARY:Yogaklasse für jede/n
DESCRIPTION:In unserer wöchentlichen Yogaklasse erwartet dich eine kraftvolle und zugleich achtsame Praxis\, die auch in unsicheren Zeiten Klarheit\, Leichtigkeit und Verbindung schafft. Durch präzise\, biomechanisch fundierte Ausrichtung wird dein Körper gestärkt\, deine Beweglichkeit gefördert und dein Bewusstsein für dich selbst vertieft – ganz unabhängig von Alter\, Erfahrung oder körperlicher Verfassung. Die lebensbejahende Philosophie des Anusara® Yoga inspiriert uns dabei\, mit der richtigen Einstellung\, Ausrichtung und Aktion dem Leben bewusst zu begegnen.\nDas Lehrer*innen Team: Lalla und Vilas – Wegbereiter des Anusara Yoga im deutschsprachigen Raum – teilen ihre über 20-jährige Erfahrung mit großer Hingabe. Lena und Nora bringen als von Lalla und Vilas ausgebildete Lehrerinnen Herz\, Klarheit und Freude in die gemeinsame Praxis.\n\nhttps://www.lallaundvilas.de/ausbildungs-und-lehrgangstermine/\n***\nUnd hier die Links für die Abendklassen auf unserer Website:\n\nAnmeldung zur Abendklasse dienstags um 19:30 Uhr
URL:https://staging.hauslebenskraft.de/veranstaltung/yoga-lalla-vilas-akademie/2026-04-28/
LOCATION:Haus Lebenskraft\, Gutenbergstr. 30\, Potsdam\, Brandenburg\, 14467\, Germany
CATEGORIES:Öffentlich, Sonnenraum
ATTACH;FMTTYPE=image/jpeg:https://staging.hauslebenskraft.de/wp-content/uploads/2026/02/Lalla-Vilas-Lena-Nora-1.jpg
ORGANIZER;CN="parApara Digital GmbH":MAILTO:lena@lallaundvilas.de
END:VEVENT
BEGIN:VEVENT
DTSTART;TZID=Europe/Berlin:20260428T210000
DTEND;TZID=Europe/Berlin:20260428T220000
DTSTAMP:20260420T205423
CREATED:20260320T085102Z
LAST-MODIFIED:20260320T085102Z
UID:10025568-1777410000-1777413600@staging.hauslebenskraft.de
SUMMARY:intern
DESCRIPTION:Raumvorbereitung Verona für den 29.4
URL:https://staging.hauslebenskraft.de/veranstaltung/intern-26/
LOCATION:Haus Lebenskraft\, Gutenbergstr. 30\, Potsdam\, Brandenburg\, 14467\, Germany
CATEGORIES:Intern, Raum der Erde
ORGANIZER;CN="Haus Lebenskraft":MAILTO:willkommen@hauslebenskraft.de
END:VEVENT
BEGIN:VEVENT
DTSTART;TZID=Europe/Berlin:20260428T211500
DTEND;TZID=Europe/Berlin:20260428T213000
DTSTAMP:20260420T205423
CREATED:20250730T115751Z
LAST-MODIFIED:20260202T133358Z
UID:10019416-1777410900-1777411800@staging.hauslebenskraft.de
SUMMARY:intern
DESCRIPTION:Nachbereitung Yoga
URL:https://staging.hauslebenskraft.de/veranstaltung/nachbereitung-yoga/2026-04-28/
LOCATION:Haus Lebenskraft\, Gutenbergstr. 30\, Potsdam\, Brandenburg\, 14467\, Germany
CATEGORIES:Intern, Sonnenraum
ORGANIZER;CN="parApara Digital GmbH":MAILTO:lena@lallaundvilas.de
END:VEVENT
END:VCALENDAR