BEGIN:VCALENDAR
VERSION:2.0
PRODID:-//Haus Lebenskraft - ECPv6.15.20//NONSGML v1.0//EN
CALSCALE:GREGORIAN
METHOD:PUBLISH
X-WR-CALNAME:Haus Lebenskraft
X-ORIGINAL-URL:https://staging.hauslebenskraft.de
X-WR-CALDESC:Veranstaltungen für Haus Lebenskraft
REFRESH-INTERVAL;VALUE=DURATION:PT1H
X-Robots-Tag:noindex
X-PUBLISHED-TTL:PT1H
BEGIN:VTIMEZONE
TZID:Europe/Berlin
BEGIN:DAYLIGHT
TZOFFSETFROM:+0100
TZOFFSETTO:+0200
TZNAME:CEST
DTSTART:20250330T010000
END:DAYLIGHT
BEGIN:STANDARD
TZOFFSETFROM:+0200
TZOFFSETTO:+0100
TZNAME:CET
DTSTART:20251026T010000
END:STANDARD
BEGIN:DAYLIGHT
TZOFFSETFROM:+0100
TZOFFSETTO:+0200
TZNAME:CEST
DTSTART:20260329T010000
END:DAYLIGHT
BEGIN:STANDARD
TZOFFSETFROM:+0200
TZOFFSETTO:+0100
TZNAME:CET
DTSTART:20261025T010000
END:STANDARD
BEGIN:DAYLIGHT
TZOFFSETFROM:+0100
TZOFFSETTO:+0200
TZNAME:CEST
DTSTART:20270328T010000
END:DAYLIGHT
BEGIN:STANDARD
TZOFFSETFROM:+0200
TZOFFSETTO:+0100
TZNAME:CET
DTSTART:20271031T010000
END:STANDARD
END:VTIMEZONE
BEGIN:VEVENT
DTSTART;TZID=Europe/Berlin:20260330T070000
DTEND;TZID=Europe/Berlin:20260330T100000
DTSTAMP:20260421T152031
CREATED:20240112T155041Z
LAST-MODIFIED:20260205T091421Z
UID:10024977-1774854000-1774864800@staging.hauslebenskraft.de
SUMMARY:Hausreinigung
DESCRIPTION:
URL:https://staging.hauslebenskraft.de/veranstaltung/hausreinigung/2026-03-30/
LOCATION:Haus Lebenskraft\, Gutenbergstr. 30\, Potsdam\, Brandenburg\, 14467\, Germany
CATEGORIES:Intern, Behandlungsraum,Intern, Raum der Erde,Intern, Sonnenraum,Intern, Therapieraum
END:VEVENT
BEGIN:VEVENT
DTSTART;TZID=Europe/Berlin:20260330T100000
DTEND;TZID=Europe/Berlin:20260330T113000
DTSTAMP:20260421T152031
CREATED:20250617T173304Z
LAST-MODIFIED:20260202T131344Z
UID:10016794-1774864800-1774870200@staging.hauslebenskraft.de
SUMMARY:Yoga am Vormittag
DESCRIPTION:Ab dem 20. Januar gibt es wieder einen 10-wöchigen Yogakurs für Anfänger und Fortgeschrittene \njeden Montag von 10 – 11.30 Uhr \nBeginne die Woche mit einer entspannten\, aber umfassenden Yoga-Einheit\, um deinen Körper stark und geschmeidig zu halten\, Entspannungstechniken und eine heilsame Bauchatmung in den Alltag zu integrieren und anderthalb Stunden die Seele baumeln zu lassen. \nDer Kurs geht vom 20.01. bis zum 24.03. und kostet 150 Euro. \nBei Interesse melde dich bitte bis zum 06.01. bei mir an unter \njudith.rauxloh@gmx.de\n01520 77777 48\nwww.lebenswerkstatt-potsdam.de \nJudith Rauxloh\, Yogalehrerin BYV
URL:https://staging.hauslebenskraft.de/veranstaltung/judith-5/2026-03-30/
LOCATION:Haus Lebenskraft\, Gutenbergstr. 30\, Potsdam\, Brandenburg\, 14467\, Germany
CATEGORIES:Öffentlich, Raum der Erde
ATTACH;FMTTYPE=image/jpeg:https://staging.hauslebenskraft.de/wp-content/uploads/2026/02/photo_2025-01-03_10-56-10-1.jpg
ORGANIZER;CN="Judith Rauxloh":MAILTO:judith.rauxloh@gmx.de
END:VEVENT
BEGIN:VEVENT
DTSTART;TZID=Europe/Berlin:20260330T161500
DTEND;TZID=Europe/Berlin:20260330T171500
DTSTAMP:20260421T152031
CREATED:20250221T155455Z
LAST-MODIFIED:20260228T222053Z
UID:10022097-1774887300-1774890900@staging.hauslebenskraft.de
SUMMARY:Pilates mit Selina
DESCRIPTION:Beim Pilates kannst du deinen Körper neu entdecken. Die Übungen stärken sowohl deine Körpermitte als auch dein Selbstbewusstsein.\nMeine Kurse sind mehr als nur ein Workout. Du lernst dich zu spüren\, achtsam und liebevoll mit dir umzugehen.\nPilates soll einen Zugang zu deinem Körper schaffen\, wo du dich sicher fühlst und gleichzeitig mehr über dich erfährst.10 Wochenkurs: 150 EUR\nEinzelstunde: 17 EUR\nProbestunde: 15 EUR\nDieser Kurs gilt als Präventionskurs und wird von gesetzlichen Krankenkassen bezuschusst. \nAnmeldung per Mail: selinakuehlwein@gmx.de\nWebsite: www.gestalttherapie-in-potsdam.de/körperarbeit-pilates\nBei Fragen auch gerne anrufen: 0171 98 68 712\n—
URL:https://staging.hauslebenskraft.de/veranstaltung/pilates-mit-selina/2026-03-30/
LOCATION:Haus Lebenskraft\, Gutenbergstr. 30\, Potsdam\, Brandenburg\, 14467\, Germany
CATEGORIES:Öffentlich, Raum der Erde
ATTACH;FMTTYPE=image/jpeg:https://staging.hauslebenskraft.de/wp-content/uploads/2026/02/Pilatesbridge-1.jpg
END:VEVENT
BEGIN:VEVENT
DTSTART;TZID=Europe/Berlin:20260330T173000
DTEND;TZID=Europe/Berlin:20260330T183000
DTSTAMP:20260421T152031
CREATED:20250221T160221Z
LAST-MODIFIED:20260228T222206Z
UID:10017800-1774891800-1774895400@staging.hauslebenskraft.de
SUMMARY:Pilates mit Selina
DESCRIPTION:Beim Pilates kannst du deinen Körper neu entdecken. Die Übungen stärken sowohl deine Körpermitte als auch dein Selbstbewusstsein.\nMeine Kurse sind mehr als nur ein Workout. Du lernst dich zu spüren\, achtsam und liebevoll mit dir umzugehen.\nPilates soll einen Zugang zu deinem Körper schaffen\, wo du dich sicher fühlst und gleichzeitig mehr über dich erfährst.10 Wochenkurs: 150 EUR\nEinzelstunde: 17 EUR\nProbestunde: 15 EUR\nDieser Kurs gilt als Präventionskurs und wird von gesetzlichen Krankenkassen bezuschusst. \nAnmeldung per Mail: selinakuehlwein@gmx.de\nWebsite: www.gestalttherapie-in-potsdam.de/körperarbeit-pilates\nBei Fragen auch gerne anrufen: 0171 98 68 712\n—
URL:https://staging.hauslebenskraft.de/veranstaltung/pilates-mit-selina-2/2026-03-30/
LOCATION:Haus Lebenskraft\, Gutenbergstr. 30\, Potsdam\, Brandenburg\, 14467\, Germany
CATEGORIES:Öffentlich, Raum der Erde
ATTACH;FMTTYPE=image/jpeg:https://staging.hauslebenskraft.de/wp-content/uploads/2026/02/Pilatesbridge-1.jpg
END:VEVENT
BEGIN:VEVENT
DTSTART;TZID=Europe/Berlin:20260330T193000
DTEND;TZID=Europe/Berlin:20260330T204500
DTSTAMP:20260421T152031
CREATED:20250505T201551Z
LAST-MODIFIED:20260207T111217Z
UID:10018161-1774899000-1774903500@staging.hauslebenskraft.de
SUMMARY:CANTIENICA® in Yoga mit Conny
DESCRIPTION:ANUSARA® Yoga & CANTIENICA®\nYoga in Verbindung mit der Schweizer CANTIENICA®️ Methode zu praktizieren bedeutet\, eine einzigartige Symbiose aus alter Tradition und moderner Trainingslehre kennenzulernen.\nBewusste Atemlenkung\, fasziale Vernetzung sowie eine zarte aber wirksame innere Ausrichtung schaffen neuen Handlungsspielraum und Lebensenergie (Prana) kann zurück in ihren natürlichen Fluss finden.\nGleichzeitig lassen sich fließende Vinyasas\, erdendes Yinyoga und die philosophischen Aspekte aus der ANUSARA® Yogalehre wunderbar integrieren.\nWir treffen uns montags um 19:30 Uhr im Haus Lebenskraft (2. OG) und wer mag\, kann sich auch via Zoom mit uns verbinden.\n \nProbestunde: 15 EUR\n8-Wochenkurs: 120 EUR (online 100 Euro)\nEinzelstunde (nach Anmeldung): 17 EUR (online 15 Euro)\nAnmeldung per Mail: yoga@draussenkind.de\nWebsite: https://draussenkind.de\nInstagram: @draussenkindyoga
URL:https://staging.hauslebenskraft.de/veranstaltung/cantienica-in-yoga-mit-conny-2/2026-03-30/
LOCATION:Haus Lebenskraft\, Gutenbergstr. 30\, Potsdam\, Brandenburg\, 14467\, Germany
CATEGORIES:Öffentlich, Sonnenraum
ATTACH;FMTTYPE=image/png:https://staging.hauslebenskraft.de/wp-content/uploads/2025/05/Cantienica-Yoga.png
ORGANIZER;CN="Cornelia Hanisch":MAILTO:yoga@draussenkind.de
END:VEVENT
END:VCALENDAR