BEGIN:VCALENDAR
VERSION:2.0
PRODID:-//Haus Lebenskraft - ECPv6.15.20//NONSGML v1.0//EN
CALSCALE:GREGORIAN
METHOD:PUBLISH
X-WR-CALNAME:Haus Lebenskraft
X-ORIGINAL-URL:https://staging.hauslebenskraft.de
X-WR-CALDESC:Veranstaltungen für Haus Lebenskraft
REFRESH-INTERVAL;VALUE=DURATION:PT1H
X-Robots-Tag:noindex
X-PUBLISHED-TTL:PT1H
BEGIN:VTIMEZONE
TZID:Europe/Berlin
BEGIN:DAYLIGHT
TZOFFSETFROM:+0100
TZOFFSETTO:+0200
TZNAME:CEST
DTSTART:20250330T010000
END:DAYLIGHT
BEGIN:STANDARD
TZOFFSETFROM:+0200
TZOFFSETTO:+0100
TZNAME:CET
DTSTART:20251026T010000
END:STANDARD
BEGIN:DAYLIGHT
TZOFFSETFROM:+0100
TZOFFSETTO:+0200
TZNAME:CEST
DTSTART:20260329T010000
END:DAYLIGHT
BEGIN:STANDARD
TZOFFSETFROM:+0200
TZOFFSETTO:+0100
TZNAME:CET
DTSTART:20261025T010000
END:STANDARD
BEGIN:DAYLIGHT
TZOFFSETFROM:+0100
TZOFFSETTO:+0200
TZNAME:CEST
DTSTART:20270328T010000
END:DAYLIGHT
BEGIN:STANDARD
TZOFFSETFROM:+0200
TZOFFSETTO:+0100
TZNAME:CET
DTSTART:20271031T010000
END:STANDARD
END:VTIMEZONE
BEGIN:VEVENT
DTSTART;TZID=Europe/Berlin:20260321T100000
DTEND;TZID=Europe/Berlin:20260321T130000
DTSTAMP:20260421T171743
CREATED:20260313T162952Z
LAST-MODIFIED:20260313T162952Z
UID:10025545-1774087200-1774098000@staging.hauslebenskraft.de
SUMMARY:intern
DESCRIPTION:Beate
URL:https://staging.hauslebenskraft.de/veranstaltung/intern-24/
LOCATION:Haus Lebenskraft\, Gutenbergstr. 30\, Potsdam\, Brandenburg\, 14467\, Germany
CATEGORIES:Intern, Therapieraum
ORGANIZER;CN="Beate Gall":MAILTO:beate.gall@posteo.de
END:VEVENT
BEGIN:VEVENT
DTSTART;TZID=Europe/Berlin:20260321T140000
DTEND;TZID=Europe/Berlin:20260321T170000
DTSTAMP:20260421T171744
CREATED:20251219T135514Z
LAST-MODIFIED:20260416T194229Z
UID:10024194-1774101600-1774112400@staging.hauslebenskraft.de
SUMMARY:Gefühlsstürme begleiten – ohne dich selbst zu verlieren
DESCRIPTION:  \nDein Kind wird schnell wütend\, sagt oft „Nein“ oder eskaliert bei Kleinigkeiten\nund du merkst\, wie du selbst immer öfter kippst? \nDieser 3-stündige Workshop ist für Eltern von Kindern von 2 bis ca. 6 Jahre\, die erschöpft sind vom emotionalen Auf und Ab\nund lernen wollen\, bei sich zu bleiben\, auch wenn es schwierig wird. \nKein Erziehungskurs. Kein Perfektionsdruck.\nDu gehst mit konkreten 1–3-Minuten-Tools nach Hause\,\ndie du sofort im Alltag nutzen kannst: für mehr innere Stabilität und mehr Verbindung.\nEin sicherer\, gehaltener Raum – ohne Bewertung. \nWir freuen uns auf Dich!\nSelina und Maria \nTickets über Eventbrite: https://www.eventbrite.de/e/gefuhlssturme-begleiten-ohne-dich-selbst-zu-verlieren-tickets-1982958362843 \nEarly-Bird: 79 € bis 28.03.26 · Regulär: 99 € \nUnser Podcast: https://www.youtube.com/@StarkeBindung
URL:https://staging.hauslebenskraft.de/veranstaltung/gefuehlsstuerme-begleiten-ohne-dich-selbst-zu-verlieren/
LOCATION:Haus Lebenskraft\, Gutenbergstr. 30\, Potsdam\, Brandenburg\, 14467\, Germany
CATEGORIES:Öffentlich, Raum der Erde
ATTACH;FMTTYPE=image/png:https://staging.hauslebenskraft.de/wp-content/uploads/2025/12/Bild-fuer-Website_Haus-Lebenskraft.png
END:VEVENT
END:VCALENDAR