BEGIN:VCALENDAR
VERSION:2.0
PRODID:-//Haus Lebenskraft - ECPv6.15.20//NONSGML v1.0//EN
CALSCALE:GREGORIAN
METHOD:PUBLISH
X-ORIGINAL-URL:https://staging.hauslebenskraft.de
X-WR-CALDESC:Veranstaltungen für Haus Lebenskraft
REFRESH-INTERVAL;VALUE=DURATION:PT1H
X-Robots-Tag:noindex
X-PUBLISHED-TTL:PT1H
BEGIN:VTIMEZONE
TZID:Europe/Berlin
BEGIN:DAYLIGHT
TZOFFSETFROM:+0100
TZOFFSETTO:+0200
TZNAME:CEST
DTSTART:20250330T010000
END:DAYLIGHT
BEGIN:STANDARD
TZOFFSETFROM:+0200
TZOFFSETTO:+0100
TZNAME:CET
DTSTART:20251026T010000
END:STANDARD
BEGIN:DAYLIGHT
TZOFFSETFROM:+0100
TZOFFSETTO:+0200
TZNAME:CEST
DTSTART:20260329T010000
END:DAYLIGHT
BEGIN:STANDARD
TZOFFSETFROM:+0200
TZOFFSETTO:+0100
TZNAME:CET
DTSTART:20261025T010000
END:STANDARD
BEGIN:DAYLIGHT
TZOFFSETFROM:+0100
TZOFFSETTO:+0200
TZNAME:CEST
DTSTART:20270328T010000
END:DAYLIGHT
BEGIN:STANDARD
TZOFFSETFROM:+0200
TZOFFSETTO:+0100
TZNAME:CET
DTSTART:20271031T010000
END:STANDARD
END:VTIMEZONE
BEGIN:VEVENT
DTSTART;TZID=Europe/Berlin:20260314T083000
DTEND;TZID=Europe/Berlin:20260314T170000
DTSTAMP:20260421T081604
CREATED:20250812T121100Z
LAST-MODIFIED:20260205T152041Z
UID:10019551-1773477000-1773507600@staging.hauslebenskraft.de
SUMMARY:Vilas Turske
DESCRIPTION:
URL:https://staging.hauslebenskraft.de/veranstaltung/vilas-turske-5/2026-03-14/
LOCATION:Haus Lebenskraft\, Gutenbergstr. 30\, Potsdam\, Brandenburg\, 14467\, Germany
CATEGORIES:Intern, Sonnenraum
ORGANIZER;CN="parApara Digital GmbH":MAILTO:lena@lallaundvilas.de
END:VEVENT
BEGIN:VEVENT
DTSTART;TZID=Europe/Berlin:20260314T103000
DTEND;TZID=Europe/Berlin:20260314T123000
DTSTAMP:20260421T081604
CREATED:20260306T135100Z
LAST-MODIFIED:20260306T135109Z
UID:10019614-1773484200-1773491400@staging.hauslebenskraft.de
SUMMARY:Der große Rat von Frauen und Männern
DESCRIPTION:In Anlehnung an die traditionsreiche Form des Council\, von der Ojai Foundation in Kalifornien\, in jahrzehntelanger Forschung und Praxis weltweit in die Gemeinwesen-Entwicklung hineingetragen\, sitzen wir zu Rate – Frauen und Männer. \n„Man sieht nur mit dem Herzen gut\, das Wesentliche ist für die Augen unsichtbar.“\nAntoine de Saint-Exupery \nDieser Aussage verleihen wir Ausdruck mit unserer Präsenz und Achtsamkeit. Wir sprechen von Herz zu Herz und hören mit dem Herzen zu. Das will gelernt und geübt sein und hier haben wir die Möglichkeit\, in einen tiefen Kontakt und Austausch miteinander zu kommen. \nDas erste Thema wird sein: Was ist meine größte Sehnsucht? \nVorkenntnisse sind nicht erforderlich. \nIch bitte um Anmeldung unter Jetzt@AufstehenInDerWeiblichkeit.de bis spätestens eine Woche vor Beginn des jeweiligen Termins.\n\nDer Rat kommt in der Regel alle 4 Wochen: zusammen:  29.11. / 17.01. / 14.02. / 14.03. \nDie Veranstaltung erfolgt auf Spendenbasis zur Deckung der Raumkosten. \nLiteratur:\nZimmermann\, J. & Coyle\, V. (2010) Der große Rat – Das Council\, mit dem Herzen hören und sprechen\, den Kreis erweitern\, Arbor Verlag (Modernes Antiquariat) \nZander\, E.-M. (2022) Aufstehen in der Weiblichkeit\, wie Frau und Mann Seele\, Herz und Mitgefühl ins Leben bringen\, Verlag Neue Erde \nhttps://evamariazander.de \nwww.ojaifoundation.org\nhttps://eschwege-institut.de/ausbildung/council \n  \nTeilnehmergebühren:\nauf Spendenbasis zur Deckung der Raumkosten \nE-Mail:\nJetzt@AufstehenInDerWeiblichkeit.de \nTelefon:\n0151 41278417 \nLink zur Veranstaltung auf eigener Webseite: \nhttps://evamariazander.de/veranstaltungen
URL:https://staging.hauslebenskraft.de/veranstaltung/der-grosse-rat-von-frauen-und-maennern-4/
LOCATION:Haus Lebenskraft\, Gutenbergstr. 30\, Potsdam\, Brandenburg\, 14467\, Germany
CATEGORIES:Öffentlich, Raum der Erde
ATTACH;FMTTYPE=image/jpeg:https://staging.hauslebenskraft.de/wp-content/uploads/2026/02/Stuhlkreis-kl-Kopie-1.jpeg
ORGANIZER;CN="Eva Maria Zander":MAILTO:ichbin@evamariazander.de
END:VEVENT
BEGIN:VEVENT
DTSTART;TZID=Europe/Berlin:20260314T130000
DTEND;TZID=Europe/Berlin:20260314T160000
DTSTAMP:20260421T081605
CREATED:20260313T143410Z
LAST-MODIFIED:20260313T143410Z
UID:10025532-1773493200-1773504000@staging.hauslebenskraft.de
SUMMARY:intern
DESCRIPTION:Elena Gesangsunterricht
URL:https://staging.hauslebenskraft.de/veranstaltung/intern-9/
LOCATION:Haus Lebenskraft\, Gutenbergstr. 30\, Potsdam\, Brandenburg\, 14467\, Germany
CATEGORIES:Intern, Raum der Erde
ORGANIZER;CN="Haus Lebenskraft":MAILTO:willkommen@hauslebenskraft.de
END:VEVENT
END:VCALENDAR