BEGIN:VCALENDAR
VERSION:2.0
PRODID:-//Haus Lebenskraft - ECPv6.15.20//NONSGML v1.0//EN
CALSCALE:GREGORIAN
METHOD:PUBLISH
X-WR-CALNAME:Haus Lebenskraft
X-ORIGINAL-URL:https://staging.hauslebenskraft.de
X-WR-CALDESC:Veranstaltungen für Haus Lebenskraft
REFRESH-INTERVAL;VALUE=DURATION:PT1H
X-Robots-Tag:noindex
X-PUBLISHED-TTL:PT1H
BEGIN:VTIMEZONE
TZID:Europe/Berlin
BEGIN:DAYLIGHT
TZOFFSETFROM:+0100
TZOFFSETTO:+0200
TZNAME:CEST
DTSTART:20250330T010000
END:DAYLIGHT
BEGIN:STANDARD
TZOFFSETFROM:+0200
TZOFFSETTO:+0100
TZNAME:CET
DTSTART:20251026T010000
END:STANDARD
BEGIN:DAYLIGHT
TZOFFSETFROM:+0100
TZOFFSETTO:+0200
TZNAME:CEST
DTSTART:20260329T010000
END:DAYLIGHT
BEGIN:STANDARD
TZOFFSETFROM:+0200
TZOFFSETTO:+0100
TZNAME:CET
DTSTART:20261025T010000
END:STANDARD
BEGIN:DAYLIGHT
TZOFFSETFROM:+0100
TZOFFSETTO:+0200
TZNAME:CEST
DTSTART:20270328T010000
END:DAYLIGHT
BEGIN:STANDARD
TZOFFSETFROM:+0200
TZOFFSETTO:+0100
TZNAME:CET
DTSTART:20271031T010000
END:STANDARD
END:VTIMEZONE
BEGIN:VEVENT
DTSTART;TZID=Europe/Berlin:20260307T080000
DTEND;TZID=Europe/Berlin:20260307T170000
DTSTAMP:20260422T035621
CREATED:20260105T160814Z
LAST-MODIFIED:20260202T142323Z
UID:10024278-1772870400-1772902800@staging.hauslebenskraft.de
SUMMARY:intern
DESCRIPTION:Reserviert für Andrea Steinke
URL:https://staging.hauslebenskraft.de/veranstaltung/res-fuer-andrea-steinke/2026-03-07/
LOCATION:Haus Lebenskraft\, Gutenbergstr. 30\, Potsdam\, Brandenburg\, 14467\, Germany
CATEGORIES:Intern, Sonnenraum
END:VEVENT
BEGIN:VEVENT
DTSTART;TZID=Europe/Berlin:20260307T093000
DTEND;TZID=Europe/Berlin:20260307T100000
DTSTAMP:20260422T035621
CREATED:20260212T173239Z
LAST-MODIFIED:20260212T173239Z
UID:10025088-1772875800-1772877600@staging.hauslebenskraft.de
SUMMARY:intern
DESCRIPTION:Vorbeiteriung Birgit
URL:https://staging.hauslebenskraft.de/veranstaltung/intern-5/
LOCATION:Haus Lebenskraft\, Gutenbergstr. 30\, Potsdam\, Brandenburg\, 14467\, Germany
CATEGORIES:Intern, Raum der Erde
ORGANIZER;CN="Haus Lebenskraft":MAILTO:willkommen@hauslebenskraft.de
END:VEVENT
BEGIN:VEVENT
DTSTART;TZID=Europe/Berlin:20260307T100000
DTEND;TZID=Europe/Berlin:20260307T130000
DTSTAMP:20260422T035621
CREATED:20260212T171411Z
LAST-MODIFIED:20260304T200941Z
UID:10025085-1772877600-1772888400@staging.hauslebenskraft.de
SUMMARY:Von der Wut zur Kraft - Was uns Frauen stärkt
DESCRIPTION:  \n  \nWas unterstützt mich als Frau darin\, aus der Lähmung und Angst auszusteigen und in einen Raum der weiblichen Stärke\, Zuversicht und Wirksamkeit zu kommen? \nWie kann ich mich in mir verankern und Zugang zu meiner inneren Kraftquelle bekommen? \n  \nSei willkommen im Kreis der Frauen\, um zu erleben\, was uns Energie und Kraft gibt\, wie wir Dinge\, die uns belasten auf energievolle Weise abschütteln können und Gefühle auf heilsame Art ausdrücken und transformieren können. \n  \nAn diesem Vormittag lade ich in einen Erfahrungsraum ein\, um vom Kopf in den Körper zu kommen. Viele Dinge lassen sich nicht mit dem Kopf lösen. Unser Körper und besonders unser Schoßraum hat eine eigene Intelligenz. \n  \nBesonders im Becken\, Bauch und Schoßraum sitzt unsere weibliche Kraft\, unser Bauch Gefühl und unser Bauchhirn mit seiner höheren Intelligenz und Weisheit. \nSei eingeladen dich in deinem Schoßraum mehr zu beheimaten. Wir setzen Atem\, Stimme und Bewegung ein\, um mehr Präsenz in dein Becken zu bringen im Sinne von Energie folgt der Aufmerksamkeit! \nDer nährende und stärkende Austausch im Frauenkreis unterstützt und verbindet uns als Frauen. \n  \nBitte mitbringen: bequeme Kleidung\,  warme Socken\, Wasserflasche \n  \nLeitung: Birgit Kahina Richter (Diplom-Pädagogin\, Massagekünstlerin seit 30 Jahren) \n  \nEnergieausgleich: 15\,- bis 30\,- Euro nach Selbsteinschätzung \n  \nLink : https://in-berührung-sein.de/frauenraum/ \n  \nBitte anmelden unter:  bc.richter@gmx.de   \n  \nTelefon: 0163 986170 \n  \n 
URL:https://staging.hauslebenskraft.de/veranstaltung/von-der-wut-zur-kraft-was-uns-frauen-staerkt/
LOCATION:Haus Lebenskraft\, Gutenbergstr. 30\, Potsdam\, Brandenburg\, 14467\, Germany
CATEGORIES:Öffentlich, Raum der Erde
ATTACH;FMTTYPE=image/png:https://staging.hauslebenskraft.de/wp-content/uploads/2026/02/file_0000000071f472439e48c2bf9501f525.png
ORGANIZER;CN="Birgit Richter":MAILTO:bc.richter@gmx.de
END:VEVENT
END:VCALENDAR