BEGIN:VCALENDAR
VERSION:2.0
PRODID:-//Haus Lebenskraft - ECPv6.15.20//NONSGML v1.0//EN
CALSCALE:GREGORIAN
METHOD:PUBLISH
X-WR-CALNAME:Haus Lebenskraft
X-ORIGINAL-URL:https://staging.hauslebenskraft.de
X-WR-CALDESC:Veranstaltungen für Haus Lebenskraft
REFRESH-INTERVAL;VALUE=DURATION:PT1H
X-Robots-Tag:noindex
X-PUBLISHED-TTL:PT1H
BEGIN:VTIMEZONE
TZID:Europe/Berlin
BEGIN:DAYLIGHT
TZOFFSETFROM:+0100
TZOFFSETTO:+0200
TZNAME:CEST
DTSTART:20250330T010000
END:DAYLIGHT
BEGIN:STANDARD
TZOFFSETFROM:+0200
TZOFFSETTO:+0100
TZNAME:CET
DTSTART:20251026T010000
END:STANDARD
BEGIN:DAYLIGHT
TZOFFSETFROM:+0100
TZOFFSETTO:+0200
TZNAME:CEST
DTSTART:20260329T010000
END:DAYLIGHT
BEGIN:STANDARD
TZOFFSETFROM:+0200
TZOFFSETTO:+0100
TZNAME:CET
DTSTART:20261025T010000
END:STANDARD
BEGIN:DAYLIGHT
TZOFFSETFROM:+0100
TZOFFSETTO:+0200
TZNAME:CEST
DTSTART:20270328T010000
END:DAYLIGHT
BEGIN:STANDARD
TZOFFSETFROM:+0200
TZOFFSETTO:+0100
TZNAME:CET
DTSTART:20271031T010000
END:STANDARD
END:VTIMEZONE
BEGIN:VEVENT
DTSTART;TZID=Europe/Berlin:20260226T083000
DTEND;TZID=Europe/Berlin:20260226T180000
DTSTAMP:20260421T114950
CREATED:20240102T154842Z
LAST-MODIFIED:20260202T134002Z
UID:10016876-1772094600-1772128800@staging.hauslebenskraft.de
SUMMARY:intern
DESCRIPTION:Judith Rauxloh Therapie
URL:https://staging.hauslebenskraft.de/veranstaltung/judith-rauxloh-therapie-3-2/2026-02-26/
LOCATION:Haus Lebenskraft\, Gutenbergstr. 30\, Potsdam\, Brandenburg\, 14467\, Germany
CATEGORIES:Intern, Therapieraum
ORGANIZER;CN="Judith Rauxloh":MAILTO:judith.rauxloh@gmx.de
END:VEVENT
BEGIN:VEVENT
DTSTART;TZID=Europe/Berlin:20260226T111500
DTEND;TZID=Europe/Berlin:20260226T124500
DTSTAMP:20260421T114950
CREATED:20260209T191300Z
LAST-MODIFIED:20260210T142401Z
UID:10025054-1772104500-1772109900@staging.hauslebenskraft.de
SUMMARY:Mama/Papa-Baby-Yoga
DESCRIPTION:Die Geburt deines/eures Kindes ist geschafft.\nHerzlichen Glückwunsch zu diesem Meilenstein.\nEs beginnt eine aufregende Zeit und manchmal wird es auch Tage geben\, an denen die\neigenen Akkus langsam zur Neige gehen.\nDeshalb bietet dir der Mama/Papa-Baby Yogakurs die Möglichkeit deinen Akkus mit Hilfe\nvon Yoga aufzuladen und gleichzeitig Zeit mit deinem Baby zu verbringen.\nDer Kurs kann nach der Geburt\, wenn du dich dazu bereit fühlst und bis zu einem Alter der\nKinder von 12 Monaten stattfinden.\nAlle Gefühle der Kleinen sind willkommen. \nEine Einzelstunde kostet 17 Euro. \nEiner 5er Karte kostet 80 Euro. \nAnmelden kannst Du dich auf meiner Homepage www.denisesander.com und dort buchst du den Kurs über Eversports
URL:https://staging.hauslebenskraft.de/veranstaltung/mama-papa-baby-yoga/2026-02-26/
LOCATION:Haus Lebenskraft\, Gutenbergstr. 30\, Potsdam\, Brandenburg\, 14467\, Germany
CATEGORIES:Öffentlich, Sonnenraum
ATTACH;FMTTYPE=image/jpeg:https://staging.hauslebenskraft.de/wp-content/uploads/2026/02/MamaPapa-Yoga-Homepage.jpg
ORGANIZER;CN="Denise Sander":MAILTO:denise.rampelmann@gmx.de
END:VEVENT
BEGIN:VEVENT
DTSTART;TZID=Europe/Berlin:20260226T180000
DTEND;TZID=Europe/Berlin:20260226T191500
DTSTAMP:20260421T114950
CREATED:20250202T153457Z
LAST-MODIFIED:20260202T134108Z
UID:10020404-1772128800-1772133300@staging.hauslebenskraft.de
SUMMARY:Bauchtanz
DESCRIPTION:Bauchtanz\, eigentlich „Orientalischer Tanz“ nimmt Dich mit in eine andere Welt. Wie kaum ein anderer Tanz vereint er Weiblichkeit\, Körperbeherrschung und Tanzfreude. Als positiven Nebeneffekt verbessert er Deine Beweglichkeit\, Deine Haltung und Dein körperliches und seelisches Wohlbefinden. Die typischen Bewegungen werden stets mit viel Tanzfreude geübt und bis hin zu Choreographien miteinander kombiniert. Zusätzlich werden in manchen Stunden Elemente wie der Tanzschleier hinzugenommen. \nBauchtanz bzw. Orientalischer Tanz eignet sich für alle Frauen und Mädchen jeden Alters.\nDieser Kurs ist für Tänzerinnen mit Vorkenntnissen. Einsteigerinnen: nach Rücksprache möglich. Erste Schnupperstunde 10 €. \nKosten: 50 € monatlich \nInfo: https://www.zeyna.com \nTelefon: 0151 432 53 180
URL:https://staging.hauslebenskraft.de/veranstaltung/bauchtanz-5/2026-02-26/
LOCATION:Haus Lebenskraft\, Gutenbergstr. 30\, Potsdam\, Brandenburg\, 14467\, Germany
CATEGORIES:Öffentlich, Sonnenraum
ATTACH;FMTTYPE=image/png:https://staging.hauslebenskraft.de/wp-content/uploads/2026/02/bauchtanz_potsdam-1.png
ORGANIZER;CN="Sabine Richter":MAILTO:sabinezeyna@yahoo.de
END:VEVENT
BEGIN:VEVENT
DTSTART;TZID=Europe/Berlin:20260226T183000
DTEND;TZID=Europe/Berlin:20260226T190000
DTSTAMP:20260421T114950
CREATED:20230411T115130Z
LAST-MODIFIED:20260202T152959Z
UID:10012984-1772130600-1772132400@staging.hauslebenskraft.de
SUMMARY:intern
DESCRIPTION:Tanzfreude mit Gesine
URL:https://staging.hauslebenskraft.de/veranstaltung/reserviert-6/2026-02-26/
LOCATION:Haus Lebenskraft\, Gutenbergstr. 30\, Potsdam\, Brandenburg\, 14467\, Germany
CATEGORIES:Intern, Raum der Erde
ORGANIZER;CN="Uta Baunach":MAILTO:uta@sing-doch-einfach-mit.de
END:VEVENT
BEGIN:VEVENT
DTSTART;TZID=Europe/Berlin:20260226T190000
DTEND;TZID=Europe/Berlin:20260226T203000
DTSTAMP:20260421T114950
CREATED:20241021T155308Z
LAST-MODIFIED:20260202T141542Z
UID:10015428-1772132400-1772137800@staging.hauslebenskraft.de
SUMMARY:Singkreis mit Uta und Savitri
DESCRIPTION:Im gemeinsamen Singen die Seele berühren\n\nJeden 4. Donnerstag im Monat laden Dich Savitri (Harfe) und Uta (Gitarre) zum Mitsingen ein. Einfach zu lernende Mantras\, spirituelle Lieder und come-together-songs aus verschiedenen Traditionen ebnen uns den Weg zu Verbundenheit und Lebensfreude.\nWir öffnen uns der transformierenden Kraft der Lieder und der Klänge – mal meditativ\, mal kraftvoll und beschwingt\, mal mehrstimmig und mal ganz zart.\nGemeinsam Singen und die Seele berühren – komm mit uns auf den Weg!\n\nAuf Spendenbasis (Empfehlung 10 €)\n\nKontakt: uta@sing-doch-einfach-mit.de\nhallo@harfe-potsdam.de\n\nHomepage: sing-doch-einfach-mit.de\nharfe-potsdam.de
URL:https://staging.hauslebenskraft.de/veranstaltung/singkreis-im-gemeinsamen-singen-die-seele-beruehren-3/2026-02-26/
LOCATION:Haus Lebenskraft\, Gutenbergstr. 30\, Potsdam\, Brandenburg\, 14467\, Germany
CATEGORIES:Öffentlich, Raum der Erde
ATTACH;FMTTYPE=image/jpeg:https://staging.hauslebenskraft.de/wp-content/uploads/2024/10/Singkreis.jpg
ORGANIZER;CN="Uta Baunach":MAILTO:uta@sing-doch-einfach-mit.de
END:VEVENT
BEGIN:VEVENT
DTSTART;TZID=Europe/Berlin:20260226T193000
DTEND;TZID=Europe/Berlin:20260226T204500
DTSTAMP:20260421T114950
CREATED:20250912T190455Z
LAST-MODIFIED:20260202T134213Z
UID:10020429-1772134200-1772138700@staging.hauslebenskraft.de
SUMMARY:Bauchtanz
DESCRIPTION:Bauchtanz\, eigentlich „Orientalischer Tanz“ nimmt Dich mit in eine andere Welt. Wie kaum ein anderer Tanz vereint er Weiblichkeit\, Körperbeherrschung und Tanzfreude. Als positiven Nebeneffekt verbessert er Deine Beweglichkeit\, Deine Haltung und Dein körperliches und seelisches Wohlbefinden. Die typischen Bewegungen werden stets mit viel Tanzfreude geübt und bis hin zu Choreographien miteinander kombiniert. Zusätzlich werden in manchen Stunden Elemente wie der Tanzschleier hinzugenommen. \nBauchtanz bzw. Orientalischer Tanz eignet sich für alle Frauen und Mädchen jeden Alters.\nDieser Kurs ist für Tänzerinnen mit Vorkenntnissen. Einsteigerinnen: nach Rücksprache möglich. Erste Schnupperstunde 10 €. \nKosten: 50 € monatlich \nInfo: https://www.zeyna.com \nTelefon: 0151 432 53 180
URL:https://staging.hauslebenskraft.de/veranstaltung/bauchtanz-7/2026-02-26/
LOCATION:Haus Lebenskraft\, Gutenbergstr. 30\, Potsdam\, Brandenburg\, 14467\, Germany
CATEGORIES:Öffentlich, Sonnenraum
ATTACH;FMTTYPE=image/png:https://staging.hauslebenskraft.de/wp-content/uploads/2026/02/bauchtanz_potsdam-1.png
ORGANIZER;CN="Sabine Richter":MAILTO:sabinezeyna@yahoo.de
END:VEVENT
END:VCALENDAR