BEGIN:VCALENDAR
VERSION:2.0
PRODID:-//Haus Lebenskraft - ECPv6.15.20//NONSGML v1.0//EN
CALSCALE:GREGORIAN
METHOD:PUBLISH
X-WR-CALNAME:Haus Lebenskraft
X-ORIGINAL-URL:https://staging.hauslebenskraft.de
X-WR-CALDESC:Veranstaltungen für Haus Lebenskraft
REFRESH-INTERVAL;VALUE=DURATION:PT1H
X-Robots-Tag:noindex
X-PUBLISHED-TTL:PT1H
BEGIN:VTIMEZONE
TZID:Europe/Berlin
BEGIN:DAYLIGHT
TZOFFSETFROM:+0100
TZOFFSETTO:+0200
TZNAME:CEST
DTSTART:20250330T010000
END:DAYLIGHT
BEGIN:STANDARD
TZOFFSETFROM:+0200
TZOFFSETTO:+0100
TZNAME:CET
DTSTART:20251026T010000
END:STANDARD
BEGIN:DAYLIGHT
TZOFFSETFROM:+0100
TZOFFSETTO:+0200
TZNAME:CEST
DTSTART:20260329T010000
END:DAYLIGHT
BEGIN:STANDARD
TZOFFSETFROM:+0200
TZOFFSETTO:+0100
TZNAME:CET
DTSTART:20261025T010000
END:STANDARD
BEGIN:DAYLIGHT
TZOFFSETFROM:+0100
TZOFFSETTO:+0200
TZNAME:CEST
DTSTART:20270328T010000
END:DAYLIGHT
BEGIN:STANDARD
TZOFFSETFROM:+0200
TZOFFSETTO:+0100
TZNAME:CET
DTSTART:20271031T010000
END:STANDARD
END:VTIMEZONE
BEGIN:VEVENT
DTSTART;TZID=Europe/Berlin:20260208T090000
DTEND;TZID=Europe/Berlin:20260208T110000
DTSTAMP:20260424T053244
CREATED:20250216T163358Z
LAST-MODIFIED:20260410T183447Z
UID:10024275-1770541200-1770548400@staging.hauslebenskraft.de
SUMMARY:Kundalini Yoga Workshop mit Klangtrance
DESCRIPTION:Kundalini-Yoga-Workshop mit Klangtrance \nKundalini-Yoga ist ein kraftvoller und äußerst schnell wirksamer Weg\, der unseren Geist und unseren Körper trainiert\, um eine höhere Schwingung zu erreichen\, unsere innere Energie aufzubauen und bewusst lenken zu lernen. Es erweckt dein Bewusstsein und bringt dich zu dir selbst zurück\, zu deiner dir eigenen Natur und deinem Ursprung in der Unendlichkeit. Deine eigene Erfahrung steht im Mittelpunkt. Sie geht direkt ins Herz und keine Worte könnten diese Erfahrung je ersetzen. \nAn diesem Tag starten wir mit ein paar Warm-up-Übungen\, setzen dann bewusst eine Intention und lassen uns durch eine bestimmte Kriya (Übungsreihe) führen. \nDu tauchst ein in die individuelle Erfahrung und lässt dich von deinem Atem und von Kundalini-Mantren in eine höhere Schwingung versetzen. So können deine Selbstheilungskräfte enorm gestärkt werden. Gestaute Energie kommt wieder in den Fluss\, besonders auch dann\, wenn du anschließend bei den sphärischen Klängen von Gong und Kristallschalen in eine tiefe Entspannung gleitest. Am Ende runden wir diese Reise mit einer wunderbaren Meditation ab. \nLässt du dich auf diese Erfahrungen ganz ein\, wirst du dich danach sicher wie neu geboren fühlen. Versuchen wir es! \nBitte melde dich bei Steffanie an: info@ananda-yoga-potsdam.com \nDein Beitrag: 25€ \n(Matten\, Decken\, Kissen\, Leitungswasser…ist alles vor Ort. Du brauchst einfach nur bequeme Sachen zum Bewegen und für die Entspannung auch etwas Wärmeres zum Drüberziehen. Es empfiehlt sich\, dass du erst nach dem Workshop richtig frühstückst.) \n  \n(Gemäß §19 Abs. 1 UStG Kleinunternehmerbesteuerung wird keine MwSt. ausgewiesen.)
URL:https://staging.hauslebenskraft.de/veranstaltung/kundalini-yoga-workshop-mit-steffanie/2026-02-08/
LOCATION:Haus Lebenskraft\, Gutenbergstr. 30\, Potsdam\, Brandenburg\, 14467\, Germany
CATEGORIES:Öffentlich, Sonnenraum
ATTACH;FMTTYPE=image/jpeg:https://staging.hauslebenskraft.de/wp-content/uploads/2025/02/Kundaliniyoga-mit-Mantren.jpg
ORGANIZER;CN="Steffanie Rosenhahn":MAILTO:ananda-yoga-potsdam@web.de
END:VEVENT
BEGIN:VEVENT
DTSTART;TZID=Europe/Berlin:20260208T140000
DTEND;TZID=Europe/Berlin:20260208T170000
DTSTAMP:20260424T053244
CREATED:20260105T155411Z
LAST-MODIFIED:20260202T134931Z
UID:10024277-1770559200-1770570000@staging.hauslebenskraft.de
SUMMARY:Selbstmitgefühl – unsere kraftvolle Ressource
DESCRIPTION:Achtsames Selbstmitgefühl (Mindful Self-Compassion – MSC) basiert auf der bahnbrechenden Forschung von Kristin Neff und dem klinischen Fachwissen von Christopher Germer. MSC bringt Teilnehmenden die wesentlichen Prinzipien und Praktiken bei\, um schwierigen Momenten im Leben mit Güte\, Fürsorge und Verständnis begegnen zu können. \nDie drei Kernkompetenzen von Selbstmitgefühl sind Freundlichkeit mit uns selbst\, ein Gefühl von Mitmenschlichkeit und ein ausgeglichenes achtsames Bewusstsein. Freundlichkeit öffnet unsere Herzen dem Leid gegenüber\, damit wir uns das geben können\, was wir brauchen. Mitmenschlichkeit öffnet uns für unsere grundlegende Verbundenheit mit allen Wesen\, damit wir erfahren\, dass wir nicht allein sind. Achtsamkeit öffnet uns für den gegenwärtigen Moment\, damit wir unsere Erfahrung mit mehr Leichtigkeit annehmen können. Zusammen manifestieren sich diese Komponenten in einen Zustand von warmherziger verbundener Präsenz. \nSelbstmitgefühl kann jede und jeder erlernen. Stetig wachsende Forschungsbefunde zeigen\, dass größeres Selbstmitgefühl deutlich mit mehr emotionalem Wohlbefinden\, weniger Angst\, Depression und Stress und einem Aufrechterhalten von gesunden Lebensweisen\, wie Ernährung und Sport\, und zufriedenstellenden Beziehungen einhergeht. Und es ist einfacher als du denkst. \nDiese Einführung besteht aus anschaulichem Vortrag\, Meditation\, Selbsterfahrungsübung\, Austausch in der Gruppe und Anwendungen für zu Hause. \nIch bitte um Anmeldung unter Jetzt@AufstehenInDerWeiblichkeit.de bis spätestens 4 Tage vor Beginn des Treffens. \nTeilnehmergebühren: 42 Euro pro Person \nInformationen: https://evamariazander.de \nE-Mail:\nJetzt@AufstehenInDerWeiblichkeit.de \nTelefon:\n\n0151 41278417 \nhttps://evamariazander.de/veranstaltungen \n 
URL:https://staging.hauslebenskraft.de/veranstaltung/selbstmitgefuehl-unsere-kraftvolle-ressource/
LOCATION:Haus Lebenskraft\, Gutenbergstr. 30\, Potsdam\, Brandenburg\, 14467\, Germany
CATEGORIES:Öffentlich, Raum der Erde
ATTACH;FMTTYPE=image/jpeg:https://staging.hauslebenskraft.de/wp-content/uploads/2026/02/Mitgefuehl-1.jpg
ORGANIZER;CN="Eva Maria Zander":MAILTO:ichbin@evamariazander.de
END:VEVENT
END:VCALENDAR