BEGIN:VCALENDAR
VERSION:2.0
PRODID:-//Haus Lebenskraft - ECPv6.15.20//NONSGML v1.0//EN
CALSCALE:GREGORIAN
METHOD:PUBLISH
X-WR-CALNAME:Haus Lebenskraft
X-ORIGINAL-URL:https://staging.hauslebenskraft.de
X-WR-CALDESC:Veranstaltungen für Haus Lebenskraft
REFRESH-INTERVAL;VALUE=DURATION:PT1H
X-Robots-Tag:noindex
X-PUBLISHED-TTL:PT1H
BEGIN:VTIMEZONE
TZID:Europe/Berlin
BEGIN:DAYLIGHT
TZOFFSETFROM:+0100
TZOFFSETTO:+0200
TZNAME:CEST
DTSTART:20250330T010000
END:DAYLIGHT
BEGIN:STANDARD
TZOFFSETFROM:+0200
TZOFFSETTO:+0100
TZNAME:CET
DTSTART:20251026T010000
END:STANDARD
BEGIN:DAYLIGHT
TZOFFSETFROM:+0100
TZOFFSETTO:+0200
TZNAME:CEST
DTSTART:20260329T010000
END:DAYLIGHT
BEGIN:STANDARD
TZOFFSETFROM:+0200
TZOFFSETTO:+0100
TZNAME:CET
DTSTART:20261025T010000
END:STANDARD
BEGIN:DAYLIGHT
TZOFFSETFROM:+0100
TZOFFSETTO:+0200
TZNAME:CEST
DTSTART:20270328T010000
END:DAYLIGHT
BEGIN:STANDARD
TZOFFSETFROM:+0200
TZOFFSETTO:+0100
TZNAME:CET
DTSTART:20271031T010000
END:STANDARD
END:VTIMEZONE
BEGIN:VEVENT
DTSTART;TZID=Europe/Berlin:20260124T100000
DTEND;TZID=Europe/Berlin:20260124T110000
DTSTAMP:20260423T015644
CREATED:20251120T202125Z
LAST-MODIFIED:20251212T175504Z
UID:10023794-1769248800-1769252400@staging.hauslebenskraft.de
SUMMARY:Vorbereitung Kirko
DESCRIPTION:
URL:https://staging.hauslebenskraft.de/veranstaltung/vorbereitung-kirko-2/
LOCATION:Haus Lebenskraft\, Gutenbergstr. 30\, Potsdam\, Brandenburg\, 14467\, Germany
CATEGORIES:Intern, Raum der Erde
END:VEVENT
BEGIN:VEVENT
DTSTART;TZID=Europe/Berlin:20260124T110000
DTEND;TZID=Europe/Berlin:20260124T190000
DTSTAMP:20260423T015645
CREATED:20251120T192829Z
LAST-MODIFIED:20251227T155035Z
UID:10023792-1769252400-1769281200@staging.hauslebenskraft.de
SUMMARY:Frau & Mann Workshop
DESCRIPTION:Was wäre\, wenn alte Verletzungen\, Projektionen und Schutzmechanismen nicht länger dein Beziehungsleben bestimmen? \nIn diesem transformierenden Tagesworkshop erforschst und heilst du die Dynamik deines inneren Mannes & deiner inneren Frau. Mit kraftvollen Übungen aus Tantra\, systemischer Arbeit\, Gestalttherapie & Radical Honesty entsteht Raum für tiefe Selbsterkenntnis\, Vergebung und neue Verbindung – zuerst in dir\, dann im Außen. \n✨ Bewusste Begegnungen\n✨ Shiva & Shakti verkörpern und integrieren\n✨ Männer- & Frauenkreis\n✨ Hawaiianisches Vergebungsritual \nFür alle\, die bereit sind\, sich selbst ehrlich zu begegnen und Beziehung neu zu erleben.\nSingles & Paare willkommen \n👉 Mehr Infos & Anmeldung:\nhttps://mann-frau-24012026.eventbrite.de\n⏰SA | 24.01. | 11-19 Uhr\n📍Haus Lebenskraft Potsdam\n‼️Early Bird bis zum 02.01. ‼️
URL:https://staging.hauslebenskraft.de/veranstaltung/frau-mann-workshop/
LOCATION:Haus Lebenskraft\, Gutenbergstr. 30\, Potsdam\, Brandenburg\, 14467\, Germany
CATEGORIES:Öffentlich, Raum der Erde
END:VEVENT
BEGIN:VEVENT
DTSTART;TZID=Europe/Berlin:20260124T120000
DTEND;TZID=Europe/Berlin:20260124T140000
DTSTAMP:20260423T015645
CREATED:20260115T110803Z
LAST-MODIFIED:20260115T110803Z
UID:10024484-1769256000-1769263200@staging.hauslebenskraft.de
SUMMARY:Elena Gesangsunterricht
DESCRIPTION:
URL:https://staging.hauslebenskraft.de/veranstaltung/elena-gesangsunterricht/
LOCATION:Haus Lebenskraft\, Gutenbergstr. 30\, Potsdam\, Brandenburg\, 14467\, Germany
CATEGORIES:Intern, Sonnenraum
ORGANIZER;CN="Elena Rezai":MAILTO:elena.music@web.de
END:VEVENT
BEGIN:VEVENT
DTSTART;TZID=Europe/Berlin:20260124T170000
DTEND;TZID=Europe/Berlin:20260124T190000
DTSTAMP:20260423T015645
CREATED:20251128T142052Z
LAST-MODIFIED:20251201T182850Z
UID:10023823-1769274000-1769281200@staging.hauslebenskraft.de
SUMMARY:Acroyoga Workshop
DESCRIPTION:Bei AcroYoga werden akrobatische Übungen mit der Achtsamkeit des Yogas kombiniert. Die Übungen werden hauptsächlich zu zweit praktiziert (Base und Flyer).\n\nAblauf:\n• Erwärmung durch Yoga und Partnerübungen um einen ersten Kontakt aufzunehmen\n• akrobatisches Fliegen: aktive AcroYoga Positionen (Asanas) und Flows\n• therapeutisches Fliegen: passive Positionen zur Entspannung\n\nDurch die Übungen entwickeln sich Vertrauen\, Gleichgewicht\, Körperspannung\, Flexibilität\, Koordination\, Körperbewusstsein sowie Hingabe und Loslassen.\n\nVorherige Erfahrung ist nicht notwendig. Ihr könnt alleine oder mit euren Freunden kommen. Auch geeignet für Kinder ab 7 Jahren.\n\nOrt:  Haus Lebenskraft\nGutenbergstraße 30\n14467 Potsdam\n\nDatum: Samstag 24.01.26 um 17.00-19.00 Uhr\n\nPreis: Early Bird Preis bei Anmeldung bis 2 Wochen vor dem Beginn: 25 Euro;\ndanach regulär 30 Euro pro Person\n\nAnmeldung und Fragen bei Maria: 015750616548 oder m-syn@hotmail.com
URL:https://staging.hauslebenskraft.de/veranstaltung/acroyoga-workshop/
LOCATION:Haus Lebenskraft\, Gutenbergstr. 30\, Potsdam\, Brandenburg\, 14467\, Germany
CATEGORIES:Öffentlich, Sonnenraum
ORGANIZER;CN="maria syngelaki":MAILTO:m-syn@hotmail.com
END:VEVENT
END:VCALENDAR