BEGIN:VCALENDAR
VERSION:2.0
PRODID:-//Haus Lebenskraft - ECPv6.15.20//NONSGML v1.0//EN
CALSCALE:GREGORIAN
METHOD:PUBLISH
X-WR-CALNAME:Haus Lebenskraft
X-ORIGINAL-URL:https://staging.hauslebenskraft.de
X-WR-CALDESC:Veranstaltungen für Haus Lebenskraft
REFRESH-INTERVAL;VALUE=DURATION:PT1H
X-Robots-Tag:noindex
X-PUBLISHED-TTL:PT1H
BEGIN:VTIMEZONE
TZID:Europe/Berlin
BEGIN:DAYLIGHT
TZOFFSETFROM:+0100
TZOFFSETTO:+0200
TZNAME:CEST
DTSTART:20250330T010000
END:DAYLIGHT
BEGIN:STANDARD
TZOFFSETFROM:+0200
TZOFFSETTO:+0100
TZNAME:CET
DTSTART:20251026T010000
END:STANDARD
BEGIN:DAYLIGHT
TZOFFSETFROM:+0100
TZOFFSETTO:+0200
TZNAME:CEST
DTSTART:20260329T010000
END:DAYLIGHT
BEGIN:STANDARD
TZOFFSETFROM:+0200
TZOFFSETTO:+0100
TZNAME:CET
DTSTART:20261025T010000
END:STANDARD
BEGIN:DAYLIGHT
TZOFFSETFROM:+0100
TZOFFSETTO:+0200
TZNAME:CEST
DTSTART:20270328T010000
END:DAYLIGHT
BEGIN:STANDARD
TZOFFSETFROM:+0200
TZOFFSETTO:+0100
TZNAME:CET
DTSTART:20271031T010000
END:STANDARD
END:VTIMEZONE
BEGIN:VEVENT
DTSTART;TZID=Europe/Berlin:20260119T070000
DTEND;TZID=Europe/Berlin:20260119T100000
DTSTAMP:20260422T131610
CREATED:20240112T155041Z
LAST-MODIFIED:20260205T091421Z
UID:10024967-1768806000-1768816800@staging.hauslebenskraft.de
SUMMARY:Hausreinigung
DESCRIPTION:
URL:https://staging.hauslebenskraft.de/veranstaltung/hausreinigung/2026-01-19/
LOCATION:Haus Lebenskraft\, Gutenbergstr. 30\, Potsdam\, Brandenburg\, 14467\, Germany
CATEGORIES:Intern, Behandlungsraum,Intern, Raum der Erde,Intern, Sonnenraum,Intern, Therapieraum
END:VEVENT
BEGIN:VEVENT
DTSTART;TZID=Europe/Berlin:20260119T100000
DTEND;TZID=Europe/Berlin:20260119T113000
DTSTAMP:20260422T131610
CREATED:20250617T173304Z
LAST-MODIFIED:20260202T131344Z
UID:10016784-1768816800-1768822200@staging.hauslebenskraft.de
SUMMARY:Yoga am Vormittag
DESCRIPTION:Ab dem 20. Januar gibt es wieder einen 10-wöchigen Yogakurs für Anfänger und Fortgeschrittene \njeden Montag von 10 – 11.30 Uhr \nBeginne die Woche mit einer entspannten\, aber umfassenden Yoga-Einheit\, um deinen Körper stark und geschmeidig zu halten\, Entspannungstechniken und eine heilsame Bauchatmung in den Alltag zu integrieren und anderthalb Stunden die Seele baumeln zu lassen. \nDer Kurs geht vom 20.01. bis zum 24.03. und kostet 150 Euro. \nBei Interesse melde dich bitte bis zum 06.01. bei mir an unter \njudith.rauxloh@gmx.de\n01520 77777 48\nwww.lebenswerkstatt-potsdam.de \nJudith Rauxloh\, Yogalehrerin BYV
URL:https://staging.hauslebenskraft.de/veranstaltung/judith-5/2026-01-19/
LOCATION:Haus Lebenskraft\, Gutenbergstr. 30\, Potsdam\, Brandenburg\, 14467\, Germany
CATEGORIES:Öffentlich, Raum der Erde
ATTACH;FMTTYPE=image/jpeg:https://staging.hauslebenskraft.de/wp-content/uploads/2026/02/photo_2025-01-03_10-56-10-1.jpg
ORGANIZER;CN="Judith Rauxloh":MAILTO:judith.rauxloh@gmx.de
END:VEVENT
BEGIN:VEVENT
DTSTART;TZID=Europe/Berlin:20260119T130000
DTEND;TZID=Europe/Berlin:20260119T141500
DTSTAMP:20260422T131610
CREATED:20251103T173423Z
LAST-MODIFIED:20251110T143707Z
UID:10020617-1768827600-1768832100@staging.hauslebenskraft.de
SUMMARY:Stilles Winter-Qigong für inneren Frieden
DESCRIPTION:Wem leicht etwas „an die Nieren geht“ oder wer „mit dem Rücken zur Wand“ stehst\, braucht besonders Schutz und Pflege der Energiespeicher\, den Nieren. Dafür tiefe Ruhe und inneren Frieden zu schaffen\, werden Dir auch alle anderen Organe danken. \n25€ pro Termin \n  \nKatrin Müller\nQigong & Meditation \nMobil: +49 (0)176 81324087\nBitte anmelden unter:\nMail:  km-qigongseminare@posteo.de \n 
URL:https://staging.hauslebenskraft.de/veranstaltung/tian-ai-qigong-3/2026-01-19/
LOCATION:Haus Lebenskraft\, Gutenbergstr. 30\, Potsdam\, Brandenburg\, 14467\, Germany
CATEGORIES:Öffentlich, Raum der Erde
ORGANIZER;CN="Katrin M%C3%BCller":MAILTO:km-qigongseminare@posteo.de
END:VEVENT
BEGIN:VEVENT
DTSTART;TZID=Europe/Berlin:20260119T161500
DTEND;TZID=Europe/Berlin:20260119T171500
DTSTAMP:20260422T131610
CREATED:20250221T155455Z
LAST-MODIFIED:20260228T222053Z
UID:10020216-1768839300-1768842900@staging.hauslebenskraft.de
SUMMARY:Pilates mit Selina
DESCRIPTION:Beim Pilates kannst du deinen Körper neu entdecken. Die Übungen stärken sowohl deine Körpermitte als auch dein Selbstbewusstsein.\nMeine Kurse sind mehr als nur ein Workout. Du lernst dich zu spüren\, achtsam und liebevoll mit dir umzugehen.\nPilates soll einen Zugang zu deinem Körper schaffen\, wo du dich sicher fühlst und gleichzeitig mehr über dich erfährst.10 Wochenkurs: 150 EUR\nEinzelstunde: 17 EUR\nProbestunde: 15 EUR\nDieser Kurs gilt als Präventionskurs und wird von gesetzlichen Krankenkassen bezuschusst. \nAnmeldung per Mail: selinakuehlwein@gmx.de\nWebsite: www.gestalttherapie-in-potsdam.de/körperarbeit-pilates\nBei Fragen auch gerne anrufen: 0171 98 68 712\n—
URL:https://staging.hauslebenskraft.de/veranstaltung/pilates-mit-selina/2026-01-19/
LOCATION:Haus Lebenskraft\, Gutenbergstr. 30\, Potsdam\, Brandenburg\, 14467\, Germany
CATEGORIES:Öffentlich, Raum der Erde
ATTACH;FMTTYPE=image/jpeg:https://staging.hauslebenskraft.de/wp-content/uploads/2026/02/Pilatesbridge-1.jpg
END:VEVENT
BEGIN:VEVENT
DTSTART;TZID=Europe/Berlin:20260119T173000
DTEND;TZID=Europe/Berlin:20260119T183000
DTSTAMP:20260422T131610
CREATED:20250221T160221Z
LAST-MODIFIED:20260228T222206Z
UID:10017790-1768843800-1768847400@staging.hauslebenskraft.de
SUMMARY:Pilates mit Selina
DESCRIPTION:Beim Pilates kannst du deinen Körper neu entdecken. Die Übungen stärken sowohl deine Körpermitte als auch dein Selbstbewusstsein.\nMeine Kurse sind mehr als nur ein Workout. Du lernst dich zu spüren\, achtsam und liebevoll mit dir umzugehen.\nPilates soll einen Zugang zu deinem Körper schaffen\, wo du dich sicher fühlst und gleichzeitig mehr über dich erfährst.10 Wochenkurs: 150 EUR\nEinzelstunde: 17 EUR\nProbestunde: 15 EUR\nDieser Kurs gilt als Präventionskurs und wird von gesetzlichen Krankenkassen bezuschusst. \nAnmeldung per Mail: selinakuehlwein@gmx.de\nWebsite: www.gestalttherapie-in-potsdam.de/körperarbeit-pilates\nBei Fragen auch gerne anrufen: 0171 98 68 712\n—
URL:https://staging.hauslebenskraft.de/veranstaltung/pilates-mit-selina-2/2026-01-19/
LOCATION:Haus Lebenskraft\, Gutenbergstr. 30\, Potsdam\, Brandenburg\, 14467\, Germany
CATEGORIES:Öffentlich, Raum der Erde
ATTACH;FMTTYPE=image/jpeg:https://staging.hauslebenskraft.de/wp-content/uploads/2026/02/Pilatesbridge-1.jpg
END:VEVENT
BEGIN:VEVENT
DTSTART;TZID=Europe/Berlin:20260119T184500
DTEND;TZID=Europe/Berlin:20260119T201500
DTSTAMP:20260422T131610
CREATED:20251109T181055Z
LAST-MODIFIED:20260202T131706Z
UID:10023863-1768848300-1768853700@staging.hauslebenskraft.de
SUMMARY:Yoga für alle mit Alexandra
DESCRIPTION:Gönn dir eine Auszeit! \nIn meinem Kurs erwarten dich fließende Bewegungen\, sanfte Kraft und Momente tiefer Ruhe.\nWir verbinden Atem und Körper\, lassen den Alltag los und schaffen Raum für mehr Energie. \nOb du Zentriertheit suchst oder einfach wieder bei dir ankommen möchtest –\ndieser Kurs lädt dich ein\, dir selbst liebevoll zu begegnen und dich mit deinem wahren Sein zu verbinden. \nKomm vorbei und spüre\, wie gut es tut\, dich bewusst wahrzunehmen und vollkommen zu entspannen. \nJede Stunde hat einen eigenen Fokus und immer wieder neue variantenreiche Übungen\, sodass für alle\, ob mit oder ohne Yogaerfahrung etwas dabei ist. Ich freue mich auf dich. \nAlexandra Ahammer (Osteopathin\, Heilpraktikerin\, seit über 20 Jahren Yogalehrerin) \nVoranmeldung: Tel.0176-24011299 ; Email: aahammer26@gmail.com Preis: 9-wöchiger Yogakurs (Krankenkassenzuschuss möglich) 160 Euro \nEinzelstunde 20 Euro\nProbe: 15 Euro \n 
URL:https://staging.hauslebenskraft.de/veranstaltung/yoga-fuer-alle-mit-alexandra/2026-01-19/
LOCATION:Haus Lebenskraft\, Gutenbergstr. 30\, Potsdam\, Brandenburg\, 14467\, Germany
CATEGORIES:Öffentlich, Sonnenraum
ATTACH;FMTTYPE=image/jpeg:https://staging.hauslebenskraft.de/wp-content/uploads/2026/02/Yoga-Alex-Kalender-1-1.jpg
ORGANIZER;CN="Alexandra Ahammer":MAILTO:aahammer26@gmail.com
END:VEVENT
END:VCALENDAR