BEGIN:VCALENDAR
VERSION:2.0
PRODID:-//Haus Lebenskraft - ECPv6.15.20//NONSGML v1.0//EN
CALSCALE:GREGORIAN
METHOD:PUBLISH
X-WR-CALNAME:Haus Lebenskraft
X-ORIGINAL-URL:https://staging.hauslebenskraft.de
X-WR-CALDESC:Veranstaltungen für Haus Lebenskraft
REFRESH-INTERVAL;VALUE=DURATION:PT1H
X-Robots-Tag:noindex
X-PUBLISHED-TTL:PT1H
BEGIN:VTIMEZONE
TZID:Europe/Berlin
BEGIN:DAYLIGHT
TZOFFSETFROM:+0100
TZOFFSETTO:+0200
TZNAME:CEST
DTSTART:20250330T010000
END:DAYLIGHT
BEGIN:STANDARD
TZOFFSETFROM:+0200
TZOFFSETTO:+0100
TZNAME:CET
DTSTART:20251026T010000
END:STANDARD
BEGIN:DAYLIGHT
TZOFFSETFROM:+0100
TZOFFSETTO:+0200
TZNAME:CEST
DTSTART:20260329T010000
END:DAYLIGHT
BEGIN:STANDARD
TZOFFSETFROM:+0200
TZOFFSETTO:+0100
TZNAME:CET
DTSTART:20261025T010000
END:STANDARD
BEGIN:DAYLIGHT
TZOFFSETFROM:+0100
TZOFFSETTO:+0200
TZNAME:CEST
DTSTART:20270328T010000
END:DAYLIGHT
BEGIN:STANDARD
TZOFFSETFROM:+0200
TZOFFSETTO:+0100
TZNAME:CET
DTSTART:20271031T010000
END:STANDARD
END:VTIMEZONE
BEGIN:VEVENT
DTSTART;TZID=Europe/Berlin:20260106T140000
DTEND;TZID=Europe/Berlin:20260106T153000
DTSTAMP:20260423T044958
CREATED:20250707T192139Z
LAST-MODIFIED:20260205T085041Z
UID:10018832-1767708000-1767713400@staging.hauslebenskraft.de
SUMMARY:Seniorentreff
DESCRIPTION:Das Haus Lebenskraft lädt ein zum Seniorentreff\nKommen Sie zu unseren Treffen für Gespräche\, gemeinsames Singen und leichte Bewegungen. Eine wunderbare Gelegenheit\, Gemeinschaft zu erleben und neue Menschen zu treffen. Der Seniorentreff bietet einen warmherzigen und respektvollen Raum\, seine persönlichen Geschichten\, Fähigkeiten und Wünsche zum Ausdruck zu bringen. \nDieser Treffpunkt dient nicht nur der Förderung der sozialen Kontakte\, sondern auch der Wiederentdeckung und Wertschätzung des eigenen Platzes in der Gesellschaft. In gemeinsamen Aktivitäten\, die Freude und Zusammengehörigkeit fördern\, erleben die Teilnehmer\, wie bereichernd das Miteinander über Generationen hinweg sein kann. \nWir treffen uns jeden ersten Dienstag im Monat um 14:30 Uhr für anderthalb Stunden im Haus Lebenskraft unter dem Dach.\nDer Beitrag beträgt 5 Euro. \nBitte anmelden unter 0176-51871225 oder per E-Mail unter willkommen@hauslebenskraft.de
URL:https://staging.hauslebenskraft.de/veranstaltung/seniorentreff-3/2026-01-06/
LOCATION:Haus Lebenskraft\, Gutenbergstr. 30\, Potsdam\, Brandenburg\, 14467\, Germany
CATEGORIES:Öffentlich, Therapieraum
ATTACH;FMTTYPE=image/jpeg:https://staging.hauslebenskraft.de/wp-content/uploads/2025/07/Seniorentreff_Haus_Lebenskraft_Potsdam_Geschichten_Gemeinschaft_Kontakt_Gespraeche_Kaffee.jpg
ORGANIZER;CN="Haus Lebenskraft":MAILTO:willkommen@hauslebenskraft.de
END:VEVENT
BEGIN:VEVENT
DTSTART;TZID=Europe/Berlin:20260106T170000
DTEND;TZID=Europe/Berlin:20260106T183000
DTSTAMP:20260423T044958
CREATED:20241215T180938Z
LAST-MODIFIED:20260119T122215Z
UID:10023926-1767718800-1767724200@staging.hauslebenskraft.de
SUMMARY:Tanzfreude mit Gesine - ein faszienorientiertes Bewegungsangebot
DESCRIPTION:Der flow-orientierte Faszientanz zu Musik aus aller Welt ist ein Bewegungsangebot\, das fließende\, tanz-inspirierte Bewegungen mit gezielten Impulsen für das fasziale Gewebe verbindet. Mit Freude an Bewegung und spürbarer Leidenschaft für den Körper entstehen freie Bewegungsformen\, die Mobilität\, Elastizität\, Körperwahrnehmung und einen sanften Muskelaufbau fördern. \nDas Training kommt ohne feste Choreografien aus und lädt dazu ein\, sein eigenes Tempo und Intensität individuell anzupassen. Das Angebot unterstützt Ausdauer\, das Herz-Kreislauf-System sowie die Koordination und ist für Menschen unterschiedlicher Alters- und Erfahrungsstufen geeignet. \nDen Abschluss bildet eine wohltuende Dehnungs- und Entspannungsphase mit Klangspiel und Gong. Sie schafft Raum für Ruhe\, Nachspüren und Regeneration. Ich freue mich auf eine gemeinsame Bewegungszeit voller Lebensfreude\, Achtsamkeit und lebendiger Präsenz in dem wundervollen Sonnenraum im Haus Lebenskraft. \nHerzlichst Gesine \nEinzelveranstaltung: 15 €\, 6-er Karte: 72 € \nSchnupperstunde: 12 € \nAnmeldung unter: gesine.schaefer@gmx.de oder gesine@hauslebenskraft.de bis zum 05.01.2026 \nDie Teilnahme am Kurs ist nur nach persönlicher oder schriftlicher Zusage möglich. \nTel: 017651871225 \nIch freue mich auf euch. \nGesine Schaefer \nTanztrainerin\, HP nach Psych KG\, Kinesiologin\, Gestalttherapeutin\, Klangmassagepraktikerin \n  \n  \n 
URL:https://staging.hauslebenskraft.de/veranstaltung/tanzfreude-mit-gesine-ein-faszienorientiertes-bewegungsangebot/2026-01-06/
LOCATION:Haus Lebenskraft\, Gutenbergstr. 30\, Potsdam\, Brandenburg\, 14467\, Germany
CATEGORIES:Öffentlich, Sonnenraum
ORGANIZER;CN="Gesine Schaefer":MAILTO:gesine.schaefer@gmx.de
END:VEVENT
BEGIN:VEVENT
DTSTART;TZID=Europe/Berlin:20260106T173000
DTEND;TZID=Europe/Berlin:20260106T183000
DTSTAMP:20260423T044958
CREATED:20260111T102905Z
LAST-MODIFIED:20260202T132445Z
UID:10018706-1767720600-1767724200@staging.hauslebenskraft.de
SUMMARY:Sanfter Vinyasa mit Mandy
DESCRIPTION:Dein Feierabendflow – sanfter Vinyasa für einen entspannten Ausklang des Tages\nDer Feierabendflow ist deine bewegte Auszeit nach einem langen Tag – ein Raum zum Ankommen\, Durchatmen und in den Körper zurückkehren. Ganz gleich\, wie alt du bist oder wie beweglich du dich fühlst– du bist herzlich willkommen. \nIn diesem Kurs erwarten dich: \n• Fließende Yoga-Sequenzen mit wachsendem Energielevel \n• Atemübungen (Pranayama) zur Zentrierung \n• Ein achtsamer Raum\, ohne Leistungsdruck – mit Fokus auf Verbindung\, Stabilität und Lebendigkeit \nJede Einheit steht unter einem eigenen Thema\, das dich durch die Stunde begleitet –\nz. B. Verwurzelung\, Loslassen\, Klarheit oder Herzöffnung. Der Kurs entwickelt sich von sanft zu kraftvoll – in einem gut abgestimmten\, natürlichen Fluss. \nPreis: 120 € für 8 Wochen · Einzelstunde (Drop-in): 17€ \nKontakt: \nE-Mail: mandywittstock@googlemail.com \nWebseite: www.mandywittstock.de \nTelefon: 0155 – 65004894 \nLass den Tag hinter dir. \nSpür dich wieder \n& \nfließe kraftvoll durch deinen Abend. \n  \n  \n  \n 
URL:https://staging.hauslebenskraft.de/veranstaltung/dein-feierabendflow-sanfter-vinyasa-fuer-einen-entspannten-ausklang-des-tages/2026-01-06/
LOCATION:Haus Lebenskraft\, Gutenbergstr. 30\, Potsdam\, Brandenburg\, 14467\, Germany
CATEGORIES:Öffentlich, Raum der Erde
ATTACH;FMTTYPE=image/jpeg:https://staging.hauslebenskraft.de/wp-content/uploads/2026/02/IMG_5176-1.jpeg
ORGANIZER;CN="Mandy Wittstock":MAILTO:mandywittstock@googlemail.com
END:VEVENT
BEGIN:VEVENT
DTSTART;TZID=Europe/Berlin:20260106T190000
DTEND;TZID=Europe/Berlin:20260106T191500
DTSTAMP:20260423T044958
CREATED:20250730T115557Z
LAST-MODIFIED:20260202T132526Z
UID:10019347-1767726000-1767726900@staging.hauslebenskraft.de
SUMMARY:intern
DESCRIPTION:Vorbereitung Yoga
URL:https://staging.hauslebenskraft.de/veranstaltung/vorbereitung-yoga/2026-01-06/
LOCATION:Haus Lebenskraft\, Gutenbergstr. 30\, Potsdam\, Brandenburg\, 14467\, Germany
CATEGORIES:Intern, Sonnenraum
ORGANIZER;CN="parApara Digital GmbH":MAILTO:lena@lallaundvilas.de
END:VEVENT
BEGIN:VEVENT
DTSTART;TZID=Europe/Berlin:20260106T193000
DTEND;TZID=Europe/Berlin:20260106T210000
DTSTAMP:20260423T044958
CREATED:20250630T145643Z
LAST-MODIFIED:20260202T133332Z
UID:10019295-1767727800-1767733200@staging.hauslebenskraft.de
SUMMARY:Yogaklasse für jede/n
DESCRIPTION:In unserer wöchentlichen Yogaklasse erwartet dich eine kraftvolle und zugleich achtsame Praxis\, die auch in unsicheren Zeiten Klarheit\, Leichtigkeit und Verbindung schafft. Durch präzise\, biomechanisch fundierte Ausrichtung wird dein Körper gestärkt\, deine Beweglichkeit gefördert und dein Bewusstsein für dich selbst vertieft – ganz unabhängig von Alter\, Erfahrung oder körperlicher Verfassung. Die lebensbejahende Philosophie des Anusara® Yoga inspiriert uns dabei\, mit der richtigen Einstellung\, Ausrichtung und Aktion dem Leben bewusst zu begegnen.\nDas Lehrer*innen Team: Lalla und Vilas – Wegbereiter des Anusara Yoga im deutschsprachigen Raum – teilen ihre über 20-jährige Erfahrung mit großer Hingabe. Lena und Nora bringen als von Lalla und Vilas ausgebildete Lehrerinnen Herz\, Klarheit und Freude in die gemeinsame Praxis.\n\nhttps://www.lallaundvilas.de/ausbildungs-und-lehrgangstermine/\n***\nUnd hier die Links für die Abendklassen auf unserer Website:\n\nAnmeldung zur Abendklasse dienstags um 19:30 Uhr
URL:https://staging.hauslebenskraft.de/veranstaltung/yoga-lalla-vilas-akademie/2026-01-06/
LOCATION:Haus Lebenskraft\, Gutenbergstr. 30\, Potsdam\, Brandenburg\, 14467\, Germany
CATEGORIES:Öffentlich, Sonnenraum
ATTACH;FMTTYPE=image/jpeg:https://staging.hauslebenskraft.de/wp-content/uploads/2026/02/Lalla-Vilas-Lena-Nora-1.jpg
ORGANIZER;CN="parApara Digital GmbH":MAILTO:lena@lallaundvilas.de
END:VEVENT
BEGIN:VEVENT
DTSTART;TZID=Europe/Berlin:20260106T211500
DTEND;TZID=Europe/Berlin:20260106T213000
DTSTAMP:20260423T044958
CREATED:20250730T115751Z
LAST-MODIFIED:20260202T133358Z
UID:10019400-1767734100-1767735000@staging.hauslebenskraft.de
SUMMARY:intern
DESCRIPTION:Nachbereitung Yoga
URL:https://staging.hauslebenskraft.de/veranstaltung/nachbereitung-yoga/2026-01-06/
LOCATION:Haus Lebenskraft\, Gutenbergstr. 30\, Potsdam\, Brandenburg\, 14467\, Germany
CATEGORIES:Intern, Sonnenraum
ORGANIZER;CN="parApara Digital GmbH":MAILTO:lena@lallaundvilas.de
END:VEVENT
END:VCALENDAR