BEGIN:VCALENDAR
VERSION:2.0
PRODID:-//Haus Lebenskraft - ECPv6.15.20//NONSGML v1.0//EN
CALSCALE:GREGORIAN
METHOD:PUBLISH
X-ORIGINAL-URL:https://staging.hauslebenskraft.de
X-WR-CALDESC:Veranstaltungen für Haus Lebenskraft
REFRESH-INTERVAL;VALUE=DURATION:PT1H
X-Robots-Tag:noindex
X-PUBLISHED-TTL:PT1H
BEGIN:VTIMEZONE
TZID:Europe/Berlin
BEGIN:DAYLIGHT
TZOFFSETFROM:+0100
TZOFFSETTO:+0200
TZNAME:CEST
DTSTART:20250330T010000
END:DAYLIGHT
BEGIN:STANDARD
TZOFFSETFROM:+0200
TZOFFSETTO:+0100
TZNAME:CET
DTSTART:20251026T010000
END:STANDARD
BEGIN:DAYLIGHT
TZOFFSETFROM:+0100
TZOFFSETTO:+0200
TZNAME:CEST
DTSTART:20260329T010000
END:DAYLIGHT
BEGIN:STANDARD
TZOFFSETFROM:+0200
TZOFFSETTO:+0100
TZNAME:CET
DTSTART:20261025T010000
END:STANDARD
BEGIN:DAYLIGHT
TZOFFSETFROM:+0100
TZOFFSETTO:+0200
TZNAME:CEST
DTSTART:20270328T010000
END:DAYLIGHT
BEGIN:STANDARD
TZOFFSETFROM:+0200
TZOFFSETTO:+0100
TZNAME:CET
DTSTART:20271031T010000
END:STANDARD
END:VTIMEZONE
BEGIN:VEVENT
DTSTART;TZID=Europe/Berlin:20260105T070000
DTEND;TZID=Europe/Berlin:20260105T100000
DTSTAMP:20260422T150807
CREATED:20240112T155041Z
LAST-MODIFIED:20260205T091421Z
UID:10024965-1767596400-1767607200@staging.hauslebenskraft.de
SUMMARY:Hausreinigung
DESCRIPTION:
URL:https://staging.hauslebenskraft.de/veranstaltung/hausreinigung/2026-01-05/
LOCATION:Haus Lebenskraft\, Gutenbergstr. 30\, Potsdam\, Brandenburg\, 14467\, Germany
CATEGORIES:Intern, Behandlungsraum,Intern, Raum der Erde,Intern, Sonnenraum,Intern, Therapieraum
END:VEVENT
BEGIN:VEVENT
DTSTART;TZID=Europe/Berlin:20260105T100000
DTEND;TZID=Europe/Berlin:20260105T113000
DTSTAMP:20260422T150807
CREATED:20250617T173304Z
LAST-MODIFIED:20260202T131344Z
UID:10016782-1767607200-1767612600@staging.hauslebenskraft.de
SUMMARY:Yoga am Vormittag
DESCRIPTION:Ab dem 20. Januar gibt es wieder einen 10-wöchigen Yogakurs für Anfänger und Fortgeschrittene \njeden Montag von 10 – 11.30 Uhr \nBeginne die Woche mit einer entspannten\, aber umfassenden Yoga-Einheit\, um deinen Körper stark und geschmeidig zu halten\, Entspannungstechniken und eine heilsame Bauchatmung in den Alltag zu integrieren und anderthalb Stunden die Seele baumeln zu lassen. \nDer Kurs geht vom 20.01. bis zum 24.03. und kostet 150 Euro. \nBei Interesse melde dich bitte bis zum 06.01. bei mir an unter \njudith.rauxloh@gmx.de\n01520 77777 48\nwww.lebenswerkstatt-potsdam.de \nJudith Rauxloh\, Yogalehrerin BYV
URL:https://staging.hauslebenskraft.de/veranstaltung/judith-5/2026-01-05/
LOCATION:Haus Lebenskraft\, Gutenbergstr. 30\, Potsdam\, Brandenburg\, 14467\, Germany
CATEGORIES:Öffentlich, Raum der Erde
ATTACH;FMTTYPE=image/jpeg:https://staging.hauslebenskraft.de/wp-content/uploads/2026/02/photo_2025-01-03_10-56-10-1.jpg
ORGANIZER;CN="Judith Rauxloh":MAILTO:judith.rauxloh@gmx.de
END:VEVENT
BEGIN:VEVENT
DTSTART;TZID=Europe/Berlin:20260105T161500
DTEND;TZID=Europe/Berlin:20260105T171500
DTSTAMP:20260422T150807
CREATED:20250221T155455Z
LAST-MODIFIED:20260228T222053Z
UID:10020214-1767629700-1767633300@staging.hauslebenskraft.de
SUMMARY:Pilates mit Selina
DESCRIPTION:Beim Pilates kannst du deinen Körper neu entdecken. Die Übungen stärken sowohl deine Körpermitte als auch dein Selbstbewusstsein.\nMeine Kurse sind mehr als nur ein Workout. Du lernst dich zu spüren\, achtsam und liebevoll mit dir umzugehen.\nPilates soll einen Zugang zu deinem Körper schaffen\, wo du dich sicher fühlst und gleichzeitig mehr über dich erfährst.10 Wochenkurs: 150 EUR\nEinzelstunde: 17 EUR\nProbestunde: 15 EUR\nDieser Kurs gilt als Präventionskurs und wird von gesetzlichen Krankenkassen bezuschusst. \nAnmeldung per Mail: selinakuehlwein@gmx.de\nWebsite: www.gestalttherapie-in-potsdam.de/körperarbeit-pilates\nBei Fragen auch gerne anrufen: 0171 98 68 712\n—
URL:https://staging.hauslebenskraft.de/veranstaltung/pilates-mit-selina/2026-01-05/
LOCATION:Haus Lebenskraft\, Gutenbergstr. 30\, Potsdam\, Brandenburg\, 14467\, Germany
CATEGORIES:Öffentlich, Raum der Erde
ATTACH;FMTTYPE=image/jpeg:https://staging.hauslebenskraft.de/wp-content/uploads/2026/02/Pilatesbridge-1.jpg
END:VEVENT
BEGIN:VEVENT
DTSTART;TZID=Europe/Berlin:20260105T170000
DTEND;TZID=Europe/Berlin:20260105T183000
DTSTAMP:20260422T150807
CREATED:20250812T091649Z
LAST-MODIFIED:20260202T135246Z
UID:10020522-1767632400-1767637800@staging.hauslebenskraft.de
SUMMARY:Holistic Hatha Yoga
DESCRIPTION:Holistic Hatha Yoga \nIn diesem Yogakurs tauchst du auf ganzheitliche Weise in die Welt des Hatha Yoga ein\, um das Leuchten in dir selbst wiederzuentdecken.\nVerschiedene Körperübungen\, Atemübungen und Achtsamkeitsübungen unterstützen dich dabei\, ebenso harmonische Klänge\, Mantren und positive Affirmationen. So entwickelst du neben Kraft\, Bewegungsfreude\, Flexibilität und Koordination\, auch ein ausgeprägtes Körperbewusstsein und bekommst Techniken in die Hand\, den umherspringenden Geist zu beruhigen sowie tief zu entspannen. Körper\, Geist und Seele kommen wieder in ihre Balance. \nDie 8-wöchigen Kurse live vor Ort können von den meisten Krankenkassen als Präventionskurse bezuschusst werden. \nIch freue mich auf dich!\nNamaste! Steffanie \nmontags 17.00-18.30 Uhr (Holisic Hatha Yoga)\nim Haus Lebenskraft\, Gutenbergstr. 30\, DG\, 14467 Potsdam \nDeine Investition:\n8-wöchiger Kurs für 120\,00 EUR\nEinzelstunden für 18 EUR\nEin Neueinstieg ist jederzeit möglich. (Nur mal probieren … für 15€) \n(Gemäß §19 Abs. 1 UStG Kleinunternehmerbesteuerung wird keine MwSt. ausgewiesen.)
URL:https://staging.hauslebenskraft.de/veranstaltung/holistic-hatha-yoga-mit-leichtigkeit-kraft-und-fuelle-10-2021-10-04-2021-10-25-3-3-2-2/2026-01-05/
LOCATION:Haus Lebenskraft\, Gutenbergstr. 30\, Potsdam\, Brandenburg\, 14467\, Germany
CATEGORIES:Öffentlich, Sonnenraum
ATTACH;FMTTYPE=image/jpeg:https://staging.hauslebenskraft.de/wp-content/uploads/2025/08/Holistic-Hatha-Yoga.jpg
ORGANIZER;CN="Steffanie Rosenhahn":MAILTO:ananda-yoga-potsdam@web.de
END:VEVENT
BEGIN:VEVENT
DTSTART;TZID=Europe/Berlin:20260105T173000
DTEND;TZID=Europe/Berlin:20260105T183000
DTSTAMP:20260422T150807
CREATED:20250221T160221Z
LAST-MODIFIED:20260228T222206Z
UID:10017788-1767634200-1767637800@staging.hauslebenskraft.de
SUMMARY:Pilates mit Selina
DESCRIPTION:Beim Pilates kannst du deinen Körper neu entdecken. Die Übungen stärken sowohl deine Körpermitte als auch dein Selbstbewusstsein.\nMeine Kurse sind mehr als nur ein Workout. Du lernst dich zu spüren\, achtsam und liebevoll mit dir umzugehen.\nPilates soll einen Zugang zu deinem Körper schaffen\, wo du dich sicher fühlst und gleichzeitig mehr über dich erfährst.10 Wochenkurs: 150 EUR\nEinzelstunde: 17 EUR\nProbestunde: 15 EUR\nDieser Kurs gilt als Präventionskurs und wird von gesetzlichen Krankenkassen bezuschusst. \nAnmeldung per Mail: selinakuehlwein@gmx.de\nWebsite: www.gestalttherapie-in-potsdam.de/körperarbeit-pilates\nBei Fragen auch gerne anrufen: 0171 98 68 712\n—
URL:https://staging.hauslebenskraft.de/veranstaltung/pilates-mit-selina-2/2026-01-05/
LOCATION:Haus Lebenskraft\, Gutenbergstr. 30\, Potsdam\, Brandenburg\, 14467\, Germany
CATEGORIES:Öffentlich, Raum der Erde
ATTACH;FMTTYPE=image/jpeg:https://staging.hauslebenskraft.de/wp-content/uploads/2026/02/Pilatesbridge-1.jpg
END:VEVENT
BEGIN:VEVENT
DTSTART;TZID=Europe/Berlin:20260105T180000
DTEND;TZID=Europe/Berlin:20260105T200000
DTSTAMP:20260422T150807
CREATED:20250912T150222Z
LAST-MODIFIED:20251230T181032Z
UID:10023775-1767636000-1767643200@staging.hauslebenskraft.de
SUMMARY:Kurs- Der weise Rat der Frauen
DESCRIPTION:Wir haben im alten Jahr schon Erfahrungen gesammelt mit dieser wunderbaren Art der Verbindung und es wurde jetzt der Wunsch nach einer festen Gruppe laut\, die noch mehr Vertrauen entstehen lässt. \nCouncil – der große Rat – mit dem Herzen sprechen und zuhören – eine zutiefst weibliche Art der Kommunikation. \nEin spürbar anderer und menschlicherer\, mehr aufeinander bezogener Kontakt und Austausch kommt zustande\, in dem das Zuhören eine zentrale Rolle einnimmt und unsere Präsenz und Selbstachtung ihren Ausdruck findet. Das ist für mich gelebte authentische Weiblichkeit\, die mein tiefstes Anliegen für die Welt ist. \nDie Ojai Foundation in Kalifornien\, hat „Council“ in jahrzehntelanger Forschung und Praxis\, weltweit in die Gemeinwesen-Entwicklung\, von den Chefetagen bis in die Klassenräume\, hineingetragen. \nIch führe uns in das „zu Rate sitzen“ ein und wir werden uns jeweils einem Thema widmen. Besonders fasziniert mich\, dass wir nicht nur die Intuition der einzelnen Frau einladen\, sondern dass sich im Kreis die Weisheit potenziert. Es tritt immer das größere Bild hervor\, das alle geäußerten Ansichten mit großer Klarheit abbildet. Dazu dienen wiederkehrende Stille-Phasen. \nWenn wir Frauen beginnen\, uns selbst zu ermächtigen\, unsere Ur-Kraft deutlich machen und nicht darauf warten\, bis uns Anerkennung zuteilwird und mit dieser Haltung die männliche Energie in uns allen\, Frauen und Männer\, herausfordern\, zu verstehen\, dass jede Form von Leben verbunden ist\, so würde die Welt eine andere sein. \nVorkenntnisse sind nicht erforderlich. \nIch bitte um Anmeldung unter Jetzt@AufstehenInDerWeiblichkeit.de bis spätestens eine Woche vor Beginn des jeweiligen Termins.\nTermine / 23.01. / 06.02. / 20.02. / 06.03.26\nAusgleich: 60 Euro pro Person\, mit der Anmeldung erhältst du die Kontoverbindung – mit Überweisung des Betrags ist dein Platz gesichert. \nLiteratur:\nZander\, Eva-Maria\, (2022) Aufstehen in der Weiblichkeit\, wie Frau und Mann Seele\, Herz und Mitgefühl ins Leben bringen\, Verlag Neue Erde \nhttps://evamariazander.de \nwww.ojaifoundation.org \nhttps://eschwege-institut.de/ausbildung/counci\n \nE-Mail:\nJetzt@AufstehenInDerWeiblichkeit.de \nTelefon:\n0151 41278417 \nLink zur Veranstaltung auf eigener Webseite:\nhttps://evamariazander.de/veranstaltungen
URL:https://staging.hauslebenskraft.de/veranstaltung/der-weise-rat-der-frauen/2026-01-05/
LOCATION:Haus Lebenskraft\, Gutenbergstr. 30\, Potsdam\, Brandenburg\, 14467\, Germany
CATEGORIES:Öffentlich, Therapieraum
ORGANIZER;CN="Eva Maria Zander":MAILTO:ichbin@evamariazander.de
END:VEVENT
BEGIN:VEVENT
DTSTART;TZID=Europe/Berlin:20260105T184500
DTEND;TZID=Europe/Berlin:20260105T201500
DTSTAMP:20260422T150807
CREATED:20251109T181055Z
LAST-MODIFIED:20260202T131706Z
UID:10023861-1767638700-1767644100@staging.hauslebenskraft.de
SUMMARY:Yoga für alle mit Alexandra
DESCRIPTION:Gönn dir eine Auszeit! \nIn meinem Kurs erwarten dich fließende Bewegungen\, sanfte Kraft und Momente tiefer Ruhe.\nWir verbinden Atem und Körper\, lassen den Alltag los und schaffen Raum für mehr Energie. \nOb du Zentriertheit suchst oder einfach wieder bei dir ankommen möchtest –\ndieser Kurs lädt dich ein\, dir selbst liebevoll zu begegnen und dich mit deinem wahren Sein zu verbinden. \nKomm vorbei und spüre\, wie gut es tut\, dich bewusst wahrzunehmen und vollkommen zu entspannen. \nJede Stunde hat einen eigenen Fokus und immer wieder neue variantenreiche Übungen\, sodass für alle\, ob mit oder ohne Yogaerfahrung etwas dabei ist. Ich freue mich auf dich. \nAlexandra Ahammer (Osteopathin\, Heilpraktikerin\, seit über 20 Jahren Yogalehrerin) \nVoranmeldung: Tel.0176-24011299 ; Email: aahammer26@gmail.com Preis: 9-wöchiger Yogakurs (Krankenkassenzuschuss möglich) 160 Euro \nEinzelstunde 20 Euro\nProbe: 15 Euro \n 
URL:https://staging.hauslebenskraft.de/veranstaltung/yoga-fuer-alle-mit-alexandra/2026-01-05/
LOCATION:Haus Lebenskraft\, Gutenbergstr. 30\, Potsdam\, Brandenburg\, 14467\, Germany
CATEGORIES:Öffentlich, Sonnenraum
ATTACH;FMTTYPE=image/jpeg:https://staging.hauslebenskraft.de/wp-content/uploads/2026/02/Yoga-Alex-Kalender-1-1.jpg
ORGANIZER;CN="Alexandra Ahammer":MAILTO:aahammer26@gmail.com
END:VEVENT
END:VCALENDAR