BEGIN:VCALENDAR
VERSION:2.0
PRODID:-//Haus Lebenskraft - ECPv6.15.20//NONSGML v1.0//EN
CALSCALE:GREGORIAN
METHOD:PUBLISH
X-WR-CALNAME:Haus Lebenskraft
X-ORIGINAL-URL:https://staging.hauslebenskraft.de
X-WR-CALDESC:Veranstaltungen für Haus Lebenskraft
REFRESH-INTERVAL;VALUE=DURATION:PT1H
X-Robots-Tag:noindex
X-PUBLISHED-TTL:PT1H
BEGIN:VTIMEZONE
TZID:Europe/Berlin
BEGIN:DAYLIGHT
TZOFFSETFROM:+0100
TZOFFSETTO:+0200
TZNAME:CEST
DTSTART:20240331T010000
END:DAYLIGHT
BEGIN:STANDARD
TZOFFSETFROM:+0200
TZOFFSETTO:+0100
TZNAME:CET
DTSTART:20241027T010000
END:STANDARD
BEGIN:DAYLIGHT
TZOFFSETFROM:+0100
TZOFFSETTO:+0200
TZNAME:CEST
DTSTART:20250330T010000
END:DAYLIGHT
BEGIN:STANDARD
TZOFFSETFROM:+0200
TZOFFSETTO:+0100
TZNAME:CET
DTSTART:20251026T010000
END:STANDARD
BEGIN:DAYLIGHT
TZOFFSETFROM:+0100
TZOFFSETTO:+0200
TZNAME:CEST
DTSTART:20260329T010000
END:DAYLIGHT
BEGIN:STANDARD
TZOFFSETFROM:+0200
TZOFFSETTO:+0100
TZNAME:CET
DTSTART:20261025T010000
END:STANDARD
END:VTIMEZONE
BEGIN:VEVENT
DTSTART;TZID=Europe/Berlin:20251202T090000
DTEND;TZID=Europe/Berlin:20251202T100000
DTSTAMP:20260423T045019
CREATED:20251126T165335Z
LAST-MODIFIED:20251126T165335Z
UID:10023817-1764666000-1764669600@staging.hauslebenskraft.de
SUMMARY:Coaching Sabrina Görisch
DESCRIPTION:
URL:https://staging.hauslebenskraft.de/veranstaltung/coaching-sabrina-goerisch/
LOCATION:Haus Lebenskraft\, Gutenbergstr. 30\, Potsdam\, Brandenburg\, 14467\, Germany
CATEGORIES:Intern, Therapieraum
ORGANIZER;CN="Sabrina G%C3%B6risch":MAILTO:sabrina.goerisch@gmail.com
END:VEVENT
BEGIN:VEVENT
DTSTART;TZID=Europe/Berlin:20251202T153000
DTEND;TZID=Europe/Berlin:20251202T180000
DTSTAMP:20260423T045019
CREATED:20251126T101951Z
LAST-MODIFIED:20251126T101951Z
UID:10023799-1764689400-1764698400@staging.hauslebenskraft.de
SUMMARY:Therapie Jeannette
DESCRIPTION:
URL:https://staging.hauslebenskraft.de/veranstaltung/therapie-jeannette/
LOCATION:Haus Lebenskraft\, Gutenbergstr. 30\, Potsdam\, Brandenburg\, 14467\, Germany
CATEGORIES:Intern, Therapieraum
ORGANIZER;CN="Jeannette St%C3%B6lzel":MAILTO:contact@jeanne-heilimpulse.eu
END:VEVENT
BEGIN:VEVENT
DTSTART;TZID=Europe/Berlin:20251202T173000
DTEND;TZID=Europe/Berlin:20251202T183000
DTSTAMP:20260423T045019
CREATED:20250630T152732Z
LAST-MODIFIED:20251113T144739Z
UID:10018701-1764696600-1764700200@staging.hauslebenskraft.de
SUMMARY:Feierabendflow – Yoga zum Ankommen\, Atmen & Auftanken
DESCRIPTION:Der Feierabendflow ist deine bewegte Auszeit nach einem langen Tag – ein Raum zum Ankommen\, Durchatmen und in den Körper zurückkehren. Ganz egal\, wie alt du bist\, wie beweglich du dich fühlst oder wie dein Körper aussieht – du bist herzlich willkommen. \nWir beginnen mit ruhigeren\, mobilisierenden Elementen und steigern im Verlauf des Kurses langsam die Dynamik – immer im Einklang mit dem Atem und in deinem Tempo. \nIn diesem Kurs erwarten dich: \n\nFließende Yoga-Sequenzen mit wachsendem Energielevel\nAtemübungen (Pranayama) zur Zentrierung\nEin achtsamer Raum\, frei von Leistungsdruck – mit Fokus auf Verbindung\, Stabilität und Lebendigkeit\n\nJede Einheit steht unter einem eigenen Thema\, das dich durch die Stunde begleitet – z. B. Verwurzelung\, Loslassen\, Klarheit oder Herzöffnung. Der Kurs entwickelt sich von sanft zu kraftvoll – in einem gut abgestimmten\, natürlichen Fluss. \nKosten: \n120 € für 8 Wochen \nEinzelstunde/ Drop-in: 19€ \nKontakt: \nE-Mail: info@white-lotus-yoga.de \nWebseite: www.white-lotus-yoga.de \nTelefon: 0155 – 65004894 \nLass den Tag hinter dir. Spür dich wieder & fließe kraftvoll durch deinen Abend \n 
URL:https://staging.hauslebenskraft.de/veranstaltung/res-fuer-mandy-yoga/2025-12-02/
LOCATION:Haus Lebenskraft\, Gutenbergstr. 30\, Potsdam\, Brandenburg\, 14467\, Germany
CATEGORIES:Öffentlich, Raum der Erde
ORGANIZER;CN="Mandy Wittstock":MAILTO:mandywittstock@googlemail.com
END:VEVENT
BEGIN:VEVENT
DTSTART;TZID=Europe/Berlin:20251202T190000
DTEND;TZID=Europe/Berlin:20251202T191500
DTSTAMP:20260423T045019
CREATED:20250730T115557Z
LAST-MODIFIED:20260202T132526Z
UID:10019342-1764702000-1764702900@staging.hauslebenskraft.de
SUMMARY:intern
DESCRIPTION:Vorbereitung Yoga
URL:https://staging.hauslebenskraft.de/veranstaltung/vorbereitung-yoga/2025-12-02/
LOCATION:Haus Lebenskraft\, Gutenbergstr. 30\, Potsdam\, Brandenburg\, 14467\, Germany
CATEGORIES:Intern, Sonnenraum
ORGANIZER;CN="parApara Digital GmbH":MAILTO:lena@lallaundvilas.de
END:VEVENT
BEGIN:VEVENT
DTSTART;TZID=Europe/Berlin:20251202T193000
DTEND;TZID=Europe/Berlin:20251202T210000
DTSTAMP:20260423T045019
CREATED:20250630T145643Z
LAST-MODIFIED:20260202T133332Z
UID:10019290-1764703800-1764709200@staging.hauslebenskraft.de
SUMMARY:Yogaklasse für jede/n
DESCRIPTION:In unserer wöchentlichen Yogaklasse erwartet dich eine kraftvolle und zugleich achtsame Praxis\, die auch in unsicheren Zeiten Klarheit\, Leichtigkeit und Verbindung schafft. Durch präzise\, biomechanisch fundierte Ausrichtung wird dein Körper gestärkt\, deine Beweglichkeit gefördert und dein Bewusstsein für dich selbst vertieft – ganz unabhängig von Alter\, Erfahrung oder körperlicher Verfassung. Die lebensbejahende Philosophie des Anusara® Yoga inspiriert uns dabei\, mit der richtigen Einstellung\, Ausrichtung und Aktion dem Leben bewusst zu begegnen.\nDas Lehrer*innen Team: Lalla und Vilas – Wegbereiter des Anusara Yoga im deutschsprachigen Raum – teilen ihre über 20-jährige Erfahrung mit großer Hingabe. Lena und Nora bringen als von Lalla und Vilas ausgebildete Lehrerinnen Herz\, Klarheit und Freude in die gemeinsame Praxis.\n\nhttps://www.lallaundvilas.de/ausbildungs-und-lehrgangstermine/\n***\nUnd hier die Links für die Abendklassen auf unserer Website:\n\nAnmeldung zur Abendklasse dienstags um 19:30 Uhr
URL:https://staging.hauslebenskraft.de/veranstaltung/yoga-lalla-vilas-akademie/2025-12-02/
LOCATION:Haus Lebenskraft\, Gutenbergstr. 30\, Potsdam\, Brandenburg\, 14467\, Germany
CATEGORIES:Öffentlich, Sonnenraum
ATTACH;FMTTYPE=image/jpeg:https://staging.hauslebenskraft.de/wp-content/uploads/2026/02/Lalla-Vilas-Lena-Nora-1.jpg
ORGANIZER;CN="parApara Digital GmbH":MAILTO:lena@lallaundvilas.de
END:VEVENT
BEGIN:VEVENT
DTSTART;TZID=Europe/Berlin:20251202T211500
DTEND;TZID=Europe/Berlin:20251202T213000
DTSTAMP:20260423T045019
CREATED:20250730T115751Z
LAST-MODIFIED:20260202T133358Z
UID:10019395-1764710100-1764711000@staging.hauslebenskraft.de
SUMMARY:intern
DESCRIPTION:Nachbereitung Yoga
URL:https://staging.hauslebenskraft.de/veranstaltung/nachbereitung-yoga/2025-12-02/
LOCATION:Haus Lebenskraft\, Gutenbergstr. 30\, Potsdam\, Brandenburg\, 14467\, Germany
CATEGORIES:Intern, Sonnenraum
ORGANIZER;CN="parApara Digital GmbH":MAILTO:lena@lallaundvilas.de
END:VEVENT
END:VCALENDAR