BEGIN:VCALENDAR
VERSION:2.0
PRODID:-//Haus Lebenskraft - ECPv6.15.20//NONSGML v1.0//EN
CALSCALE:GREGORIAN
METHOD:PUBLISH
X-WR-CALNAME:Haus Lebenskraft
X-ORIGINAL-URL:https://staging.hauslebenskraft.de
X-WR-CALDESC:Veranstaltungen für Haus Lebenskraft
REFRESH-INTERVAL;VALUE=DURATION:PT1H
X-Robots-Tag:noindex
X-PUBLISHED-TTL:PT1H
BEGIN:VTIMEZONE
TZID:Europe/Berlin
BEGIN:DAYLIGHT
TZOFFSETFROM:+0100
TZOFFSETTO:+0200
TZNAME:CEST
DTSTART:20240331T010000
END:DAYLIGHT
BEGIN:STANDARD
TZOFFSETFROM:+0200
TZOFFSETTO:+0100
TZNAME:CET
DTSTART:20241027T010000
END:STANDARD
BEGIN:DAYLIGHT
TZOFFSETFROM:+0100
TZOFFSETTO:+0200
TZNAME:CEST
DTSTART:20250330T010000
END:DAYLIGHT
BEGIN:STANDARD
TZOFFSETFROM:+0200
TZOFFSETTO:+0100
TZNAME:CET
DTSTART:20251026T010000
END:STANDARD
BEGIN:DAYLIGHT
TZOFFSETFROM:+0100
TZOFFSETTO:+0200
TZNAME:CEST
DTSTART:20260329T010000
END:DAYLIGHT
BEGIN:STANDARD
TZOFFSETFROM:+0200
TZOFFSETTO:+0100
TZNAME:CET
DTSTART:20261025T010000
END:STANDARD
END:VTIMEZONE
BEGIN:VEVENT
DTSTART;TZID=Europe/Berlin:20251118T170000
DTEND;TZID=Europe/Berlin:20251118T183000
DTSTAMP:20260423T045929
CREATED:20241215T180938Z
LAST-MODIFIED:20260119T122215Z
UID:10023919-1763485200-1763490600@staging.hauslebenskraft.de
SUMMARY:Tanzfreude mit Gesine - ein faszienorientiertes Bewegungsangebot
DESCRIPTION:Der flow-orientierte Faszientanz zu Musik aus aller Welt ist ein Bewegungsangebot\, das fließende\, tanz-inspirierte Bewegungen mit gezielten Impulsen für das fasziale Gewebe verbindet. Mit Freude an Bewegung und spürbarer Leidenschaft für den Körper entstehen freie Bewegungsformen\, die Mobilität\, Elastizität\, Körperwahrnehmung und einen sanften Muskelaufbau fördern. \nDas Training kommt ohne feste Choreografien aus und lädt dazu ein\, sein eigenes Tempo und Intensität individuell anzupassen. Das Angebot unterstützt Ausdauer\, das Herz-Kreislauf-System sowie die Koordination und ist für Menschen unterschiedlicher Alters- und Erfahrungsstufen geeignet. \nDen Abschluss bildet eine wohltuende Dehnungs- und Entspannungsphase mit Klangspiel und Gong. Sie schafft Raum für Ruhe\, Nachspüren und Regeneration. Ich freue mich auf eine gemeinsame Bewegungszeit voller Lebensfreude\, Achtsamkeit und lebendiger Präsenz in dem wundervollen Sonnenraum im Haus Lebenskraft. \nHerzlichst Gesine \nEinzelveranstaltung: 15 €\, 6-er Karte: 72 € \nSchnupperstunde: 12 € \nAnmeldung unter: gesine.schaefer@gmx.de oder gesine@hauslebenskraft.de bis zum 05.01.2026 \nDie Teilnahme am Kurs ist nur nach persönlicher oder schriftlicher Zusage möglich. \nTel: 017651871225 \nIch freue mich auf euch. \nGesine Schaefer \nTanztrainerin\, HP nach Psych KG\, Kinesiologin\, Gestalttherapeutin\, Klangmassagepraktikerin \n  \n  \n 
URL:https://staging.hauslebenskraft.de/veranstaltung/tanzfreude-mit-gesine-ein-faszienorientiertes-bewegungsangebot/2025-11-18/
LOCATION:Haus Lebenskraft\, Gutenbergstr. 30\, Potsdam\, Brandenburg\, 14467\, Germany
CATEGORIES:Öffentlich, Sonnenraum
ORGANIZER;CN="Gesine Schaefer":MAILTO:gesine.schaefer@gmx.de
END:VEVENT
BEGIN:VEVENT
DTSTART;TZID=Europe/Berlin:20251118T173000
DTEND;TZID=Europe/Berlin:20251118T183000
DTSTAMP:20260423T045929
CREATED:20250630T152732Z
LAST-MODIFIED:20251113T144739Z
UID:10018699-1763487000-1763490600@staging.hauslebenskraft.de
SUMMARY:Feierabendflow – Yoga zum Ankommen\, Atmen & Auftanken
DESCRIPTION:Der Feierabendflow ist deine bewegte Auszeit nach einem langen Tag – ein Raum zum Ankommen\, Durchatmen und in den Körper zurückkehren. Ganz egal\, wie alt du bist\, wie beweglich du dich fühlst oder wie dein Körper aussieht – du bist herzlich willkommen. \nWir beginnen mit ruhigeren\, mobilisierenden Elementen und steigern im Verlauf des Kurses langsam die Dynamik – immer im Einklang mit dem Atem und in deinem Tempo. \nIn diesem Kurs erwarten dich: \n\nFließende Yoga-Sequenzen mit wachsendem Energielevel\nAtemübungen (Pranayama) zur Zentrierung\nEin achtsamer Raum\, frei von Leistungsdruck – mit Fokus auf Verbindung\, Stabilität und Lebendigkeit\n\nJede Einheit steht unter einem eigenen Thema\, das dich durch die Stunde begleitet – z. B. Verwurzelung\, Loslassen\, Klarheit oder Herzöffnung. Der Kurs entwickelt sich von sanft zu kraftvoll – in einem gut abgestimmten\, natürlichen Fluss. \nKosten: \n120 € für 8 Wochen \nEinzelstunde/ Drop-in: 19€ \nKontakt: \nE-Mail: info@white-lotus-yoga.de \nWebseite: www.white-lotus-yoga.de \nTelefon: 0155 – 65004894 \nLass den Tag hinter dir. Spür dich wieder & fließe kraftvoll durch deinen Abend \n 
URL:https://staging.hauslebenskraft.de/veranstaltung/res-fuer-mandy-yoga/2025-11-18/
LOCATION:Haus Lebenskraft\, Gutenbergstr. 30\, Potsdam\, Brandenburg\, 14467\, Germany
CATEGORIES:Öffentlich, Raum der Erde
ORGANIZER;CN="Mandy Wittstock":MAILTO:mandywittstock@googlemail.com
END:VEVENT
BEGIN:VEVENT
DTSTART;TZID=Europe/Berlin:20251118T190000
DTEND;TZID=Europe/Berlin:20251118T191500
DTSTAMP:20260423T045929
CREATED:20250730T115557Z
LAST-MODIFIED:20260202T132526Z
UID:10019340-1763492400-1763493300@staging.hauslebenskraft.de
SUMMARY:intern
DESCRIPTION:Vorbereitung Yoga
URL:https://staging.hauslebenskraft.de/veranstaltung/vorbereitung-yoga/2025-11-18/
LOCATION:Haus Lebenskraft\, Gutenbergstr. 30\, Potsdam\, Brandenburg\, 14467\, Germany
CATEGORIES:Intern, Sonnenraum
ORGANIZER;CN="parApara Digital GmbH":MAILTO:lena@lallaundvilas.de
END:VEVENT
BEGIN:VEVENT
DTSTART;TZID=Europe/Berlin:20251118T193000
DTEND;TZID=Europe/Berlin:20251118T210000
DTSTAMP:20260423T045929
CREATED:20250630T145643Z
LAST-MODIFIED:20260202T133332Z
UID:10019288-1763494200-1763499600@staging.hauslebenskraft.de
SUMMARY:Yogaklasse für jede/n
DESCRIPTION:In unserer wöchentlichen Yogaklasse erwartet dich eine kraftvolle und zugleich achtsame Praxis\, die auch in unsicheren Zeiten Klarheit\, Leichtigkeit und Verbindung schafft. Durch präzise\, biomechanisch fundierte Ausrichtung wird dein Körper gestärkt\, deine Beweglichkeit gefördert und dein Bewusstsein für dich selbst vertieft – ganz unabhängig von Alter\, Erfahrung oder körperlicher Verfassung. Die lebensbejahende Philosophie des Anusara® Yoga inspiriert uns dabei\, mit der richtigen Einstellung\, Ausrichtung und Aktion dem Leben bewusst zu begegnen.\nDas Lehrer*innen Team: Lalla und Vilas – Wegbereiter des Anusara Yoga im deutschsprachigen Raum – teilen ihre über 20-jährige Erfahrung mit großer Hingabe. Lena und Nora bringen als von Lalla und Vilas ausgebildete Lehrerinnen Herz\, Klarheit und Freude in die gemeinsame Praxis.\n\nhttps://www.lallaundvilas.de/ausbildungs-und-lehrgangstermine/\n***\nUnd hier die Links für die Abendklassen auf unserer Website:\n\nAnmeldung zur Abendklasse dienstags um 19:30 Uhr
URL:https://staging.hauslebenskraft.de/veranstaltung/yoga-lalla-vilas-akademie/2025-11-18/
LOCATION:Haus Lebenskraft\, Gutenbergstr. 30\, Potsdam\, Brandenburg\, 14467\, Germany
CATEGORIES:Öffentlich, Sonnenraum
ATTACH;FMTTYPE=image/jpeg:https://staging.hauslebenskraft.de/wp-content/uploads/2026/02/Lalla-Vilas-Lena-Nora-1.jpg
ORGANIZER;CN="parApara Digital GmbH":MAILTO:lena@lallaundvilas.de
END:VEVENT
BEGIN:VEVENT
DTSTART;TZID=Europe/Berlin:20251118T211500
DTEND;TZID=Europe/Berlin:20251118T213000
DTSTAMP:20260423T045929
CREATED:20250730T115751Z
LAST-MODIFIED:20260202T133358Z
UID:10019393-1763500500-1763501400@staging.hauslebenskraft.de
SUMMARY:intern
DESCRIPTION:Nachbereitung Yoga
URL:https://staging.hauslebenskraft.de/veranstaltung/nachbereitung-yoga/2025-11-18/
LOCATION:Haus Lebenskraft\, Gutenbergstr. 30\, Potsdam\, Brandenburg\, 14467\, Germany
CATEGORIES:Intern, Sonnenraum
ORGANIZER;CN="parApara Digital GmbH":MAILTO:lena@lallaundvilas.de
END:VEVENT
END:VCALENDAR