BEGIN:VCALENDAR
VERSION:2.0
PRODID:-//Haus Lebenskraft - ECPv6.15.20//NONSGML v1.0//EN
CALSCALE:GREGORIAN
METHOD:PUBLISH
X-WR-CALNAME:Haus Lebenskraft
X-ORIGINAL-URL:https://staging.hauslebenskraft.de
X-WR-CALDESC:Veranstaltungen für Haus Lebenskraft
REFRESH-INTERVAL;VALUE=DURATION:PT1H
X-Robots-Tag:noindex
X-PUBLISHED-TTL:PT1H
BEGIN:VTIMEZONE
TZID:Europe/Berlin
BEGIN:DAYLIGHT
TZOFFSETFROM:+0100
TZOFFSETTO:+0200
TZNAME:CEST
DTSTART:20240331T010000
END:DAYLIGHT
BEGIN:STANDARD
TZOFFSETFROM:+0200
TZOFFSETTO:+0100
TZNAME:CET
DTSTART:20241027T010000
END:STANDARD
BEGIN:DAYLIGHT
TZOFFSETFROM:+0100
TZOFFSETTO:+0200
TZNAME:CEST
DTSTART:20250330T010000
END:DAYLIGHT
BEGIN:STANDARD
TZOFFSETFROM:+0200
TZOFFSETTO:+0100
TZNAME:CET
DTSTART:20251026T010000
END:STANDARD
BEGIN:DAYLIGHT
TZOFFSETFROM:+0100
TZOFFSETTO:+0200
TZNAME:CEST
DTSTART:20260329T010000
END:DAYLIGHT
BEGIN:STANDARD
TZOFFSETFROM:+0200
TZOFFSETTO:+0100
TZNAME:CET
DTSTART:20261025T010000
END:STANDARD
END:VTIMEZONE
BEGIN:VEVENT
DTSTART;TZID=Europe/Berlin:20251108T090000
DTEND;TZID=Europe/Berlin:20251109T180000
DTSTAMP:20260423T045059
CREATED:20250523T111031Z
LAST-MODIFIED:20250914T150609Z
UID:10018235-1762592400-1762711200@staging.hauslebenskraft.de
SUMMARY:reserviert für Zukunftswerkstatt Susanne
DESCRIPTION:
URL:https://staging.hauslebenskraft.de/veranstaltung/reserviert-fuer-zukunftswerkstatt-susanne/
LOCATION:Haus Lebenskraft\, Gutenbergstr. 30\, Potsdam\, Brandenburg\, 14467\, Germany
CATEGORIES:Intern, Sonnenraum
ORGANIZER;CN="Susanne Kreft":MAILTO:skrefft@kessels-smit.com
END:VEVENT
END:VCALENDAR