BEGIN:VCALENDAR
VERSION:2.0
PRODID:-//Haus Lebenskraft - ECPv6.15.20//NONSGML v1.0//EN
CALSCALE:GREGORIAN
METHOD:PUBLISH
X-ORIGINAL-URL:https://staging.hauslebenskraft.de
X-WR-CALDESC:Veranstaltungen für Haus Lebenskraft
REFRESH-INTERVAL;VALUE=DURATION:PT1H
X-Robots-Tag:noindex
X-PUBLISHED-TTL:PT1H
BEGIN:VTIMEZONE
TZID:Europe/Berlin
BEGIN:DAYLIGHT
TZOFFSETFROM:+0100
TZOFFSETTO:+0200
TZNAME:CEST
DTSTART:20240331T010000
END:DAYLIGHT
BEGIN:STANDARD
TZOFFSETFROM:+0200
TZOFFSETTO:+0100
TZNAME:CET
DTSTART:20241027T010000
END:STANDARD
BEGIN:DAYLIGHT
TZOFFSETFROM:+0100
TZOFFSETTO:+0200
TZNAME:CEST
DTSTART:20250330T010000
END:DAYLIGHT
BEGIN:STANDARD
TZOFFSETFROM:+0200
TZOFFSETTO:+0100
TZNAME:CET
DTSTART:20251026T010000
END:STANDARD
BEGIN:DAYLIGHT
TZOFFSETFROM:+0100
TZOFFSETTO:+0200
TZNAME:CEST
DTSTART:20260329T010000
END:DAYLIGHT
BEGIN:STANDARD
TZOFFSETFROM:+0200
TZOFFSETTO:+0100
TZNAME:CET
DTSTART:20261025T010000
END:STANDARD
END:VTIMEZONE
BEGIN:VEVENT
DTSTART;TZID=Europe/Berlin:20250928T090000
DTEND;TZID=Europe/Berlin:20250928T163000
DTSTAMP:20260424T002814
CREATED:20250523T105924Z
LAST-MODIFIED:20250916T151803Z
UID:10020010-1759050000-1759077000@staging.hauslebenskraft.de
SUMMARY:Körper\, Gefühl\, Ausrichtung – das Glück des Anusara Yoga
DESCRIPTION:In diesem Workshop beschäftigen wir uns mit den Grundpfeilern des Anusara Yoga – als lebendige Erfahrung\, die Körper\, Atem und Herz miteinander verbindet. \nKörperbewusst\nDer Körper ist kein Hindernis\, sondern ein Tor zur Freiheit. Mit den fünf universellen Ausrichtungsprinzipien und den Loops entdecken wir\, wie Energie durch klare Ausrichtung ins Fließen kommt. Jede Haltung wird so zu einer Quelle von Kraft\, Stabilität und Leichtigkeit. \nAtembewusst\nDer Atem führt uns unmittelbar ins Jetzt. Wir üben im Kontext der inspirierenden Asanapraxis die Grundelemente der achtsamen Atmung und erste Formen von Prāṇāyāma – nicht als Kontrolle\, sondern als feines Hören. Der Atem sammelt\, weitet und bringt uns in die stille und kraftvolle Mitte. \nHerzbewusst\nIm Herzen begegnen wir uns selbst und der Welt. Hier öffnet sich der spielerische Zugang der Yogapraxis – Lila\, das göttliche Spiel. Beziehung\, Berührung und Freude werden zu Spiegeln\, in denen wir uns tiefer erkennen und völlig neu erfahren. \nSo entsteht ein Weg\, der uns von innen nach außen führt: vom klaren Spüren im Körper\, über den Atem als Brücke\, bis hin zur Offenheit im Herzen. Der Workshop gibt einen ersten Einblick in die Inhalte der Anusara-Immersion und lädt dazu ein\, den eigenen Weg mit Freude und Tiefe weiterzugehen. \n\n\nZeiten:\nFreitagabend: 17 – 20 Uhr\nSamstag: 9 – 11.30\, 12 – 14\, 15 – 17.30 Uhr\nSonntag: 9 – 11.30\, 12 – 14\, 15 – 16.30 Uhr\n\nVeranstaltungslink:\nhttps://www.lallaundvilas.de/event/koerper-gefuehl-ausrichtung-das-glueck-des-anusara-yoga/
URL:https://staging.hauslebenskraft.de/veranstaltung/reserviert-vilas/2025-09-28/
LOCATION:Haus Lebenskraft\, Gutenbergstr. 30\, Potsdam\, Brandenburg\, 14467\, Germany
CATEGORIES:Öffentlich, Sonnenraum
ORGANIZER;CN="parApara Digital GmbH":MAILTO:lena@lallaundvilas.de
END:VEVENT
BEGIN:VEVENT
DTSTART;TZID=Europe/Berlin:20250928T120000
DTEND;TZID=Europe/Berlin:20250928T140000
DTSTAMP:20260424T002814
CREATED:20250722T151052Z
LAST-MODIFIED:20250813T153338Z
UID:10019229-1759060800-1759068000@staging.hauslebenskraft.de
SUMMARY:Beziehung als Bewegung – Präsenz in alle Richtungen
DESCRIPTION:Yogaklasse am 28.09.2025\, 12.00 im Haus Lebenskraft in Potsdam \nVilas lädt dich ein\, Beziehung als weite\, durchlässige Präsenz zu erleben. Der Körper wird nicht nur nach innen gespürt\, sondern öffnet sich als lebendige Verbindung zur Welt. Jede Bewegung entsteht aus dem Atem und antwortet auf den Raum. In dieser Praxis geht es nicht um Form\, sondern um Kontakt – zwischen Innen und Außen\, zwischen Stille und Ausdruck. Du erfährst den Körper als offenes Feld\, in dem Bewusstsein geschieht. Eine Einladung zur Ausdehnung – jenseits der Grenzen.
URL:https://staging.hauslebenskraft.de/veranstaltung/beziehung-als-bewegung-praesenz-in-alle-richtungen-2/
LOCATION:Haus Lebenskraft\, Gutenbergstr. 30\, Potsdam\, Brandenburg\, 14467\, Germany
CATEGORIES:Öffentlich, Sonnenraum
ORGANIZER;CN="parApara Digital GmbH":MAILTO:lena@lallaundvilas.de
END:VEVENT
BEGIN:VEVENT
DTSTART;TZID=Europe/Berlin:20250928T160000
DTEND;TZID=Europe/Berlin:20250928T200000
DTSTAMP:20260424T002814
CREATED:20251002T114306Z
LAST-MODIFIED:20251002T114317Z
UID:10019587-1759075200-1759089600@staging.hauslebenskraft.de
SUMMARY:Nic
DESCRIPTION:
URL:https://staging.hauslebenskraft.de/veranstaltung/nic-2/
LOCATION:Haus Lebenskraft\, Gutenbergstr. 30\, Potsdam\, Brandenburg\, 14467\, Germany
CATEGORIES:Intern, Raum der Erde
END:VEVENT
END:VCALENDAR