BEGIN:VCALENDAR
VERSION:2.0
PRODID:-//Haus Lebenskraft - ECPv6.15.20//NONSGML v1.0//EN
CALSCALE:GREGORIAN
METHOD:PUBLISH
X-ORIGINAL-URL:https://staging.hauslebenskraft.de
X-WR-CALDESC:Veranstaltungen für Haus Lebenskraft
REFRESH-INTERVAL;VALUE=DURATION:PT1H
X-Robots-Tag:noindex
X-PUBLISHED-TTL:PT1H
BEGIN:VTIMEZONE
TZID:Europe/Berlin
BEGIN:DAYLIGHT
TZOFFSETFROM:+0100
TZOFFSETTO:+0200
TZNAME:CEST
DTSTART:20240331T010000
END:DAYLIGHT
BEGIN:STANDARD
TZOFFSETFROM:+0200
TZOFFSETTO:+0100
TZNAME:CET
DTSTART:20241027T010000
END:STANDARD
BEGIN:DAYLIGHT
TZOFFSETFROM:+0100
TZOFFSETTO:+0200
TZNAME:CEST
DTSTART:20250330T010000
END:DAYLIGHT
BEGIN:STANDARD
TZOFFSETFROM:+0200
TZOFFSETTO:+0100
TZNAME:CET
DTSTART:20251026T010000
END:STANDARD
BEGIN:DAYLIGHT
TZOFFSETFROM:+0100
TZOFFSETTO:+0200
TZNAME:CEST
DTSTART:20260329T010000
END:DAYLIGHT
BEGIN:STANDARD
TZOFFSETFROM:+0200
TZOFFSETTO:+0100
TZNAME:CET
DTSTART:20261025T010000
END:STANDARD
END:VTIMEZONE
BEGIN:VEVENT
DTSTART;TZID=Europe/Berlin:20250922T070000
DTEND;TZID=Europe/Berlin:20250922T100000
DTSTAMP:20260423T212242
CREATED:20240112T155041Z
LAST-MODIFIED:20260205T091421Z
UID:10017991-1758524400-1758535200@staging.hauslebenskraft.de
SUMMARY:Hausreinigung
DESCRIPTION:
URL:https://staging.hauslebenskraft.de/veranstaltung/hausreinigung/2025-09-22/
LOCATION:Haus Lebenskraft\, Gutenbergstr. 30\, Potsdam\, Brandenburg\, 14467\, Germany
CATEGORIES:Intern, Behandlungsraum,Intern, Raum der Erde,Intern, Sonnenraum,Intern, Therapieraum
END:VEVENT
BEGIN:VEVENT
DTSTART;TZID=Europe/Berlin:20250922T100000
DTEND;TZID=Europe/Berlin:20250922T113000
DTSTAMP:20260423T212243
CREATED:20250617T173304Z
LAST-MODIFIED:20260202T131344Z
UID:10016767-1758535200-1758540600@staging.hauslebenskraft.de
SUMMARY:Yoga am Vormittag
DESCRIPTION:Ab dem 20. Januar gibt es wieder einen 10-wöchigen Yogakurs für Anfänger und Fortgeschrittene \njeden Montag von 10 – 11.30 Uhr \nBeginne die Woche mit einer entspannten\, aber umfassenden Yoga-Einheit\, um deinen Körper stark und geschmeidig zu halten\, Entspannungstechniken und eine heilsame Bauchatmung in den Alltag zu integrieren und anderthalb Stunden die Seele baumeln zu lassen. \nDer Kurs geht vom 20.01. bis zum 24.03. und kostet 150 Euro. \nBei Interesse melde dich bitte bis zum 06.01. bei mir an unter \njudith.rauxloh@gmx.de\n01520 77777 48\nwww.lebenswerkstatt-potsdam.de \nJudith Rauxloh\, Yogalehrerin BYV
URL:https://staging.hauslebenskraft.de/veranstaltung/judith-5/2025-09-22/
LOCATION:Haus Lebenskraft\, Gutenbergstr. 30\, Potsdam\, Brandenburg\, 14467\, Germany
CATEGORIES:Öffentlich, Raum der Erde
ATTACH;FMTTYPE=image/jpeg:https://staging.hauslebenskraft.de/wp-content/uploads/2026/02/photo_2025-01-03_10-56-10-1.jpg
ORGANIZER;CN="Judith Rauxloh":MAILTO:judith.rauxloh@gmx.de
END:VEVENT
BEGIN:VEVENT
DTSTART;TZID=Europe/Berlin:20250922T130000
DTEND;TZID=Europe/Berlin:20250922T141500
DTSTAMP:20260423T212243
CREATED:20250912T153138Z
LAST-MODIFIED:20251110T132900Z
UID:10019616-1758546000-1758550500@staging.hauslebenskraft.de
SUMMARY:Tian Ai Qigong
DESCRIPTION:Tian Ai Qigong ist Üben in Selbstliebe und Selbstverantwortung\, für Gesundheit und innen Frieden.\nMontags ab 15.9. gibt es wieder Stilles Qigong für Herz und Bauch. \n* Himmlische Schwalbe als Bewegungsübung\n* Magen-Milz-Übung für innere Ruhe in Bauch und Herz.\n* angereichert mit Geschichten und Einsichten in das Qigong-Universum. \nKostenbeitrag\n* für neue Teilnehmer: 220€ für 8 Termine 2025\n* für Wiederholer: 20€ pro Termin\n* Zuviel? Dann lass uns telefonieren! \nMit Dank und herzlichen Grüßen \nKatrin \n0176/81324087
URL:https://staging.hauslebenskraft.de/veranstaltung/tian-ai-qigong/2025-09-22/
LOCATION:Haus Lebenskraft\, Gutenbergstr. 30\, Potsdam\, Brandenburg\, 14467\, Germany
CATEGORIES:Öffentlich, Raum der Erde
ORGANIZER;CN="Katrin M%C3%BCller":MAILTO:km-qigongseminare@posteo.de
END:VEVENT
BEGIN:VEVENT
DTSTART;TZID=Europe/Berlin:20250922T161500
DTEND;TZID=Europe/Berlin:20250922T171500
DTSTAMP:20260423T212243
CREATED:20250221T155455Z
LAST-MODIFIED:20260228T222053Z
UID:10017710-1758557700-1758561300@staging.hauslebenskraft.de
SUMMARY:Pilates mit Selina
DESCRIPTION:Beim Pilates kannst du deinen Körper neu entdecken. Die Übungen stärken sowohl deine Körpermitte als auch dein Selbstbewusstsein.\nMeine Kurse sind mehr als nur ein Workout. Du lernst dich zu spüren\, achtsam und liebevoll mit dir umzugehen.\nPilates soll einen Zugang zu deinem Körper schaffen\, wo du dich sicher fühlst und gleichzeitig mehr über dich erfährst.10 Wochenkurs: 150 EUR\nEinzelstunde: 17 EUR\nProbestunde: 15 EUR\nDieser Kurs gilt als Präventionskurs und wird von gesetzlichen Krankenkassen bezuschusst. \nAnmeldung per Mail: selinakuehlwein@gmx.de\nWebsite: www.gestalttherapie-in-potsdam.de/körperarbeit-pilates\nBei Fragen auch gerne anrufen: 0171 98 68 712\n—
URL:https://staging.hauslebenskraft.de/veranstaltung/pilates-mit-selina/2025-09-22/
LOCATION:Haus Lebenskraft\, Gutenbergstr. 30\, Potsdam\, Brandenburg\, 14467\, Germany
CATEGORIES:Öffentlich, Raum der Erde
ATTACH;FMTTYPE=image/jpeg:https://staging.hauslebenskraft.de/wp-content/uploads/2026/02/Pilatesbridge-1.jpg
END:VEVENT
BEGIN:VEVENT
DTSTART;TZID=Europe/Berlin:20250922T173000
DTEND;TZID=Europe/Berlin:20250922T183000
DTSTAMP:20260423T212243
CREATED:20250221T160221Z
LAST-MODIFIED:20260228T222206Z
UID:10017773-1758562200-1758565800@staging.hauslebenskraft.de
SUMMARY:Pilates mit Selina
DESCRIPTION:Beim Pilates kannst du deinen Körper neu entdecken. Die Übungen stärken sowohl deine Körpermitte als auch dein Selbstbewusstsein.\nMeine Kurse sind mehr als nur ein Workout. Du lernst dich zu spüren\, achtsam und liebevoll mit dir umzugehen.\nPilates soll einen Zugang zu deinem Körper schaffen\, wo du dich sicher fühlst und gleichzeitig mehr über dich erfährst.10 Wochenkurs: 150 EUR\nEinzelstunde: 17 EUR\nProbestunde: 15 EUR\nDieser Kurs gilt als Präventionskurs und wird von gesetzlichen Krankenkassen bezuschusst. \nAnmeldung per Mail: selinakuehlwein@gmx.de\nWebsite: www.gestalttherapie-in-potsdam.de/körperarbeit-pilates\nBei Fragen auch gerne anrufen: 0171 98 68 712\n—
URL:https://staging.hauslebenskraft.de/veranstaltung/pilates-mit-selina-2/2025-09-22/
LOCATION:Haus Lebenskraft\, Gutenbergstr. 30\, Potsdam\, Brandenburg\, 14467\, Germany
CATEGORIES:Öffentlich, Raum der Erde
ATTACH;FMTTYPE=image/jpeg:https://staging.hauslebenskraft.de/wp-content/uploads/2026/02/Pilatesbridge-1.jpg
END:VEVENT
BEGIN:VEVENT
DTSTART;TZID=Europe/Berlin:20250922T173000
DTEND;TZID=Europe/Berlin:20250922T183000
DTSTAMP:20260423T212243
CREATED:20250919T184020Z
LAST-MODIFIED:20250919T184113Z
UID:10020012-1758562200-1758565800@staging.hauslebenskraft.de
SUMMARY:res. für Kristina
DESCRIPTION:
URL:https://staging.hauslebenskraft.de/veranstaltung/res-fuer-kristina/2025-09-22/
LOCATION:Haus Lebenskraft\, Gutenbergstr. 30\, Potsdam\, Brandenburg\, 14467\, Germany
CATEGORIES:Intern, Therapieraum
ORGANIZER;CN="Kristina Dunaj":MAILTO:info@kristinadunaj.com
END:VEVENT
END:VCALENDAR