BEGIN:VCALENDAR
VERSION:2.0
PRODID:-//Haus Lebenskraft - ECPv6.15.20//NONSGML v1.0//EN
CALSCALE:GREGORIAN
METHOD:PUBLISH
X-ORIGINAL-URL:https://staging.hauslebenskraft.de
X-WR-CALDESC:Veranstaltungen für Haus Lebenskraft
REFRESH-INTERVAL;VALUE=DURATION:PT1H
X-Robots-Tag:noindex
X-PUBLISHED-TTL:PT1H
BEGIN:VTIMEZONE
TZID:Europe/Berlin
BEGIN:DAYLIGHT
TZOFFSETFROM:+0100
TZOFFSETTO:+0200
TZNAME:CEST
DTSTART:20240331T010000
END:DAYLIGHT
BEGIN:STANDARD
TZOFFSETFROM:+0200
TZOFFSETTO:+0100
TZNAME:CET
DTSTART:20241027T010000
END:STANDARD
BEGIN:DAYLIGHT
TZOFFSETFROM:+0100
TZOFFSETTO:+0200
TZNAME:CEST
DTSTART:20250330T010000
END:DAYLIGHT
BEGIN:STANDARD
TZOFFSETFROM:+0200
TZOFFSETTO:+0100
TZNAME:CET
DTSTART:20251026T010000
END:STANDARD
BEGIN:DAYLIGHT
TZOFFSETFROM:+0100
TZOFFSETTO:+0200
TZNAME:CEST
DTSTART:20260329T010000
END:DAYLIGHT
BEGIN:STANDARD
TZOFFSETFROM:+0200
TZOFFSETTO:+0100
TZNAME:CET
DTSTART:20261025T010000
END:STANDARD
END:VTIMEZONE
BEGIN:VEVENT
DTSTART;TZID=Europe/Berlin:20250918T083000
DTEND;TZID=Europe/Berlin:20250918T180000
DTSTAMP:20260424T015359
CREATED:20240102T154842Z
LAST-MODIFIED:20260202T134002Z
UID:10016853-1758184200-1758218400@staging.hauslebenskraft.de
SUMMARY:intern
DESCRIPTION:Judith Rauxloh Therapie
URL:https://staging.hauslebenskraft.de/veranstaltung/judith-rauxloh-therapie-3-2/2025-09-18/
LOCATION:Haus Lebenskraft\, Gutenbergstr. 30\, Potsdam\, Brandenburg\, 14467\, Germany
CATEGORIES:Intern, Therapieraum
ORGANIZER;CN="Judith Rauxloh":MAILTO:judith.rauxloh@gmx.de
END:VEVENT
BEGIN:VEVENT
DTSTART;TZID=Europe/Berlin:20250918T170000
DTEND;TZID=Europe/Berlin:20250918T181500
DTSTAMP:20260424T015359
CREATED:20250806T191519Z
LAST-MODIFIED:20251002T113101Z
UID:10019434-1758214800-1758219300@staging.hauslebenskraft.de
SUMMARY:Yoga und Tanz
DESCRIPTION:Leichtigkeit und Freude an der Bewegung und im Tanz  \nMein besonderes Angebot vereint die ruhige Kraft des Yoga mit der lebendigen Energie des Tanzes. Gemeinsam schaffen wir einen Raum\, in dem du deinen Körper auf spielerische Weise erkunden und dich selbst neu entdecken kannst. \nDurch die bewusste Verbindung mit deinem Atem (Pranayama) sowie eine Vielfalt an Yogaübungen (Asanas) in denen du deine Flexibilität\, Kraft und Stärke entwickeln kannst\, bereitest du deinen Körper\, Geist und Seele gut auf die fließenden Bewegungen des Tanzes vor. \nMelde dich gerne an\, egal\, ob du Anfänger bist oder schon Erfahrung hast und beginne deine Reise zu mehr Balance und Lebensfreude! \nIch freue mich auf dich! \nJeannette (Yogalehrerin\, Körper- und Energiearbeit) \nDonnerstags:  17 bis 18.15 Uhr \n8-Wochenkurs vom 18. September bis 6. November\, Einstieg nach Kursbeginn möglich \nNeuer Kurs ab 20. November \nHaus Lebenskraft\, Raum der Erde (Gutenbergstr. 30\, 14467 Potsdam) \nKosten: 110 EUR für 8 Wochen\, 60 EUR für 4 Wochen \nEinzelstunde(sporadisch):  17 EUR \nProbestunde: 14 EUR \nAnmeldung/Fragen: jeannettedu@web.de oder 01577 6203876
URL:https://staging.hauslebenskraft.de/veranstaltung/yoga-tanz/2025-09-18/
LOCATION:Haus Lebenskraft\, Gutenbergstr. 30\, Potsdam\, Brandenburg\, 14467\, Germany
CATEGORIES:Öffentlich, Raum der Erde
ORGANIZER;CN="Jeannette St%C3%B6lzel":MAILTO:contact@jeanne-heilimpulse.eu
END:VEVENT
BEGIN:VEVENT
DTSTART;TZID=Europe/Berlin:20250918T180000
DTEND;TZID=Europe/Berlin:20250918T191500
DTSTAMP:20260424T015359
CREATED:20250202T153457Z
LAST-MODIFIED:20260202T134108Z
UID:10015972-1758218400-1758222900@staging.hauslebenskraft.de
SUMMARY:Bauchtanz
DESCRIPTION:Bauchtanz\, eigentlich „Orientalischer Tanz“ nimmt Dich mit in eine andere Welt. Wie kaum ein anderer Tanz vereint er Weiblichkeit\, Körperbeherrschung und Tanzfreude. Als positiven Nebeneffekt verbessert er Deine Beweglichkeit\, Deine Haltung und Dein körperliches und seelisches Wohlbefinden. Die typischen Bewegungen werden stets mit viel Tanzfreude geübt und bis hin zu Choreographien miteinander kombiniert. Zusätzlich werden in manchen Stunden Elemente wie der Tanzschleier hinzugenommen. \nBauchtanz bzw. Orientalischer Tanz eignet sich für alle Frauen und Mädchen jeden Alters.\nDieser Kurs ist für Tänzerinnen mit Vorkenntnissen. Einsteigerinnen: nach Rücksprache möglich. Erste Schnupperstunde 10 €. \nKosten: 50 € monatlich \nInfo: https://www.zeyna.com \nTelefon: 0151 432 53 180
URL:https://staging.hauslebenskraft.de/veranstaltung/bauchtanz-5/2025-09-18/
LOCATION:Haus Lebenskraft\, Gutenbergstr. 30\, Potsdam\, Brandenburg\, 14467\, Germany
CATEGORIES:Öffentlich, Sonnenraum
ATTACH;FMTTYPE=image/png:https://staging.hauslebenskraft.de/wp-content/uploads/2026/02/bauchtanz_potsdam-1.png
ORGANIZER;CN="Sabine Richter":MAILTO:sabinezeyna@yahoo.de
END:VEVENT
BEGIN:VEVENT
DTSTART;TZID=Europe/Berlin:20250918T183000
DTEND;TZID=Europe/Berlin:20250918T194500
DTSTAMP:20260424T015359
CREATED:20250910T140210Z
LAST-MODIFIED:20251002T112323Z
UID:10016663-1758220200-1758224700@staging.hauslebenskraft.de
SUMMARY:Meditation
DESCRIPTION:Ich lade dich ein\, in Verbindung zu gehen\, mit deinem Herzensraum\, deiner Seele\, mit dir selbst.\n\nNach einer kurzen Bewegungssequenz kannst du dich bewusst mit deinem Atem verbinden und durch geführte Meditationen\, Seelenreisen und Klang in einen heilsamen Raum eintauchen\, in welchem du einfach nur sein und wahrnehmen darfst… deine Freude\, Lebendigkeit\, Liebe\, Geborgenheit\, Stille\, Inneren Frieden.\nIch freue mich auf dich und unser gemeinsames lichtvolles Feld.\n\nVon Herzen Jeannette \n  \nTermine: Jeden 3. Donnerstag im Monat 18.30 bis 19.45 Uhr\, 12-15 EUR  (Raum der Erde) \nEnergieausgleich: 12-15 EUR \nOrt: Haus Lebenskraft\, Gutenbergstr. 30\, 14467 Potsdam\, www.hauslebenskraft.de\nAnmeldung: jeannettedu@web.de oder 01577 6203876
URL:https://staging.hauslebenskraft.de/veranstaltung/meditation/2025-09-18/
LOCATION:Haus Lebenskraft\, Gutenbergstr. 30\, Potsdam\, Brandenburg\, 14467\, Germany
CATEGORIES:Öffentlich, Raum der Erde
ORGANIZER;CN="Jeannette St%C3%B6lzel":MAILTO:contact@jeanne-heilimpulse.eu
END:VEVENT
BEGIN:VEVENT
DTSTART;TZID=Europe/Berlin:20250918T193000
DTEND;TZID=Europe/Berlin:20250918T204500
DTSTAMP:20260424T015359
CREATED:20250912T190455Z
LAST-MODIFIED:20260202T134213Z
UID:10019730-1758223800-1758228300@staging.hauslebenskraft.de
SUMMARY:Bauchtanz
DESCRIPTION:Bauchtanz\, eigentlich „Orientalischer Tanz“ nimmt Dich mit in eine andere Welt. Wie kaum ein anderer Tanz vereint er Weiblichkeit\, Körperbeherrschung und Tanzfreude. Als positiven Nebeneffekt verbessert er Deine Beweglichkeit\, Deine Haltung und Dein körperliches und seelisches Wohlbefinden. Die typischen Bewegungen werden stets mit viel Tanzfreude geübt und bis hin zu Choreographien miteinander kombiniert. Zusätzlich werden in manchen Stunden Elemente wie der Tanzschleier hinzugenommen. \nBauchtanz bzw. Orientalischer Tanz eignet sich für alle Frauen und Mädchen jeden Alters.\nDieser Kurs ist für Tänzerinnen mit Vorkenntnissen. Einsteigerinnen: nach Rücksprache möglich. Erste Schnupperstunde 10 €. \nKosten: 50 € monatlich \nInfo: https://www.zeyna.com \nTelefon: 0151 432 53 180
URL:https://staging.hauslebenskraft.de/veranstaltung/bauchtanz-7/2025-09-18/
LOCATION:Haus Lebenskraft\, Gutenbergstr. 30\, Potsdam\, Brandenburg\, 14467\, Germany
CATEGORIES:Öffentlich, Sonnenraum
ATTACH;FMTTYPE=image/png:https://staging.hauslebenskraft.de/wp-content/uploads/2026/02/bauchtanz_potsdam-1.png
ORGANIZER;CN="Sabine Richter":MAILTO:sabinezeyna@yahoo.de
END:VEVENT
END:VCALENDAR