BEGIN:VCALENDAR
VERSION:2.0
PRODID:-//Haus Lebenskraft - ECPv6.15.20//NONSGML v1.0//EN
CALSCALE:GREGORIAN
METHOD:PUBLISH
X-ORIGINAL-URL:https://staging.hauslebenskraft.de
X-WR-CALDESC:Veranstaltungen für Haus Lebenskraft
REFRESH-INTERVAL;VALUE=DURATION:PT1H
X-Robots-Tag:noindex
X-PUBLISHED-TTL:PT1H
BEGIN:VTIMEZONE
TZID:Europe/Berlin
BEGIN:DAYLIGHT
TZOFFSETFROM:+0100
TZOFFSETTO:+0200
TZNAME:CEST
DTSTART:20240331T010000
END:DAYLIGHT
BEGIN:STANDARD
TZOFFSETFROM:+0200
TZOFFSETTO:+0100
TZNAME:CET
DTSTART:20241027T010000
END:STANDARD
BEGIN:DAYLIGHT
TZOFFSETFROM:+0100
TZOFFSETTO:+0200
TZNAME:CEST
DTSTART:20250330T010000
END:DAYLIGHT
BEGIN:STANDARD
TZOFFSETFROM:+0200
TZOFFSETTO:+0100
TZNAME:CET
DTSTART:20251026T010000
END:STANDARD
BEGIN:DAYLIGHT
TZOFFSETFROM:+0100
TZOFFSETTO:+0200
TZNAME:CEST
DTSTART:20260329T010000
END:DAYLIGHT
BEGIN:STANDARD
TZOFFSETFROM:+0200
TZOFFSETTO:+0100
TZNAME:CET
DTSTART:20261025T010000
END:STANDARD
END:VTIMEZONE
BEGIN:VEVENT
DTSTART;TZID=Europe/Berlin:20250802T080000
DTEND;TZID=Europe/Berlin:20250802T093000
DTSTAMP:20260424T045353
CREATED:20250126T152934Z
LAST-MODIFIED:20251014T145402Z
UID:10017161-1754121600-1754127000@staging.hauslebenskraft.de
SUMMARY:Yoga für Anfänger und Fortgeschrittene
DESCRIPTION:Yoga für mehr Energie\, für Anfänger und Fortgeschrittene sind sanfte Yoga-Stellungen\, verbunden mit Atemübungen und anschließender Meditation und Entspannung. Es ist ein Teil der traditionellen indischen Heilkunde\, dem Ayurveda und Teil meines Gesamtkonzeptes. \nDiese Lehre sieht einen engen Zusammenhang zwischen Körper\, Geist und Seele. Eine regelmäßige Praxis reguliert und aktiviert dein Atmungssystem\, den Stoffwechsel\, das Verdauungssystem und die hormonellen Funktionen. Auf der rein körperlichen Ebene stärkt es den Bewegungsapparat\, das Nervensystem\, hilft bei stressbedingten Störungen wie Bluthochdruck\, Magenbeschwerden und Kopfschmerzen\, fördert die Konzentrationsfähigkeit und sorgt für innere Ausgeglichenheit. \nAsanas beziehen alle Muskeln\, Bänder und Gelenke sowie die Organe mit ein. Yoga ist deshalb sehr empfehlenswert\, sowohl bei Atemwegserkrankungen\, bis zu Asthma\, als auch bei sämtlichen\, meist zivilisationsbedingten Rückenleiden. Auf der spirituellen Ebene wird es als ein ganzheitlicher\, undogmatischer Weg zum Göttlichen verstanden\, durch das Einsinken in die Meditation wird die spirituelle Entwicklung gefördert\, während Geduld\, Toleranz und Zufriedenheit wachsen. Yoga-Praktizierende entwickeln eine neue Sichtweise auf das Leben\, erweitern ihr Bewusstsein und schärfen ihre Willens- und Urteilskraft. \nDie Yogastunde beginnt mit sanften\, ruhigen Mobilisationsübungen\, gefolgt von Atemübungen und anschließenden Yogastellungen. Die Yogastunden enden mit einer Meditation und Entspannungsübungen. Yoga ist für jeden Konstitutionstyp geeignet. \nTeilnehmergebühren: 20 Euro \nEmail: info@ayurvedakunde.de \nTelefon: 01795299475
URL:https://staging.hauslebenskraft.de/veranstaltung/yoga/2025-08-02/
LOCATION:Haus Lebenskraft\, Gutenbergstr. 30\, Potsdam\, Brandenburg\, 14467\, Germany
CATEGORIES:Öffentlich, Raum der Erde
ORGANIZER;CN="Knut Kunde":MAILTO:info@ayurvedakunde.de
END:VEVENT
BEGIN:VEVENT
DTSTART;TZID=Europe/Berlin:20250802T080000
DTEND;TZID=Europe/Berlin:20250802T173000
DTSTAMP:20260424T045353
CREATED:20250612T095358Z
LAST-MODIFIED:20250701T134756Z
UID:10018266-1754121600-1754155800@staging.hauslebenskraft.de
SUMMARY:"Eintauchen" - Urban Sommer Retreat
DESCRIPTION:Nach zwei intensiven Etappen öffnen wir den dritten Teil unserer Seminarreihe nun für alle Interessierten: ein gemeinsamer Sommer-Retreat mitten in Potsdam. \nDiese 4 Tage bieten dir die Möglichkeit\, Yoga zu vertiefen und ​a​uf eine persönliche Weise zu erleben. Rückzug gelingt hier auch im ​beschaulichen Potsdam\, weil wir uns auf eine innere Reise begeben: Eine Reise zu Dir selbst\, eine Einladung\, deinen Körper\, deinen Geist und deine Yogapraxis neu zu entdecken. \nWir vermitteln dir in nur 4 Tagen eine lebensverändernde Praxis: Durch die einzigartigen biomechanischen Ausrichtungsprinzipien des Anusara Yoga lernst du deinen Körper\, schonend und sinnvoll auszurichten​\, das schenkt dir Sicherheit und mehr Stabilität im Leben. Außerdem wirst du ​fließende Energie ​erfahren und​ nicht nur auf der Yogamatte ein neues Gefühl von Leichtigkeit​ gewinnen. \nGleichzeitig tauchst du ein in die lebensbejahende Philosophie des Kaschmirischen Shivaismus\, die auch in schweren Zeiten hilfreich ist\, um das Leben mit Freude und Offenheit zu betrachten und bewusst im Moment zu leben. \nTheorie und Praxis verbinden sich\, ergänzt durch Gespräche\, Kleingruppenarbeiten\, Reflexionen und Momente der Stille. \n​Wir sind \nSeit über 20 Jahren teilt Lalla ihr tiefes Wissen und ihre unerschöpfliche Leidenschaft für Yoga als Lehrerin und Ausbilderin. An ihrer Seite steht Lena\, eine Anusara-Lehrerin der neuen Generation\, die mit viel Hingabe unterrichtet. Die Verbindung von Lallas Erfahrung und Lenas frischer\, moderner Sichtweise schafft ein besonderes Lernerlebnis\, das Tradition und Innovation vereint. \nZeiten \nDonnerstag: 12 bis 17 Uhr\nFreitag: 8 bis 14 und 15 bis 17:30 Uhr\nSamstag: 8 bis 14 und 15 bis 17:30 Uhr\nSonntag: 8 bis 12 und 13 bis 15 Uhr \nWeitere Infos und Buchung über diesen LINK
URL:https://staging.hauslebenskraft.de/veranstaltung/lalla-vilas-akademie/2025-08-02/
LOCATION:Haus Lebenskraft\, Gutenbergstr. 30\, Potsdam\, Brandenburg\, 14467\, Germany
CATEGORIES:Öffentlich, Sonnenraum
ORGANIZER;CN="parApara Digital GmbH":MAILTO:lena@lallaundvilas.de
END:VEVENT
END:VCALENDAR