BEGIN:VCALENDAR
VERSION:2.0
PRODID:-//Haus Lebenskraft - ECPv6.15.20//NONSGML v1.0//EN
CALSCALE:GREGORIAN
METHOD:PUBLISH
X-WR-CALNAME:Haus Lebenskraft
X-ORIGINAL-URL:https://staging.hauslebenskraft.de
X-WR-CALDESC:Veranstaltungen für Haus Lebenskraft
REFRESH-INTERVAL;VALUE=DURATION:PT1H
X-Robots-Tag:noindex
X-PUBLISHED-TTL:PT1H
BEGIN:VTIMEZONE
TZID:Europe/Berlin
BEGIN:DAYLIGHT
TZOFFSETFROM:+0100
TZOFFSETTO:+0200
TZNAME:CEST
DTSTART:20240331T010000
END:DAYLIGHT
BEGIN:STANDARD
TZOFFSETFROM:+0200
TZOFFSETTO:+0100
TZNAME:CET
DTSTART:20241027T010000
END:STANDARD
BEGIN:DAYLIGHT
TZOFFSETFROM:+0100
TZOFFSETTO:+0200
TZNAME:CEST
DTSTART:20250330T010000
END:DAYLIGHT
BEGIN:STANDARD
TZOFFSETFROM:+0200
TZOFFSETTO:+0100
TZNAME:CET
DTSTART:20251026T010000
END:STANDARD
BEGIN:DAYLIGHT
TZOFFSETFROM:+0100
TZOFFSETTO:+0200
TZNAME:CEST
DTSTART:20260329T010000
END:DAYLIGHT
BEGIN:STANDARD
TZOFFSETFROM:+0200
TZOFFSETTO:+0100
TZNAME:CET
DTSTART:20261025T010000
END:STANDARD
END:VTIMEZONE
BEGIN:VEVENT
DTSTART;TZID=Europe/Berlin:20250731T120000
DTEND;TZID=Europe/Berlin:20250731T170000
DTSTAMP:20260424T002030
CREATED:20250612T095358Z
LAST-MODIFIED:20250701T134756Z
UID:10018264-1753963200-1753981200@staging.hauslebenskraft.de
SUMMARY:"Eintauchen" - Urban Sommer Retreat
DESCRIPTION:Nach zwei intensiven Etappen öffnen wir den dritten Teil unserer Seminarreihe nun für alle Interessierten: ein gemeinsamer Sommer-Retreat mitten in Potsdam. \nDiese 4 Tage bieten dir die Möglichkeit\, Yoga zu vertiefen und ​a​uf eine persönliche Weise zu erleben. Rückzug gelingt hier auch im ​beschaulichen Potsdam\, weil wir uns auf eine innere Reise begeben: Eine Reise zu Dir selbst\, eine Einladung\, deinen Körper\, deinen Geist und deine Yogapraxis neu zu entdecken. \nWir vermitteln dir in nur 4 Tagen eine lebensverändernde Praxis: Durch die einzigartigen biomechanischen Ausrichtungsprinzipien des Anusara Yoga lernst du deinen Körper\, schonend und sinnvoll auszurichten​\, das schenkt dir Sicherheit und mehr Stabilität im Leben. Außerdem wirst du ​fließende Energie ​erfahren und​ nicht nur auf der Yogamatte ein neues Gefühl von Leichtigkeit​ gewinnen. \nGleichzeitig tauchst du ein in die lebensbejahende Philosophie des Kaschmirischen Shivaismus\, die auch in schweren Zeiten hilfreich ist\, um das Leben mit Freude und Offenheit zu betrachten und bewusst im Moment zu leben. \nTheorie und Praxis verbinden sich\, ergänzt durch Gespräche\, Kleingruppenarbeiten\, Reflexionen und Momente der Stille. \n​Wir sind \nSeit über 20 Jahren teilt Lalla ihr tiefes Wissen und ihre unerschöpfliche Leidenschaft für Yoga als Lehrerin und Ausbilderin. An ihrer Seite steht Lena\, eine Anusara-Lehrerin der neuen Generation\, die mit viel Hingabe unterrichtet. Die Verbindung von Lallas Erfahrung und Lenas frischer\, moderner Sichtweise schafft ein besonderes Lernerlebnis\, das Tradition und Innovation vereint. \nZeiten \nDonnerstag: 12 bis 17 Uhr\nFreitag: 8 bis 14 und 15 bis 17:30 Uhr\nSamstag: 8 bis 14 und 15 bis 17:30 Uhr\nSonntag: 8 bis 12 und 13 bis 15 Uhr \nWeitere Infos und Buchung über diesen LINK
URL:https://staging.hauslebenskraft.de/veranstaltung/lalla-vilas-akademie/2025-07-31/
LOCATION:Haus Lebenskraft\, Gutenbergstr. 30\, Potsdam\, Brandenburg\, 14467\, Germany
CATEGORIES:Öffentlich, Sonnenraum
ORGANIZER;CN="parApara Digital GmbH":MAILTO:lena@lallaundvilas.de
END:VEVENT
BEGIN:VEVENT
DTSTART;TZID=Europe/Berlin:20250731T183000
DTEND;TZID=Europe/Berlin:20250731T194500
DTSTAMP:20260424T002030
CREATED:20250716T104010Z
LAST-MODIFIED:20250716T104404Z
UID:10018955-1753986600-1753991100@staging.hauslebenskraft.de
SUMMARY:Meditation mit Jeanette
DESCRIPTION:Ich lade dich ein\, in Verbindung zu gehen\, mit deinem Herzensraum\, mit dir selbst. \nNach einer kurzen Bewegungssequenz kannst du dich bewusst mit deinem Atem verbinden und durch eine geführte Meditation und Klang in einen heilsamen Raum eintauchen\, in welchem du einfach nur sein und wahrnehmen darfst … Stille\, Inneren Frieden\, Geborgenheit\, Liebe\, Freude\, deine Lebendigkeit… \nIch freue mich auf dich und unser gemeinsames Gruppenfeld. \nVon Herzen Jeannette \nWertschätzung: 10-15 EUR \nAnmeldung: jeannettedu@web.de oder 01577 6203876
URL:https://staging.hauslebenskraft.de/veranstaltung/meditation-mit-jeanette/
LOCATION:Haus Lebenskraft\, Gutenbergstr. 30\, Potsdam\, Brandenburg\, 14467\, Germany
CATEGORIES:Öffentlich, Raum der Erde
ORGANIZER;CN="Jeannette St%C3%B6lzel":MAILTO:contact@jeanne-heilimpulse.eu
END:VEVENT
END:VCALENDAR