BEGIN:VCALENDAR
VERSION:2.0
PRODID:-//Haus Lebenskraft - ECPv6.15.20//NONSGML v1.0//EN
CALSCALE:GREGORIAN
METHOD:PUBLISH
X-WR-CALNAME:Haus Lebenskraft
X-ORIGINAL-URL:https://staging.hauslebenskraft.de
X-WR-CALDESC:Veranstaltungen für Haus Lebenskraft
REFRESH-INTERVAL;VALUE=DURATION:PT1H
X-Robots-Tag:noindex
X-PUBLISHED-TTL:PT1H
BEGIN:VTIMEZONE
TZID:Europe/Berlin
BEGIN:DAYLIGHT
TZOFFSETFROM:+0100
TZOFFSETTO:+0200
TZNAME:CEST
DTSTART:20240331T010000
END:DAYLIGHT
BEGIN:STANDARD
TZOFFSETFROM:+0200
TZOFFSETTO:+0100
TZNAME:CET
DTSTART:20241027T010000
END:STANDARD
BEGIN:DAYLIGHT
TZOFFSETFROM:+0100
TZOFFSETTO:+0200
TZNAME:CEST
DTSTART:20250330T010000
END:DAYLIGHT
BEGIN:STANDARD
TZOFFSETFROM:+0200
TZOFFSETTO:+0100
TZNAME:CET
DTSTART:20251026T010000
END:STANDARD
BEGIN:DAYLIGHT
TZOFFSETFROM:+0100
TZOFFSETTO:+0200
TZNAME:CEST
DTSTART:20260329T010000
END:DAYLIGHT
BEGIN:STANDARD
TZOFFSETFROM:+0200
TZOFFSETTO:+0100
TZNAME:CET
DTSTART:20261025T010000
END:STANDARD
END:VTIMEZONE
BEGIN:VEVENT
DTSTART;TZID=Europe/Berlin:20250713T100000
DTEND;TZID=Europe/Berlin:20250713T200000
DTSTAMP:20260424T032647
CREATED:20250704T162818Z
LAST-MODIFIED:20250704T162819Z
UID:10018252-1752400800-1752436800@staging.hauslebenskraft.de
SUMMARY:Ganzkörpermassage im Hawai’i Mana Stil
DESCRIPTION:Exklusives Angebot!\n\n\nErlebe die besondere 4-Hand-Lomi-Massage aus Hawai’i \nmit Lavenda S. Schaff und Maja Wollenberg\, ( mit zusammen 50 Jahren Erfahrung) \nGenieße eine intensive Entspannung durch die Kunst der 4-Hand-Lomi-Massage im Stil der Lomi Hawai’i Mana Körperarbeit. \nZwei Therapeut:innen\, Lavenda und Maja\, arbeiten harmonisch zusammen\, um deinen Körper mit fließenden\, sanften Bewegungen zu verwöhnen. \nInspiriert von der traditionellen Lomi Lomi Massage aus Hawai’i unterstützen hula-ähnliche Schritte die umsorgenden Massagegriffe in authentischer Weise. \nDer Wechsel von sanftem und tiefem Druck fördert ein umfassendes Loslassen von Anspannung. \nAromatische Öle und Hawaiianischer Gesang ergänzen das Erlebnis\, steigern das Wohlbefinden und fördern eine beruhigende\, gelassene Entspannung im Einklang mit Körper und Geist. \nDie Session dauert üblicherweise 1 Stunde. 90-minütige Sessions sind auch buchbar. \nAnmeldung & Informationen für dies 4 Hand Lomi Lomi Hawai’i Mana Sessions:\nMaja Weingart\nTel.: +49 163 3566303\nMehr Informationen zu Lavenda Sybille Schaff unter: www.lavenda-schaff.de \nLomi-Sessions bei jeweils entweder Maja oder Lavenda\, also mit 2 Händen\, ebenfalls möglich (60\, 90 oder 120 Minuten)
URL:https://staging.hauslebenskraft.de/veranstaltung/ganzkoerpermassage-im-hawaii-mana-stil-3/
LOCATION:Haus Lebenskraft\, Gutenbergstr. 30\, Potsdam\, Brandenburg\, 14467\, Germany
CATEGORIES:Öffentlich, Therapieraum
ORGANIZER;CN="Lavenda Sybille Schaff":MAILTO:alohalav@gmail.com
END:VEVENT
END:VCALENDAR