BEGIN:VCALENDAR
VERSION:2.0
PRODID:-//Haus Lebenskraft - ECPv6.15.20//NONSGML v1.0//EN
CALSCALE:GREGORIAN
METHOD:PUBLISH
X-WR-CALNAME:Haus Lebenskraft
X-ORIGINAL-URL:https://staging.hauslebenskraft.de
X-WR-CALDESC:Veranstaltungen für Haus Lebenskraft
REFRESH-INTERVAL;VALUE=DURATION:PT1H
X-Robots-Tag:noindex
X-PUBLISHED-TTL:PT1H
BEGIN:VTIMEZONE
TZID:Europe/Berlin
BEGIN:DAYLIGHT
TZOFFSETFROM:+0100
TZOFFSETTO:+0200
TZNAME:CEST
DTSTART:20240331T010000
END:DAYLIGHT
BEGIN:STANDARD
TZOFFSETFROM:+0200
TZOFFSETTO:+0100
TZNAME:CET
DTSTART:20241027T010000
END:STANDARD
BEGIN:DAYLIGHT
TZOFFSETFROM:+0100
TZOFFSETTO:+0200
TZNAME:CEST
DTSTART:20250330T010000
END:DAYLIGHT
BEGIN:STANDARD
TZOFFSETFROM:+0200
TZOFFSETTO:+0100
TZNAME:CET
DTSTART:20251026T010000
END:STANDARD
BEGIN:DAYLIGHT
TZOFFSETFROM:+0100
TZOFFSETTO:+0200
TZNAME:CEST
DTSTART:20260329T010000
END:DAYLIGHT
BEGIN:STANDARD
TZOFFSETFROM:+0200
TZOFFSETTO:+0100
TZNAME:CET
DTSTART:20261025T010000
END:STANDARD
END:VTIMEZONE
BEGIN:VEVENT
DTSTART;TZID=Europe/Berlin:20250711T183000
DTEND;TZID=Europe/Berlin:20250711T200000
DTSTAMP:20260425T130810
CREATED:20250704T070724Z
LAST-MODIFIED:20250805T093747Z
UID:10018243-1752258600-1752264000@staging.hauslebenskraft.de
SUMMARY:Gemeinsames Singen- Ein Abend der Liederfreude und fröhlichen Stimmen
DESCRIPTION:Erhebe deine Stimme und lass uns gemeinsam eine klangvolle Harmonie erleben. Von mitreißenden Mantras über hawaiianische Melodien bis hin zu inspirierendem Circlesinging – wir schaffen einen Klangteppich\, der unsere Herzen berührt und Freude schenkt. \nEgal ob du viel oder wenig singst\, Badewannensänger oder Opernsängerin bist – fühle dich willkommen in unserem Kreis. Komm vorbei und genieße das spontane Chorsingen in einer entspannten\, herzlichen Atmosphäre.  \nLass uns zusammen in schwingenden Harmonien die Welt besingen! \nLeitung:\nLavenda Sybille Schaff: Vokalmusikerin\, Atemcoach\, Logopädin\, Chorleiterin und engagiertes Mitglied der Circlesinging-Bewegung\, Lehrerin für Lomi Lomi Hawai’i Mana Massage und Ho’opono Pono. \nAnmeldung: Wenn möglich\, bitte anmelden unter alohalav@gmail.com oder einfach spontan vorbeikommen. \nOrt:\nHaus Lebenskraft Potsdam\, Sonnenraum \nKosten:\nSpendenvorschlag € 11 bis € 22   \nAlle sind willkommen\, die Lust und Zeit haben zu singen.\n\n‚Weitere Angebote von Lavenda Sybille Schaff aus Hamburg an diesem Wochenende\nim Haus Lebenskraft/Potsdam: \nFreu dich auf den Samstag\, mit  dem Hale Hawai’i Mana  Mini Retreat \n‚Entdecke die Kraft von Aloha und stärke Dein Mana mit Liebe: Ein Retreat zur kraftvollen Selbstermächtigung und Resilienz‘ \nund gönne dir am Sonntag eine entspannende 4 Hand  LomiLomi Massagen mit Lavenda Sybille und ihrer kompetenten Lomi Lomi Massage Kollegin Maja Diana Weingart. \nDies ist eine wunderbare Gelegenheit\, an beiden Tagen mehr Selbstliebe\, innere Stärke und Resilienz für Dich zu erobern!
URL:https://staging.hauslebenskraft.de/veranstaltung/gemeinsames-singen-mit-hawaii-inspirationen-und-circlesinging-2/2025-07-11/
LOCATION:Haus Lebenskraft\, Gutenbergstr. 30\, Potsdam\, Brandenburg\, 14467\, Germany
CATEGORIES:Öffentlich, Sonnenraum
ORGANIZER;CN="Lavenda Sybille Schaff":MAILTO:alohalav@gmail.com
END:VEVENT
END:VCALENDAR