BEGIN:VCALENDAR
VERSION:2.0
PRODID:-//Haus Lebenskraft - ECPv6.15.20//NONSGML v1.0//EN
CALSCALE:GREGORIAN
METHOD:PUBLISH
X-ORIGINAL-URL:https://staging.hauslebenskraft.de
X-WR-CALDESC:Veranstaltungen für Haus Lebenskraft
REFRESH-INTERVAL;VALUE=DURATION:PT1H
X-Robots-Tag:noindex
X-PUBLISHED-TTL:PT1H
BEGIN:VTIMEZONE
TZID:Europe/Berlin
BEGIN:DAYLIGHT
TZOFFSETFROM:+0100
TZOFFSETTO:+0200
TZNAME:CEST
DTSTART:20240331T010000
END:DAYLIGHT
BEGIN:STANDARD
TZOFFSETFROM:+0200
TZOFFSETTO:+0100
TZNAME:CET
DTSTART:20241027T010000
END:STANDARD
BEGIN:DAYLIGHT
TZOFFSETFROM:+0100
TZOFFSETTO:+0200
TZNAME:CEST
DTSTART:20250330T010000
END:DAYLIGHT
BEGIN:STANDARD
TZOFFSETFROM:+0200
TZOFFSETTO:+0100
TZNAME:CET
DTSTART:20251026T010000
END:STANDARD
BEGIN:DAYLIGHT
TZOFFSETFROM:+0100
TZOFFSETTO:+0200
TZNAME:CEST
DTSTART:20260329T010000
END:DAYLIGHT
BEGIN:STANDARD
TZOFFSETFROM:+0200
TZOFFSETTO:+0100
TZNAME:CET
DTSTART:20261025T010000
END:STANDARD
END:VTIMEZONE
BEGIN:VEVENT
DTSTART;TZID=Europe/Berlin:20250621T080000
DTEND;TZID=Europe/Berlin:20250621T093000
DTSTAMP:20260424T235705
CREATED:20250126T152934Z
LAST-MODIFIED:20251014T145402Z
UID:10017155-1750492800-1750498200@staging.hauslebenskraft.de
SUMMARY:Yoga für Anfänger und Fortgeschrittene
DESCRIPTION:Yoga für mehr Energie\, für Anfänger und Fortgeschrittene sind sanfte Yoga-Stellungen\, verbunden mit Atemübungen und anschließender Meditation und Entspannung. Es ist ein Teil der traditionellen indischen Heilkunde\, dem Ayurveda und Teil meines Gesamtkonzeptes. \nDiese Lehre sieht einen engen Zusammenhang zwischen Körper\, Geist und Seele. Eine regelmäßige Praxis reguliert und aktiviert dein Atmungssystem\, den Stoffwechsel\, das Verdauungssystem und die hormonellen Funktionen. Auf der rein körperlichen Ebene stärkt es den Bewegungsapparat\, das Nervensystem\, hilft bei stressbedingten Störungen wie Bluthochdruck\, Magenbeschwerden und Kopfschmerzen\, fördert die Konzentrationsfähigkeit und sorgt für innere Ausgeglichenheit. \nAsanas beziehen alle Muskeln\, Bänder und Gelenke sowie die Organe mit ein. Yoga ist deshalb sehr empfehlenswert\, sowohl bei Atemwegserkrankungen\, bis zu Asthma\, als auch bei sämtlichen\, meist zivilisationsbedingten Rückenleiden. Auf der spirituellen Ebene wird es als ein ganzheitlicher\, undogmatischer Weg zum Göttlichen verstanden\, durch das Einsinken in die Meditation wird die spirituelle Entwicklung gefördert\, während Geduld\, Toleranz und Zufriedenheit wachsen. Yoga-Praktizierende entwickeln eine neue Sichtweise auf das Leben\, erweitern ihr Bewusstsein und schärfen ihre Willens- und Urteilskraft. \nDie Yogastunde beginnt mit sanften\, ruhigen Mobilisationsübungen\, gefolgt von Atemübungen und anschließenden Yogastellungen. Die Yogastunden enden mit einer Meditation und Entspannungsübungen. Yoga ist für jeden Konstitutionstyp geeignet. \nTeilnehmergebühren: 20 Euro \nEmail: info@ayurvedakunde.de \nTelefon: 01795299475
URL:https://staging.hauslebenskraft.de/veranstaltung/yoga/2025-06-21/
LOCATION:Haus Lebenskraft\, Gutenbergstr. 30\, Potsdam\, Brandenburg\, 14467\, Germany
CATEGORIES:Öffentlich, Raum der Erde
ORGANIZER;CN="Knut Kunde":MAILTO:info@ayurvedakunde.de
END:VEVENT
BEGIN:VEVENT
DTSTART;TZID=Europe/Berlin:20250621T100000
DTEND;TZID=Europe/Berlin:20250621T130000
DTSTAMP:20260424T235705
CREATED:20241111T095637Z
LAST-MODIFIED:20250625T074309Z
UID:10013923-1750500000-1750510800@staging.hauslebenskraft.de
SUMMARY:HenDō Körper - Schwert - Klang\, Tages-Retreat
DESCRIPTION:ErLebst du (manchmal) SCHWANKUNGEN in deinem Leben? \nErLebst du DICH (manchmal) mehr im AUßEN als in deinem INNEREN? \nWie wäre das ErLeben in optimaler Entspannung & vollkommener Ausgeglichenheit? \nHenDō – basiert auf dem Prinzip des Ausgleichs. \nDas ErLeben deiner KörperIntelligenz (nach Karl Grunick) erInnert dich an deinen INNEREN und ÄUßEREN Ausgleich – natürlich\, einfach und klar. \nKörper\, Empfindungen und Verstand schwingen in ihrer natürliche Ordnung bzw. im EinKlang. \nHenDō öffnet Räume für Körper- und Schwertarbeit – spielerisch in Einzel- und Partnerübungen. \nDer Integration dient der Klang der abschließenden Live – Handpan – Meditation. \nFrei von Erwartungen \nFrei von Bewertungen \nPräsent im HIER und JETZT \nwebseite: \nwww.hovannesjan.com
URL:https://staging.hauslebenskraft.de/veranstaltung/hendo-2/2025-06-21/
LOCATION:Haus Lebenskraft\, Gutenbergstr. 30\, Potsdam\, Brandenburg\, 14467\, Germany
CATEGORIES:Öffentlich, Sonnenraum
ORGANIZER;CN="Henry Hovannesjan":MAILTO:h.hovannesjan@hotmail.de
END:VEVENT
BEGIN:VEVENT
DTSTART;TZID=Europe/Berlin:20250621T150000
DTEND;TZID=Europe/Berlin:20250621T190000
DTSTAMP:20260424T235705
CREATED:20250402T175739Z
LAST-MODIFIED:20250416T151418Z
UID:10017932-1750518000-1750532400@staging.hauslebenskraft.de
SUMMARY:Feuer & Flow – Kakao\, Yoga & Ritual zur Sommersonnenwende
DESCRIPTION:  \n\nDie Sommersonnenwende ist ein kraftvoller Wendepunkt – ein Fest der Fülle\, des Feuers und der Weiblichkeit. Es ist die Zeit\, in der die Natur in voller Blüte steht\, das Licht seinen Höhepunkt erreicht und wir eingeladen sind\, unsere eigene Lebenskraft zu spüren. \nIn diesem besonderen Mini-Retreat darf alles sein: das Wilde und das Sanfte\, das Feurige und das Fließende. Wir öffnen den Raum für eine herzöffnende Kakaozeremonie\, sinnliches und kraftvolles Yoga\, ein transformierendes Feuerritual und freien Tanz. Mal sanft\, mal feurig – du darfst dich in all deinen Facetten zeigen\, spüren und feiern. \nLass uns gemeinsam das Leben ehren\, loslassen\, was gehen darf\, und unser inneres Feuer entfachen. In dieser magischen Sommernacht verbinden wir uns mit unserer Weiblichkeit und mit der unbändigen Kraft des Moments. \n📅Datum: 21.06.2025 \n📍Ort: Haus Lebenskraft\, Raum Erde \n ⏳Dauer: 15-19 Uhr \n ✨ Energieausgleich: 66€ \n🌹Für Frauen\, die ihr Licht und ihre Kraft feiern wollen \nBist du bereit\, dich dem Tanz des Lebens hinzugeben? Dann sei dabei und erlebe die Magie der Sommersonnenwende! \nWir freuen uns auf dich! \nNicole & Evelin \nKontakt: info@feeling-healing.de\nTelefon: 0176-84576814\nWebseite: www.feeling-healing.de\nEnergieausgleich: 66€\nAnmeldung und Fragen an: info@feeling-healing.de oder 0176-84576814
URL:https://staging.hauslebenskraft.de/veranstaltung/feuer-flow-kakao-yoga-ritual-zur-sommersonnenwende/
LOCATION:Haus Lebenskraft\, Gutenbergstr. 30\, Potsdam\, Brandenburg\, 14467\, Germany
CATEGORIES:Öffentlich, Raum der Erde
ORGANIZER;CN="Dr. Nicole Schliebe-Ohler":MAILTO:info@feeling-healing.de
END:VEVENT
END:VCALENDAR