BEGIN:VCALENDAR
VERSION:2.0
PRODID:-//Haus Lebenskraft - ECPv6.15.20//NONSGML v1.0//EN
CALSCALE:GREGORIAN
METHOD:PUBLISH
X-ORIGINAL-URL:https://staging.hauslebenskraft.de
X-WR-CALDESC:Veranstaltungen für Haus Lebenskraft
REFRESH-INTERVAL;VALUE=DURATION:PT1H
X-Robots-Tag:noindex
X-PUBLISHED-TTL:PT1H
BEGIN:VTIMEZONE
TZID:Europe/Berlin
BEGIN:DAYLIGHT
TZOFFSETFROM:+0100
TZOFFSETTO:+0200
TZNAME:CEST
DTSTART:20240331T010000
END:DAYLIGHT
BEGIN:STANDARD
TZOFFSETFROM:+0200
TZOFFSETTO:+0100
TZNAME:CET
DTSTART:20241027T010000
END:STANDARD
BEGIN:DAYLIGHT
TZOFFSETFROM:+0100
TZOFFSETTO:+0200
TZNAME:CEST
DTSTART:20250330T010000
END:DAYLIGHT
BEGIN:STANDARD
TZOFFSETFROM:+0200
TZOFFSETTO:+0100
TZNAME:CET
DTSTART:20251026T010000
END:STANDARD
BEGIN:DAYLIGHT
TZOFFSETFROM:+0100
TZOFFSETTO:+0200
TZNAME:CEST
DTSTART:20260329T010000
END:DAYLIGHT
BEGIN:STANDARD
TZOFFSETFROM:+0200
TZOFFSETTO:+0100
TZNAME:CET
DTSTART:20261025T010000
END:STANDARD
END:VTIMEZONE
BEGIN:VEVENT
DTSTART;TZID=Europe/Berlin:20250617T121500
DTEND;TZID=Europe/Berlin:20250617T130000
DTSTAMP:20260424T145949
CREATED:20210624T111528Z
LAST-MODIFIED:20250630T095425Z
UID:10006729-1750162500-1750165200@staging.hauslebenskraft.de
SUMMARY:Lunch Break Yoga\, 45 min
DESCRIPTION:Wir werden deinem Rücken und deinen Schultern gutes Tun\, damit du dich energetisiert durch die zweite Tageshälfte bewegst. Ich kombiniere traditionelles Hatha Yoga mit Vinyasa und lasse je nach Gruppenenergie auch mal ein paar YinYoga-Positionen oder Yoga für emotionale Balance einfließen.
URL:https://staging.hauslebenskraft.de/veranstaltung/lunch-break-yoga-10er-kurs-5/2025-06-17/
LOCATION:Haus Lebenskraft\, Gutenbergstr. 30\, Potsdam\, Brandenburg\, 14467\, Germany
CATEGORIES:Öffentlich, Raum der Erde
ORGANIZER;CN="Maxi Radicke":MAILTO:spiritmagic@posteo.com
END:VEVENT
BEGIN:VEVENT
DTSTART;TZID=Europe/Berlin:20250617T163000
DTEND;TZID=Europe/Berlin:20250617T173000
DTSTAMP:20260424T145949
CREATED:20250617T090535Z
LAST-MODIFIED:20250617T090644Z
UID:10018304-1750177800-1750181400@staging.hauslebenskraft.de
SUMMARY:Elena Gesang
DESCRIPTION:
URL:https://staging.hauslebenskraft.de/veranstaltung/elena-gesang/
LOCATION:Haus Lebenskraft\, Gutenbergstr. 30\, Potsdam\, Brandenburg\, 14467\, Germany
CATEGORIES:Intern, Raum der Erde
ORGANIZER;CN="Elena Rezai":MAILTO:elena.music@web.de
END:VEVENT
BEGIN:VEVENT
DTSTART;TZID=Europe/Berlin:20250617T170000
DTEND;TZID=Europe/Berlin:20250617T183000
DTSTAMP:20260424T145949
CREATED:20241215T180938Z
LAST-MODIFIED:20260119T122215Z
UID:10023897-1750179600-1750185000@staging.hauslebenskraft.de
SUMMARY:Tanzfreude mit Gesine - ein faszienorientiertes Bewegungsangebot
DESCRIPTION:Der flow-orientierte Faszientanz zu Musik aus aller Welt ist ein Bewegungsangebot\, das fließende\, tanz-inspirierte Bewegungen mit gezielten Impulsen für das fasziale Gewebe verbindet. Mit Freude an Bewegung und spürbarer Leidenschaft für den Körper entstehen freie Bewegungsformen\, die Mobilität\, Elastizität\, Körperwahrnehmung und einen sanften Muskelaufbau fördern. \nDas Training kommt ohne feste Choreografien aus und lädt dazu ein\, sein eigenes Tempo und Intensität individuell anzupassen. Das Angebot unterstützt Ausdauer\, das Herz-Kreislauf-System sowie die Koordination und ist für Menschen unterschiedlicher Alters- und Erfahrungsstufen geeignet. \nDen Abschluss bildet eine wohltuende Dehnungs- und Entspannungsphase mit Klangspiel und Gong. Sie schafft Raum für Ruhe\, Nachspüren und Regeneration. Ich freue mich auf eine gemeinsame Bewegungszeit voller Lebensfreude\, Achtsamkeit und lebendiger Präsenz in dem wundervollen Sonnenraum im Haus Lebenskraft. \nHerzlichst Gesine \nEinzelveranstaltung: 15 €\, 6-er Karte: 72 € \nSchnupperstunde: 12 € \nAnmeldung unter: gesine.schaefer@gmx.de oder gesine@hauslebenskraft.de bis zum 05.01.2026 \nDie Teilnahme am Kurs ist nur nach persönlicher oder schriftlicher Zusage möglich. \nTel: 017651871225 \nIch freue mich auf euch. \nGesine Schaefer \nTanztrainerin\, HP nach Psych KG\, Kinesiologin\, Gestalttherapeutin\, Klangmassagepraktikerin \n  \n  \n 
URL:https://staging.hauslebenskraft.de/veranstaltung/tanzfreude-mit-gesine-ein-faszienorientiertes-bewegungsangebot/2025-06-17/
LOCATION:Haus Lebenskraft\, Gutenbergstr. 30\, Potsdam\, Brandenburg\, 14467\, Germany
CATEGORIES:Öffentlich, Sonnenraum
ORGANIZER;CN="Gesine Schaefer":MAILTO:gesine.schaefer@gmx.de
END:VEVENT
BEGIN:VEVENT
DTSTART;TZID=Europe/Berlin:20250617T190000
DTEND;TZID=Europe/Berlin:20250617T201500
DTSTAMP:20260424T145949
CREATED:20250125T153527Z
LAST-MODIFIED:20250321T203210Z
UID:10017901-1750186800-1750191300@staging.hauslebenskraft.de
SUMMARY:Bauchtanz-6 Wochen Kurs
DESCRIPTION:6 wöchiger Kurs \nBauchtanz\, eigentlich „Orientalischer Tanz“ nimmt Dich mit in eine andere Welt. Wie kaum ein anderer Tanz vereint er Weiblichkeit\, Körperbeherrschung und Tanzfreude. Als positiven Nebeneffekt verbessert er Deine Beweglichkeit\, Deine Haltung und Dein körperliches und seelisches Wohlbefinden. Die typischen Bewegungen werden stets mit viel Tanzfreude geübt und bis hin zu Choreographien miteinander kombiniert. Zusätzlich werden in manchen Stunden Elemente wie der Tanzschleier hinzugenommen. \nBauchtanz bzw. Orientalischer Tanz eignet sich für alle Frauen und Mädchen jeden Alters.\nDieser Kurs ist für Tänzerinnen mit Vorkenntnissen. Einsteigerinnen: nach Rücksprache möglich. Erste Schnupperstunde 10 €. \nKosten: 75 € pro Kurs \nmit Voranmeldung \nInfo: https://www.zeyna.com \nTelefon: 0151 432 53 180
URL:https://staging.hauslebenskraft.de/veranstaltung/bauchtanz-4-2/2025-06-17/
LOCATION:Haus Lebenskraft\, Gutenbergstr. 30\, Potsdam\, Brandenburg\, 14467\, Germany
CATEGORIES:Öffentlich, Sonnenraum
ORGANIZER;CN="Sabine Richter":MAILTO:sabinezeyna@yahoo.de
END:VEVENT
BEGIN:VEVENT
DTSTART;TZID=Europe/Berlin:20250617T190000
DTEND;TZID=Europe/Berlin:20250617T203000
DTSTAMP:20260424T145949
CREATED:20230531T091707Z
LAST-MODIFIED:20240711T191006Z
UID:10013259-1750186800-1750192200@staging.hauslebenskraft.de
SUMMARY:Hatha Yoga mit Judith
DESCRIPTION:In diesem Kurs für Anfänger und Fortgeschrittene erwarten euch  Pranayama\, Asanas der Rishikeshreihe mit neuen\, dynamischen Varianten und Techniken der Tiefenentspannung. Gemeinsam entwickeln wir unsere körperliche und geistige Balance\, Flexibilität und Kraft\, bis wir immer dauerhafter das grenzenlose Wohlgefühl erfahren\, bewusst im eigenen Körper zu sein\, ihn zu spüren und immer tiefer zu schätzen. \nWer sich für einen ganzen Kurs einschreiben möchte\, zahlt 15 Euro die Stunde\, eine spontane Einzelstunde kostet 19 Euro. \nFür eine Anmeldung oder weitere Fragen wendet Euch bitte an mich unter\n01520 77777 48 oder judith.rauxloh@gmx.de \nJudith\, Yogalehrerin\, BYV
URL:https://staging.hauslebenskraft.de/veranstaltung/hatha-yoga-mit-judith-4-2/2025-06-17/
LOCATION:Haus Lebenskraft\, Gutenbergstr. 30\, Potsdam\, Brandenburg\, 14467\, Germany
CATEGORIES:Öffentlich, Raum der Erde
ORGANIZER;CN="Judith Rauxloh":MAILTO:judith.rauxloh@gmx.de
END:VEVENT
END:VCALENDAR