BEGIN:VCALENDAR
VERSION:2.0
PRODID:-//Haus Lebenskraft - ECPv6.15.20//NONSGML v1.0//EN
CALSCALE:GREGORIAN
METHOD:PUBLISH
X-WR-CALNAME:Haus Lebenskraft
X-ORIGINAL-URL:https://staging.hauslebenskraft.de
X-WR-CALDESC:Veranstaltungen für Haus Lebenskraft
REFRESH-INTERVAL;VALUE=DURATION:PT1H
X-Robots-Tag:noindex
X-PUBLISHED-TTL:PT1H
BEGIN:VTIMEZONE
TZID:Europe/Berlin
BEGIN:DAYLIGHT
TZOFFSETFROM:+0100
TZOFFSETTO:+0200
TZNAME:CEST
DTSTART:20240331T010000
END:DAYLIGHT
BEGIN:STANDARD
TZOFFSETFROM:+0200
TZOFFSETTO:+0100
TZNAME:CET
DTSTART:20241027T010000
END:STANDARD
BEGIN:DAYLIGHT
TZOFFSETFROM:+0100
TZOFFSETTO:+0200
TZNAME:CEST
DTSTART:20250330T010000
END:DAYLIGHT
BEGIN:STANDARD
TZOFFSETFROM:+0200
TZOFFSETTO:+0100
TZNAME:CET
DTSTART:20251026T010000
END:STANDARD
BEGIN:DAYLIGHT
TZOFFSETFROM:+0100
TZOFFSETTO:+0200
TZNAME:CEST
DTSTART:20260329T010000
END:DAYLIGHT
BEGIN:STANDARD
TZOFFSETFROM:+0200
TZOFFSETTO:+0100
TZNAME:CET
DTSTART:20261025T010000
END:STANDARD
END:VTIMEZONE
BEGIN:VEVENT
DTSTART;TZID=Europe/Berlin:20250614T100000
DTEND;TZID=Europe/Berlin:20250615T180000
DTSTAMP:20260425T034834
CREATED:20240325T161038Z
LAST-MODIFIED:20250515T085426Z
UID:10012551-1749895200-1750010400@staging.hauslebenskraft.de
SUMMARY:Ausbildung Psychotherapeuten
DESCRIPTION:
URL:https://staging.hauslebenskraft.de/veranstaltung/ausbildung-psychotherapeuten-16/
LOCATION:Haus Lebenskraft\, Gutenbergstr. 30\, Potsdam\, Brandenburg\, 14467\, Germany
CATEGORIES:Intern, Sonnenraum
ORGANIZER;CN="Tashina von Koenigsmarck":MAILTO:tashinavk@googlemail.com
END:VEVENT
BEGIN:VEVENT
DTSTART;TZID=Europe/Berlin:20250615T110000
DTEND;TZID=Europe/Berlin:20250615T140000
DTSTAMP:20260425T034834
CREATED:20250519T154008Z
LAST-MODIFIED:20250520T180357Z
UID:10018226-1749985200-1749996000@staging.hauslebenskraft.de
SUMMARY:Detox - Yoga Entgiftung und Entschlackung
DESCRIPTION:  \nIn diesem Workshop stellen wir die entgiftende Wirkung des Yoga in den Vordergrund. Detox Yoga unterstützt deinen Verdauungsapparat und optimiert die Durchblutung der Entgiftungsorgane\, so dass Schad- und Schlackenstoffe besser abgebaut und über einen frisch angeregten Fluss im Lymphsystem abtransportiert werden können.\nDie Asanas helfen aber auch\, geistig Altes loszulassen und frische Energie in unser Denken und Fühlen zu bringen.\nZusätzlich gibt es einige Tipps und Informationen darüber\, wie Yogis im Alltag und speziell bei der Ernährung auf ihre Entgiftung achten. \nWenn du Lust hast auf eine körperlich und geistige Tiefenreinigung für den Sommer\, mach gerne mit \nam Sonntag\, dem 15.6.\nvon 11 – 14 Uhr\n14469 Potsdam\nDie Teilnahme kostet 60 Euro \nBei Interesse melde dich gerne unter\njudith.rauxloh@gmx.de\n01520 7777748\nwww. lebenswerkstatt-potsdam.de \nIch freue mich auf dich \nJudith Rauxloh\, Yogalehrerin BYV
URL:https://staging.hauslebenskraft.de/veranstaltung/yoga-workshop-3/
LOCATION:Haus Lebenskraft\, Gutenbergstr. 30\, Potsdam\, Brandenburg\, 14467\, Germany
CATEGORIES:Öffentlich, Raum der Erde
ORGANIZER;CN="Judith Rauxloh":MAILTO:judith.rauxloh@gmx.de
END:VEVENT
END:VCALENDAR